BEGIN:VCALENDAR
VERSION:2.0
PRODID:-//AV8MAPS.COM - ECPv6.15.20//NONSGML v1.0//EN
CALSCALE:GREGORIAN
METHOD:PUBLISH
X-WR-CALNAME:AV8MAPS.COM
X-ORIGINAL-URL:https://av8maps.com
X-WR-CALDESC:Events for AV8MAPS.COM
REFRESH-INTERVAL;VALUE=DURATION:PT1H
X-Robots-Tag:noindex
X-PUBLISHED-TTL:PT1H
BEGIN:VTIMEZONE
TZID:America/New_York
BEGIN:DAYLIGHT
TZOFFSETFROM:-0500
TZOFFSETTO:-0400
TZNAME:EDT
DTSTART:20250309T070000
END:DAYLIGHT
BEGIN:STANDARD
TZOFFSETFROM:-0400
TZOFFSETTO:-0500
TZNAME:EST
DTSTART:20251102T060000
END:STANDARD
BEGIN:DAYLIGHT
TZOFFSETFROM:-0500
TZOFFSETTO:-0400
TZNAME:EDT
DTSTART:20260308T070000
END:DAYLIGHT
BEGIN:STANDARD
TZOFFSETFROM:-0400
TZOFFSETTO:-0500
TZNAME:EST
DTSTART:20261101T060000
END:STANDARD
BEGIN:DAYLIGHT
TZOFFSETFROM:-0500
TZOFFSETTO:-0400
TZNAME:EDT
DTSTART:20270314T070000
END:DAYLIGHT
BEGIN:STANDARD
TZOFFSETFROM:-0400
TZOFFSETTO:-0500
TZNAME:EST
DTSTART:20271107T060000
END:STANDARD
BEGIN:DAYLIGHT
TZOFFSETFROM:-0500
TZOFFSETTO:-0400
TZNAME:EDT
DTSTART:20280312T070000
END:DAYLIGHT
BEGIN:STANDARD
TZOFFSETFROM:-0400
TZOFFSETTO:-0500
TZNAME:EST
DTSTART:20281105T060000
END:STANDARD
BEGIN:DAYLIGHT
TZOFFSETFROM:-0500
TZOFFSETTO:-0400
TZNAME:EDT
DTSTART:20290311T070000
END:DAYLIGHT
BEGIN:STANDARD
TZOFFSETFROM:-0400
TZOFFSETTO:-0500
TZNAME:EST
DTSTART:20291104T060000
END:STANDARD
BEGIN:DAYLIGHT
TZOFFSETFROM:-0500
TZOFFSETTO:-0400
TZNAME:EDT
DTSTART:20300310T070000
END:DAYLIGHT
BEGIN:STANDARD
TZOFFSETFROM:-0400
TZOFFSETTO:-0500
TZNAME:EST
DTSTART:20301103T060000
END:STANDARD
BEGIN:DAYLIGHT
TZOFFSETFROM:-0500
TZOFFSETTO:-0400
TZNAME:EDT
DTSTART:20310309T070000
END:DAYLIGHT
BEGIN:STANDARD
TZOFFSETFROM:-0400
TZOFFSETTO:-0500
TZNAME:EST
DTSTART:20311102T060000
END:STANDARD
END:VTIMEZONE
BEGIN:VEVENT
DTSTART;TZID=America/New_York:20260712T080000
DTEND;TZID=America/New_York:20260712T120000
DTSTAMP:20260423T063644
CREATED:20250604T235621Z
LAST-MODIFIED:20251031T200005Z
UID:10001796-1783843200-1783857600@av8maps.com
SUMMARY:Annual Iosco County Airport Fly-in (6D9)
DESCRIPTION:I promise that our annual fly-in won’t disappoint you. Of course\, the weather will have to cooperate as it’s rain or shine.\n\n\nWe have received FAA approval as well as approval from the Pentagon Events Coordinator for a flyover of an A-10 Warthog.\n\n\nWe will also have “Hairless Joe”\, a WWII C-47 transport plane\, which will offer rides during the event. It will carry 12 passengers at a time. We will have on-line booking and pricing as soon as it becomes available.
URL:https://av8maps.com/event/63rd-annual-iosco-county-airport-fly-in-6d9/2026-07-12/
LOCATION:Iosco County Airport\, 1131 Aulerich Rd\, East Tawas\, MI 48730
ATTACH;FMTTYPE=image/jpeg:https://av8maps.com/wp-content/uploads/2025/06/Iosco-County-Airport-e1749081370348.jpg
GEO:44.3121627;-83.4223286
X-APPLE-STRUCTURED-LOCATION;VALUE=URI;X-ADDRESS=Iosco County Airport 1131 Aulerich Rd East Tawas MI 48730;X-APPLE-RADIUS=500;X-TITLE=1131 Aulerich Rd\, East Tawas\, MI 48730:geo:-83.4223286,44.3121627
END:VEVENT
BEGIN:VEVENT
DTSTART;TZID=America/New_York:20270711T080000
DTEND;TZID=America/New_York:20270711T120000
DTSTAMP:20260423T063644
CREATED:20250604T235621Z
LAST-MODIFIED:20251031T200005Z
UID:10001797-1815292800-1815307200@av8maps.com
SUMMARY:Annual Iosco County Airport Fly-in (6D9)
DESCRIPTION:I promise that our annual fly-in won’t disappoint you. Of course\, the weather will have to cooperate as it’s rain or shine.\n\n\nWe have received FAA approval as well as approval from the Pentagon Events Coordinator for a flyover of an A-10 Warthog.\n\n\nWe will also have “Hairless Joe”\, a WWII C-47 transport plane\, which will offer rides during the event. It will carry 12 passengers at a time. We will have on-line booking and pricing as soon as it becomes available.
URL:https://av8maps.com/event/63rd-annual-iosco-county-airport-fly-in-6d9/2027-07-11/
LOCATION:Iosco County Airport\, 1131 Aulerich Rd\, East Tawas\, MI 48730
ATTACH;FMTTYPE=image/jpeg:https://av8maps.com/wp-content/uploads/2025/06/Iosco-County-Airport-e1749081370348.jpg
GEO:44.3121627;-83.4223286
X-APPLE-STRUCTURED-LOCATION;VALUE=URI;X-ADDRESS=Iosco County Airport 1131 Aulerich Rd East Tawas MI 48730;X-APPLE-RADIUS=500;X-TITLE=1131 Aulerich Rd\, East Tawas\, MI 48730:geo:-83.4223286,44.3121627
END:VEVENT
BEGIN:VEVENT
DTSTART;TZID=America/New_York:20280709T080000
DTEND;TZID=America/New_York:20280709T120000
DTSTAMP:20260423T063644
CREATED:20250604T235621Z
LAST-MODIFIED:20251031T200005Z
UID:10001798-1846742400-1846756800@av8maps.com
SUMMARY:Annual Iosco County Airport Fly-in (6D9)
DESCRIPTION:I promise that our annual fly-in won’t disappoint you. Of course\, the weather will have to cooperate as it’s rain or shine.\n\n\nWe have received FAA approval as well as approval from the Pentagon Events Coordinator for a flyover of an A-10 Warthog.\n\n\nWe will also have “Hairless Joe”\, a WWII C-47 transport plane\, which will offer rides during the event. It will carry 12 passengers at a time. We will have on-line booking and pricing as soon as it becomes available.
URL:https://av8maps.com/event/63rd-annual-iosco-county-airport-fly-in-6d9/2028-07-09/
LOCATION:Iosco County Airport\, 1131 Aulerich Rd\, East Tawas\, MI 48730
ATTACH;FMTTYPE=image/jpeg:https://av8maps.com/wp-content/uploads/2025/06/Iosco-County-Airport-e1749081370348.jpg
GEO:44.3121627;-83.4223286
X-APPLE-STRUCTURED-LOCATION;VALUE=URI;X-ADDRESS=Iosco County Airport 1131 Aulerich Rd East Tawas MI 48730;X-APPLE-RADIUS=500;X-TITLE=1131 Aulerich Rd\, East Tawas\, MI 48730:geo:-83.4223286,44.3121627
END:VEVENT
BEGIN:VEVENT
DTSTART;TZID=America/New_York:20290708T080000
DTEND;TZID=America/New_York:20290708T120000
DTSTAMP:20260423T063644
CREATED:20250604T235621Z
LAST-MODIFIED:20251031T200005Z
UID:10001799-1878192000-1878206400@av8maps.com
SUMMARY:Annual Iosco County Airport Fly-in (6D9)
DESCRIPTION:I promise that our annual fly-in won’t disappoint you. Of course\, the weather will have to cooperate as it’s rain or shine.\n\n\nWe have received FAA approval as well as approval from the Pentagon Events Coordinator for a flyover of an A-10 Warthog.\n\n\nWe will also have “Hairless Joe”\, a WWII C-47 transport plane\, which will offer rides during the event. It will carry 12 passengers at a time. We will have on-line booking and pricing as soon as it becomes available.
URL:https://av8maps.com/event/63rd-annual-iosco-county-airport-fly-in-6d9/2029-07-08/
LOCATION:Iosco County Airport\, 1131 Aulerich Rd\, East Tawas\, MI 48730
ATTACH;FMTTYPE=image/jpeg:https://av8maps.com/wp-content/uploads/2025/06/Iosco-County-Airport-e1749081370348.jpg
GEO:44.3121627;-83.4223286
X-APPLE-STRUCTURED-LOCATION;VALUE=URI;X-ADDRESS=Iosco County Airport 1131 Aulerich Rd East Tawas MI 48730;X-APPLE-RADIUS=500;X-TITLE=1131 Aulerich Rd\, East Tawas\, MI 48730:geo:-83.4223286,44.3121627
END:VEVENT
BEGIN:VEVENT
DTSTART;TZID=America/New_York:20300714T080000
DTEND;TZID=America/New_York:20300714T120000
DTSTAMP:20260423T063644
CREATED:20250604T235621Z
LAST-MODIFIED:20251031T200005Z
UID:10001800-1910246400-1910260800@av8maps.com
SUMMARY:Annual Iosco County Airport Fly-in (6D9)
DESCRIPTION:I promise that our annual fly-in won’t disappoint you. Of course\, the weather will have to cooperate as it’s rain or shine.\n\n\nWe have received FAA approval as well as approval from the Pentagon Events Coordinator for a flyover of an A-10 Warthog.\n\n\nWe will also have “Hairless Joe”\, a WWII C-47 transport plane\, which will offer rides during the event. It will carry 12 passengers at a time. We will have on-line booking and pricing as soon as it becomes available.
URL:https://av8maps.com/event/63rd-annual-iosco-county-airport-fly-in-6d9/2030-07-14/
LOCATION:Iosco County Airport\, 1131 Aulerich Rd\, East Tawas\, MI 48730
ATTACH;FMTTYPE=image/jpeg:https://av8maps.com/wp-content/uploads/2025/06/Iosco-County-Airport-e1749081370348.jpg
GEO:44.3121627;-83.4223286
X-APPLE-STRUCTURED-LOCATION;VALUE=URI;X-ADDRESS=Iosco County Airport 1131 Aulerich Rd East Tawas MI 48730;X-APPLE-RADIUS=500;X-TITLE=1131 Aulerich Rd\, East Tawas\, MI 48730:geo:-83.4223286,44.3121627
END:VEVENT
END:VCALENDAR