BEGIN:VCALENDAR
VERSION:2.0
PRODID:-//AV8MAPS.COM - ECPv6.15.20//NONSGML v1.0//EN
CALSCALE:GREGORIAN
METHOD:PUBLISH
X-WR-CALNAME:AV8MAPS.COM
X-ORIGINAL-URL:https://av8maps.com
X-WR-CALDESC:Events for AV8MAPS.COM
REFRESH-INTERVAL;VALUE=DURATION:PT1H
X-Robots-Tag:noindex
X-PUBLISHED-TTL:PT1H
BEGIN:VTIMEZONE
TZID:America/New_York
BEGIN:DAYLIGHT
TZOFFSETFROM:-0500
TZOFFSETTO:-0400
TZNAME:EDT
DTSTART:20250309T070000
END:DAYLIGHT
BEGIN:STANDARD
TZOFFSETFROM:-0400
TZOFFSETTO:-0500
TZNAME:EST
DTSTART:20251102T060000
END:STANDARD
BEGIN:DAYLIGHT
TZOFFSETFROM:-0500
TZOFFSETTO:-0400
TZNAME:EDT
DTSTART:20260308T070000
END:DAYLIGHT
BEGIN:STANDARD
TZOFFSETFROM:-0400
TZOFFSETTO:-0500
TZNAME:EST
DTSTART:20261101T060000
END:STANDARD
BEGIN:DAYLIGHT
TZOFFSETFROM:-0500
TZOFFSETTO:-0400
TZNAME:EDT
DTSTART:20270314T070000
END:DAYLIGHT
BEGIN:STANDARD
TZOFFSETFROM:-0400
TZOFFSETTO:-0500
TZNAME:EST
DTSTART:20271107T060000
END:STANDARD
BEGIN:DAYLIGHT
TZOFFSETFROM:-0500
TZOFFSETTO:-0400
TZNAME:EDT
DTSTART:20280312T070000
END:DAYLIGHT
BEGIN:STANDARD
TZOFFSETFROM:-0400
TZOFFSETTO:-0500
TZNAME:EST
DTSTART:20281105T060000
END:STANDARD
BEGIN:DAYLIGHT
TZOFFSETFROM:-0500
TZOFFSETTO:-0400
TZNAME:EDT
DTSTART:20290311T070000
END:DAYLIGHT
BEGIN:STANDARD
TZOFFSETFROM:-0400
TZOFFSETTO:-0500
TZNAME:EST
DTSTART:20291104T060000
END:STANDARD
BEGIN:DAYLIGHT
TZOFFSETFROM:-0500
TZOFFSETTO:-0400
TZNAME:EDT
DTSTART:20300310T070000
END:DAYLIGHT
BEGIN:STANDARD
TZOFFSETFROM:-0400
TZOFFSETTO:-0500
TZNAME:EST
DTSTART:20301103T060000
END:STANDARD
BEGIN:DAYLIGHT
TZOFFSETFROM:-0500
TZOFFSETTO:-0400
TZNAME:EDT
DTSTART:20310309T070000
END:DAYLIGHT
BEGIN:STANDARD
TZOFFSETFROM:-0400
TZOFFSETTO:-0500
TZNAME:EST
DTSTART:20311102T060000
END:STANDARD
END:VTIMEZONE
BEGIN:VEVENT
DTSTART;TZID=America/New_York:20260620T080000
DTEND;TZID=America/New_York:20260620T120000
DTSTAMP:20260424T072820
CREATED:20250608T181040Z
LAST-MODIFIED:20251031T200212Z
UID:10001806-1781942400-1781956800@av8maps.com
SUMMARY:Wings and Wheels over Wadena (KADC)
DESCRIPTION:Annual Wings and Wheels Over Wadena coming back Saturday June 21st to the Wadena Airport!\n\n\nPancake Breakfast served by the Wadena Wadena Area Chamber of Commerce!\n\n\nCar Show!\n\n\nFree Prizes for all kids!\n\n\nRaffle with Grand Prize of $1000 Cash\n\n\nAirplane Rides (weather permitting)\n\n\nSO Much More!\n\n\nPlan to bring the whole family before heading to the fair that day!
URL:https://av8maps.com/event/wings-and-wheels-over-wadena-kadc/2026-06-20/
LOCATION:Wadena Airport\, 33512 Co Hwy 77\, Wadena\, MN 56482
ATTACH;FMTTYPE=image/jpeg:https://av8maps.com/wp-content/uploads/2025/06/Wings-and-wheels-over-Wadena-e1749406179582.jpg
GEO:46.4486527;-95.2108902
X-APPLE-STRUCTURED-LOCATION;VALUE=URI;X-ADDRESS=Wadena Airport 33512 Co Hwy 77 Wadena MN 56482;X-APPLE-RADIUS=500;X-TITLE=33512 Co Hwy 77\, Wadena\, MN 56482:geo:-95.2108902,46.4486527
END:VEVENT
BEGIN:VEVENT
DTSTART;TZID=America/New_York:20270619T080000
DTEND;TZID=America/New_York:20270619T120000
DTSTAMP:20260424T072820
CREATED:20250608T181040Z
LAST-MODIFIED:20251031T200212Z
UID:10001807-1813392000-1813406400@av8maps.com
SUMMARY:Wings and Wheels over Wadena (KADC)
DESCRIPTION:Annual Wings and Wheels Over Wadena coming back Saturday June 21st to the Wadena Airport!\n\n\nPancake Breakfast served by the Wadena Wadena Area Chamber of Commerce!\n\n\nCar Show!\n\n\nFree Prizes for all kids!\n\n\nRaffle with Grand Prize of $1000 Cash\n\n\nAirplane Rides (weather permitting)\n\n\nSO Much More!\n\n\nPlan to bring the whole family before heading to the fair that day!
URL:https://av8maps.com/event/wings-and-wheels-over-wadena-kadc/2027-06-19/
LOCATION:Wadena Airport\, 33512 Co Hwy 77\, Wadena\, MN 56482
ATTACH;FMTTYPE=image/jpeg:https://av8maps.com/wp-content/uploads/2025/06/Wings-and-wheels-over-Wadena-e1749406179582.jpg
GEO:46.4486527;-95.2108902
X-APPLE-STRUCTURED-LOCATION;VALUE=URI;X-ADDRESS=Wadena Airport 33512 Co Hwy 77 Wadena MN 56482;X-APPLE-RADIUS=500;X-TITLE=33512 Co Hwy 77\, Wadena\, MN 56482:geo:-95.2108902,46.4486527
END:VEVENT
BEGIN:VEVENT
DTSTART;TZID=America/New_York:20280617T080000
DTEND;TZID=America/New_York:20280617T120000
DTSTAMP:20260424T072820
CREATED:20250608T181040Z
LAST-MODIFIED:20251031T200212Z
UID:10001808-1844841600-1844856000@av8maps.com
SUMMARY:Wings and Wheels over Wadena (KADC)
DESCRIPTION:Annual Wings and Wheels Over Wadena coming back Saturday June 21st to the Wadena Airport!\n\n\nPancake Breakfast served by the Wadena Wadena Area Chamber of Commerce!\n\n\nCar Show!\n\n\nFree Prizes for all kids!\n\n\nRaffle with Grand Prize of $1000 Cash\n\n\nAirplane Rides (weather permitting)\n\n\nSO Much More!\n\n\nPlan to bring the whole family before heading to the fair that day!
URL:https://av8maps.com/event/wings-and-wheels-over-wadena-kadc/2028-06-17/
LOCATION:Wadena Airport\, 33512 Co Hwy 77\, Wadena\, MN 56482
ATTACH;FMTTYPE=image/jpeg:https://av8maps.com/wp-content/uploads/2025/06/Wings-and-wheels-over-Wadena-e1749406179582.jpg
GEO:46.4486527;-95.2108902
X-APPLE-STRUCTURED-LOCATION;VALUE=URI;X-ADDRESS=Wadena Airport 33512 Co Hwy 77 Wadena MN 56482;X-APPLE-RADIUS=500;X-TITLE=33512 Co Hwy 77\, Wadena\, MN 56482:geo:-95.2108902,46.4486527
END:VEVENT
BEGIN:VEVENT
DTSTART;TZID=America/New_York:20290616T080000
DTEND;TZID=America/New_York:20290616T120000
DTSTAMP:20260424T072820
CREATED:20250608T181040Z
LAST-MODIFIED:20251031T200212Z
UID:10001809-1876291200-1876305600@av8maps.com
SUMMARY:Wings and Wheels over Wadena (KADC)
DESCRIPTION:Annual Wings and Wheels Over Wadena coming back Saturday June 21st to the Wadena Airport!\n\n\nPancake Breakfast served by the Wadena Wadena Area Chamber of Commerce!\n\n\nCar Show!\n\n\nFree Prizes for all kids!\n\n\nRaffle with Grand Prize of $1000 Cash\n\n\nAirplane Rides (weather permitting)\n\n\nSO Much More!\n\n\nPlan to bring the whole family before heading to the fair that day!
URL:https://av8maps.com/event/wings-and-wheels-over-wadena-kadc/2029-06-16/
LOCATION:Wadena Airport\, 33512 Co Hwy 77\, Wadena\, MN 56482
ATTACH;FMTTYPE=image/jpeg:https://av8maps.com/wp-content/uploads/2025/06/Wings-and-wheels-over-Wadena-e1749406179582.jpg
GEO:46.4486527;-95.2108902
X-APPLE-STRUCTURED-LOCATION;VALUE=URI;X-ADDRESS=Wadena Airport 33512 Co Hwy 77 Wadena MN 56482;X-APPLE-RADIUS=500;X-TITLE=33512 Co Hwy 77\, Wadena\, MN 56482:geo:-95.2108902,46.4486527
END:VEVENT
BEGIN:VEVENT
DTSTART;TZID=America/New_York:20300615T080000
DTEND;TZID=America/New_York:20300615T120000
DTSTAMP:20260424T072820
CREATED:20250608T181040Z
LAST-MODIFIED:20251031T200212Z
UID:10001810-1907740800-1907755200@av8maps.com
SUMMARY:Wings and Wheels over Wadena (KADC)
DESCRIPTION:Annual Wings and Wheels Over Wadena coming back Saturday June 21st to the Wadena Airport!\n\n\nPancake Breakfast served by the Wadena Wadena Area Chamber of Commerce!\n\n\nCar Show!\n\n\nFree Prizes for all kids!\n\n\nRaffle with Grand Prize of $1000 Cash\n\n\nAirplane Rides (weather permitting)\n\n\nSO Much More!\n\n\nPlan to bring the whole family before heading to the fair that day!
URL:https://av8maps.com/event/wings-and-wheels-over-wadena-kadc/2030-06-15/
LOCATION:Wadena Airport\, 33512 Co Hwy 77\, Wadena\, MN 56482
ATTACH;FMTTYPE=image/jpeg:https://av8maps.com/wp-content/uploads/2025/06/Wings-and-wheels-over-Wadena-e1749406179582.jpg
GEO:46.4486527;-95.2108902
X-APPLE-STRUCTURED-LOCATION;VALUE=URI;X-ADDRESS=Wadena Airport 33512 Co Hwy 77 Wadena MN 56482;X-APPLE-RADIUS=500;X-TITLE=33512 Co Hwy 77\, Wadena\, MN 56482:geo:-95.2108902,46.4486527
END:VEVENT
END:VCALENDAR