BEGIN:VCALENDAR
VERSION:2.0
PRODID:-//AV8MAPS.COM - ECPv6.15.20//NONSGML v1.0//EN
CALSCALE:GREGORIAN
METHOD:PUBLISH
X-WR-CALNAME:AV8MAPS.COM
X-ORIGINAL-URL:https://av8maps.com
X-WR-CALDESC:Events for AV8MAPS.COM
REFRESH-INTERVAL;VALUE=DURATION:PT1H
X-Robots-Tag:noindex
X-PUBLISHED-TTL:PT1H
BEGIN:VTIMEZONE
TZID:America/New_York
BEGIN:DAYLIGHT
TZOFFSETFROM:-0500
TZOFFSETTO:-0400
TZNAME:EDT
DTSTART:20250309T070000
END:DAYLIGHT
BEGIN:STANDARD
TZOFFSETFROM:-0400
TZOFFSETTO:-0500
TZNAME:EST
DTSTART:20251102T060000
END:STANDARD
BEGIN:DAYLIGHT
TZOFFSETFROM:-0500
TZOFFSETTO:-0400
TZNAME:EDT
DTSTART:20260308T070000
END:DAYLIGHT
BEGIN:STANDARD
TZOFFSETFROM:-0400
TZOFFSETTO:-0500
TZNAME:EST
DTSTART:20261101T060000
END:STANDARD
BEGIN:DAYLIGHT
TZOFFSETFROM:-0500
TZOFFSETTO:-0400
TZNAME:EDT
DTSTART:20270314T070000
END:DAYLIGHT
BEGIN:STANDARD
TZOFFSETFROM:-0400
TZOFFSETTO:-0500
TZNAME:EST
DTSTART:20271107T060000
END:STANDARD
BEGIN:DAYLIGHT
TZOFFSETFROM:-0500
TZOFFSETTO:-0400
TZNAME:EDT
DTSTART:20280312T070000
END:DAYLIGHT
BEGIN:STANDARD
TZOFFSETFROM:-0400
TZOFFSETTO:-0500
TZNAME:EST
DTSTART:20281105T060000
END:STANDARD
BEGIN:DAYLIGHT
TZOFFSETFROM:-0500
TZOFFSETTO:-0400
TZNAME:EDT
DTSTART:20290311T070000
END:DAYLIGHT
BEGIN:STANDARD
TZOFFSETFROM:-0400
TZOFFSETTO:-0500
TZNAME:EST
DTSTART:20291104T060000
END:STANDARD
BEGIN:DAYLIGHT
TZOFFSETFROM:-0500
TZOFFSETTO:-0400
TZNAME:EDT
DTSTART:20300310T070000
END:DAYLIGHT
BEGIN:STANDARD
TZOFFSETFROM:-0400
TZOFFSETTO:-0500
TZNAME:EST
DTSTART:20301103T060000
END:STANDARD
BEGIN:DAYLIGHT
TZOFFSETFROM:-0500
TZOFFSETTO:-0400
TZNAME:EDT
DTSTART:20310309T070000
END:DAYLIGHT
BEGIN:STANDARD
TZOFFSETFROM:-0400
TZOFFSETTO:-0500
TZNAME:EST
DTSTART:20311102T060000
END:STANDARD
END:VTIMEZONE
BEGIN:VEVENT
DTSTART;TZID=America/New_York:20260613T160000
DTEND;TZID=America/New_York:20260613T223000
DTSTAMP:20260423T080516
CREATED:20250610T214541Z
LAST-MODIFIED:20251031T200308Z
UID:10001811-1781366400-1781389800@av8maps.com
SUMMARY:Rockin' on the runway (51LS)
DESCRIPTION:Annual fundraising event benefitting St. Mary’s Residential Community & Services\, home to over 200 residents with developmental disabilities
URL:https://av8maps.com/event/rockin-on-the-runway-51ls/2026-06-13/
LOCATION:Red Oak Landing Airport\, 2303 LA-178\, Sunset\, LA 70584
ATTACH;FMTTYPE=image/png:https://av8maps.com/wp-content/uploads/2025/06/Rocking-the-runway-e1749591928659.png
GEO:30.4306782;-92.1172553
X-APPLE-STRUCTURED-LOCATION;VALUE=URI;X-ADDRESS=Red Oak Landing Airport 2303 LA-178 Sunset LA 70584;X-APPLE-RADIUS=500;X-TITLE=2303 LA-178\, Sunset\, LA 70584:geo:-92.1172553,30.4306782
END:VEVENT
BEGIN:VEVENT
DTSTART;TZID=America/New_York:20270612T160000
DTEND;TZID=America/New_York:20270612T223000
DTSTAMP:20260423T080516
CREATED:20250610T214541Z
LAST-MODIFIED:20251031T200308Z
UID:10001812-1812816000-1812839400@av8maps.com
SUMMARY:Rockin' on the runway (51LS)
DESCRIPTION:Annual fundraising event benefitting St. Mary’s Residential Community & Services\, home to over 200 residents with developmental disabilities
URL:https://av8maps.com/event/rockin-on-the-runway-51ls/2027-06-12/
LOCATION:Red Oak Landing Airport\, 2303 LA-178\, Sunset\, LA 70584
ATTACH;FMTTYPE=image/png:https://av8maps.com/wp-content/uploads/2025/06/Rocking-the-runway-e1749591928659.png
GEO:30.4306782;-92.1172553
X-APPLE-STRUCTURED-LOCATION;VALUE=URI;X-ADDRESS=Red Oak Landing Airport 2303 LA-178 Sunset LA 70584;X-APPLE-RADIUS=500;X-TITLE=2303 LA-178\, Sunset\, LA 70584:geo:-92.1172553,30.4306782
END:VEVENT
BEGIN:VEVENT
DTSTART;TZID=America/New_York:20280610T160000
DTEND;TZID=America/New_York:20280610T223000
DTSTAMP:20260423T080516
CREATED:20250610T214541Z
LAST-MODIFIED:20251031T200308Z
UID:10001813-1844265600-1844289000@av8maps.com
SUMMARY:Rockin' on the runway (51LS)
DESCRIPTION:Annual fundraising event benefitting St. Mary’s Residential Community & Services\, home to over 200 residents with developmental disabilities
URL:https://av8maps.com/event/rockin-on-the-runway-51ls/2028-06-10/
LOCATION:Red Oak Landing Airport\, 2303 LA-178\, Sunset\, LA 70584
ATTACH;FMTTYPE=image/png:https://av8maps.com/wp-content/uploads/2025/06/Rocking-the-runway-e1749591928659.png
GEO:30.4306782;-92.1172553
X-APPLE-STRUCTURED-LOCATION;VALUE=URI;X-ADDRESS=Red Oak Landing Airport 2303 LA-178 Sunset LA 70584;X-APPLE-RADIUS=500;X-TITLE=2303 LA-178\, Sunset\, LA 70584:geo:-92.1172553,30.4306782
END:VEVENT
BEGIN:VEVENT
DTSTART;TZID=America/New_York:20290609T160000
DTEND;TZID=America/New_York:20290609T223000
DTSTAMP:20260423T080516
CREATED:20250610T214541Z
LAST-MODIFIED:20251031T200308Z
UID:10001814-1875715200-1875738600@av8maps.com
SUMMARY:Rockin' on the runway (51LS)
DESCRIPTION:Annual fundraising event benefitting St. Mary’s Residential Community & Services\, home to over 200 residents with developmental disabilities
URL:https://av8maps.com/event/rockin-on-the-runway-51ls/2029-06-09/
LOCATION:Red Oak Landing Airport\, 2303 LA-178\, Sunset\, LA 70584
ATTACH;FMTTYPE=image/png:https://av8maps.com/wp-content/uploads/2025/06/Rocking-the-runway-e1749591928659.png
GEO:30.4306782;-92.1172553
X-APPLE-STRUCTURED-LOCATION;VALUE=URI;X-ADDRESS=Red Oak Landing Airport 2303 LA-178 Sunset LA 70584;X-APPLE-RADIUS=500;X-TITLE=2303 LA-178\, Sunset\, LA 70584:geo:-92.1172553,30.4306782
END:VEVENT
BEGIN:VEVENT
DTSTART;TZID=America/New_York:20300608T160000
DTEND;TZID=America/New_York:20300608T223000
DTSTAMP:20260423T080516
CREATED:20250610T214541Z
LAST-MODIFIED:20251031T200308Z
UID:10001815-1907164800-1907188200@av8maps.com
SUMMARY:Rockin' on the runway (51LS)
DESCRIPTION:Annual fundraising event benefitting St. Mary’s Residential Community & Services\, home to over 200 residents with developmental disabilities
URL:https://av8maps.com/event/rockin-on-the-runway-51ls/2030-06-08/
LOCATION:Red Oak Landing Airport\, 2303 LA-178\, Sunset\, LA 70584
ATTACH;FMTTYPE=image/png:https://av8maps.com/wp-content/uploads/2025/06/Rocking-the-runway-e1749591928659.png
GEO:30.4306782;-92.1172553
X-APPLE-STRUCTURED-LOCATION;VALUE=URI;X-ADDRESS=Red Oak Landing Airport 2303 LA-178 Sunset LA 70584;X-APPLE-RADIUS=500;X-TITLE=2303 LA-178\, Sunset\, LA 70584:geo:-92.1172553,30.4306782
END:VEVENT
END:VCALENDAR