BEGIN:VCALENDAR
VERSION:2.0
PRODID:-//AV8MAPS.COM - ECPv6.15.20//NONSGML v1.0//EN
CALSCALE:GREGORIAN
METHOD:PUBLISH
X-WR-CALNAME:AV8MAPS.COM
X-ORIGINAL-URL:https://av8maps.com
X-WR-CALDESC:Events for AV8MAPS.COM
REFRESH-INTERVAL;VALUE=DURATION:PT1H
X-Robots-Tag:noindex
X-PUBLISHED-TTL:PT1H
BEGIN:VTIMEZONE
TZID:America/New_York
BEGIN:DAYLIGHT
TZOFFSETFROM:-0500
TZOFFSETTO:-0400
TZNAME:EDT
DTSTART:20250309T070000
END:DAYLIGHT
BEGIN:STANDARD
TZOFFSETFROM:-0400
TZOFFSETTO:-0500
TZNAME:EST
DTSTART:20251102T060000
END:STANDARD
BEGIN:DAYLIGHT
TZOFFSETFROM:-0500
TZOFFSETTO:-0400
TZNAME:EDT
DTSTART:20260308T070000
END:DAYLIGHT
BEGIN:STANDARD
TZOFFSETFROM:-0400
TZOFFSETTO:-0500
TZNAME:EST
DTSTART:20261101T060000
END:STANDARD
BEGIN:DAYLIGHT
TZOFFSETFROM:-0500
TZOFFSETTO:-0400
TZNAME:EDT
DTSTART:20270314T070000
END:DAYLIGHT
BEGIN:STANDARD
TZOFFSETFROM:-0400
TZOFFSETTO:-0500
TZNAME:EST
DTSTART:20271107T060000
END:STANDARD
BEGIN:DAYLIGHT
TZOFFSETFROM:-0500
TZOFFSETTO:-0400
TZNAME:EDT
DTSTART:20280312T070000
END:DAYLIGHT
BEGIN:STANDARD
TZOFFSETFROM:-0400
TZOFFSETTO:-0500
TZNAME:EST
DTSTART:20281105T060000
END:STANDARD
BEGIN:DAYLIGHT
TZOFFSETFROM:-0500
TZOFFSETTO:-0400
TZNAME:EDT
DTSTART:20290311T070000
END:DAYLIGHT
BEGIN:STANDARD
TZOFFSETFROM:-0400
TZOFFSETTO:-0500
TZNAME:EST
DTSTART:20291104T060000
END:STANDARD
BEGIN:DAYLIGHT
TZOFFSETFROM:-0500
TZOFFSETTO:-0400
TZNAME:EDT
DTSTART:20300310T070000
END:DAYLIGHT
BEGIN:STANDARD
TZOFFSETFROM:-0400
TZOFFSETTO:-0500
TZNAME:EST
DTSTART:20301103T060000
END:STANDARD
BEGIN:DAYLIGHT
TZOFFSETFROM:-0500
TZOFFSETTO:-0400
TZNAME:EDT
DTSTART:20310309T070000
END:DAYLIGHT
BEGIN:STANDARD
TZOFFSETFROM:-0400
TZOFFSETTO:-0500
TZNAME:EST
DTSTART:20311102T060000
END:STANDARD
END:VTIMEZONE
BEGIN:VEVENT
DTSTART;TZID=America/New_York:20260711T080000
DTEND;TZID=America/New_York:20260711T143000
DTSTAMP:20260423T063648
CREATED:20250611T020321Z
LAST-MODIFIED:20251031T200353Z
UID:10001816-1783756800-1783780200@av8maps.com
SUMMARY:Annual Cavanaugh Bay Fly-In (66S)
DESCRIPTION:
URL:https://av8maps.com/event/cavanaugh-bay-fly-in/2026-07-11/
LOCATION:Cavanaugh Bay Airport\, 4053 Cavanaugh Bay Rd\, Coolin\, ID 83821
ATTACH;FMTTYPE=image/jpeg:https://av8maps.com/wp-content/uploads/2025/06/Cavanaugh-Fly-in-e1749679340267.jpg
GEO:48.5221323;-116.8221589
X-APPLE-STRUCTURED-LOCATION;VALUE=URI;X-ADDRESS=Cavanaugh Bay Airport 4053 Cavanaugh Bay Rd Coolin ID 83821;X-APPLE-RADIUS=500;X-TITLE=4053 Cavanaugh Bay Rd\, Coolin\, ID 83821:geo:-116.8221589,48.5221323
END:VEVENT
BEGIN:VEVENT
DTSTART;TZID=America/New_York:20270710T080000
DTEND;TZID=America/New_York:20270710T143000
DTSTAMP:20260423T063648
CREATED:20250611T020321Z
LAST-MODIFIED:20251031T200353Z
UID:10001817-1815206400-1815229800@av8maps.com
SUMMARY:Annual Cavanaugh Bay Fly-In (66S)
DESCRIPTION:
URL:https://av8maps.com/event/cavanaugh-bay-fly-in/2027-07-10/
LOCATION:Cavanaugh Bay Airport\, 4053 Cavanaugh Bay Rd\, Coolin\, ID 83821
ATTACH;FMTTYPE=image/jpeg:https://av8maps.com/wp-content/uploads/2025/06/Cavanaugh-Fly-in-e1749679340267.jpg
GEO:48.5221323;-116.8221589
X-APPLE-STRUCTURED-LOCATION;VALUE=URI;X-ADDRESS=Cavanaugh Bay Airport 4053 Cavanaugh Bay Rd Coolin ID 83821;X-APPLE-RADIUS=500;X-TITLE=4053 Cavanaugh Bay Rd\, Coolin\, ID 83821:geo:-116.8221589,48.5221323
END:VEVENT
BEGIN:VEVENT
DTSTART;TZID=America/New_York:20280708T080000
DTEND;TZID=America/New_York:20280708T143000
DTSTAMP:20260423T063648
CREATED:20250611T020321Z
LAST-MODIFIED:20251031T200353Z
UID:10001818-1846656000-1846679400@av8maps.com
SUMMARY:Annual Cavanaugh Bay Fly-In (66S)
DESCRIPTION:
URL:https://av8maps.com/event/cavanaugh-bay-fly-in/2028-07-08/
LOCATION:Cavanaugh Bay Airport\, 4053 Cavanaugh Bay Rd\, Coolin\, ID 83821
ATTACH;FMTTYPE=image/jpeg:https://av8maps.com/wp-content/uploads/2025/06/Cavanaugh-Fly-in-e1749679340267.jpg
GEO:48.5221323;-116.8221589
X-APPLE-STRUCTURED-LOCATION;VALUE=URI;X-ADDRESS=Cavanaugh Bay Airport 4053 Cavanaugh Bay Rd Coolin ID 83821;X-APPLE-RADIUS=500;X-TITLE=4053 Cavanaugh Bay Rd\, Coolin\, ID 83821:geo:-116.8221589,48.5221323
END:VEVENT
BEGIN:VEVENT
DTSTART;TZID=America/New_York:20290714T080000
DTEND;TZID=America/New_York:20290714T143000
DTSTAMP:20260423T063648
CREATED:20250611T020321Z
LAST-MODIFIED:20251031T200353Z
UID:10001819-1878710400-1878733800@av8maps.com
SUMMARY:Annual Cavanaugh Bay Fly-In (66S)
DESCRIPTION:
URL:https://av8maps.com/event/cavanaugh-bay-fly-in/2029-07-14/
LOCATION:Cavanaugh Bay Airport\, 4053 Cavanaugh Bay Rd\, Coolin\, ID 83821
ATTACH;FMTTYPE=image/jpeg:https://av8maps.com/wp-content/uploads/2025/06/Cavanaugh-Fly-in-e1749679340267.jpg
GEO:48.5221323;-116.8221589
X-APPLE-STRUCTURED-LOCATION;VALUE=URI;X-ADDRESS=Cavanaugh Bay Airport 4053 Cavanaugh Bay Rd Coolin ID 83821;X-APPLE-RADIUS=500;X-TITLE=4053 Cavanaugh Bay Rd\, Coolin\, ID 83821:geo:-116.8221589,48.5221323
END:VEVENT
BEGIN:VEVENT
DTSTART;TZID=America/New_York:20300713T080000
DTEND;TZID=America/New_York:20300713T143000
DTSTAMP:20260423T063648
CREATED:20250611T020321Z
LAST-MODIFIED:20251031T200353Z
UID:10001820-1910160000-1910183400@av8maps.com
SUMMARY:Annual Cavanaugh Bay Fly-In (66S)
DESCRIPTION:
URL:https://av8maps.com/event/cavanaugh-bay-fly-in/2030-07-13/
LOCATION:Cavanaugh Bay Airport\, 4053 Cavanaugh Bay Rd\, Coolin\, ID 83821
ATTACH;FMTTYPE=image/jpeg:https://av8maps.com/wp-content/uploads/2025/06/Cavanaugh-Fly-in-e1749679340267.jpg
GEO:48.5221323;-116.8221589
X-APPLE-STRUCTURED-LOCATION;VALUE=URI;X-ADDRESS=Cavanaugh Bay Airport 4053 Cavanaugh Bay Rd Coolin ID 83821;X-APPLE-RADIUS=500;X-TITLE=4053 Cavanaugh Bay Rd\, Coolin\, ID 83821:geo:-116.8221589,48.5221323
END:VEVENT
END:VCALENDAR