BEGIN:VCALENDAR
VERSION:2.0
PRODID:-//AV8MAPS.COM - ECPv6.15.20//NONSGML v1.0//EN
CALSCALE:GREGORIAN
METHOD:PUBLISH
X-WR-CALNAME:AV8MAPS.COM
X-ORIGINAL-URL:https://av8maps.com
X-WR-CALDESC:Events for AV8MAPS.COM
REFRESH-INTERVAL;VALUE=DURATION:PT1H
X-Robots-Tag:noindex
X-PUBLISHED-TTL:PT1H
BEGIN:VTIMEZONE
TZID:America/New_York
BEGIN:DAYLIGHT
TZOFFSETFROM:-0500
TZOFFSETTO:-0400
TZNAME:EDT
DTSTART:20250309T070000
END:DAYLIGHT
BEGIN:STANDARD
TZOFFSETFROM:-0400
TZOFFSETTO:-0500
TZNAME:EST
DTSTART:20251102T060000
END:STANDARD
BEGIN:DAYLIGHT
TZOFFSETFROM:-0500
TZOFFSETTO:-0400
TZNAME:EDT
DTSTART:20260308T070000
END:DAYLIGHT
BEGIN:STANDARD
TZOFFSETFROM:-0400
TZOFFSETTO:-0500
TZNAME:EST
DTSTART:20261101T060000
END:STANDARD
BEGIN:DAYLIGHT
TZOFFSETFROM:-0500
TZOFFSETTO:-0400
TZNAME:EDT
DTSTART:20270314T070000
END:DAYLIGHT
BEGIN:STANDARD
TZOFFSETFROM:-0400
TZOFFSETTO:-0500
TZNAME:EST
DTSTART:20271107T060000
END:STANDARD
BEGIN:DAYLIGHT
TZOFFSETFROM:-0500
TZOFFSETTO:-0400
TZNAME:EDT
DTSTART:20280312T070000
END:DAYLIGHT
BEGIN:STANDARD
TZOFFSETFROM:-0400
TZOFFSETTO:-0500
TZNAME:EST
DTSTART:20281105T060000
END:STANDARD
BEGIN:DAYLIGHT
TZOFFSETFROM:-0500
TZOFFSETTO:-0400
TZNAME:EDT
DTSTART:20290311T070000
END:DAYLIGHT
BEGIN:STANDARD
TZOFFSETFROM:-0400
TZOFFSETTO:-0500
TZNAME:EST
DTSTART:20291104T060000
END:STANDARD
BEGIN:DAYLIGHT
TZOFFSETFROM:-0500
TZOFFSETTO:-0400
TZNAME:EDT
DTSTART:20300310T070000
END:DAYLIGHT
BEGIN:STANDARD
TZOFFSETFROM:-0400
TZOFFSETTO:-0500
TZNAME:EST
DTSTART:20301103T060000
END:STANDARD
BEGIN:DAYLIGHT
TZOFFSETFROM:-0500
TZOFFSETTO:-0400
TZNAME:EDT
DTSTART:20310309T070000
END:DAYLIGHT
BEGIN:STANDARD
TZOFFSETFROM:-0400
TZOFFSETTO:-0500
TZNAME:EST
DTSTART:20311102T060000
END:STANDARD
END:VTIMEZONE
BEGIN:VEVENT
DTSTART;TZID=America/New_York:20260815T100000
DTEND;TZID=America/New_York:20260815T160000
DTSTAMP:20260423T080600
CREATED:20250616T221257Z
LAST-MODIFIED:20251031T201407Z
UID:10001840-1786788000-1786809600@av8maps.com
SUMMARY:Carnards over Georgia (KFFC)
DESCRIPTION:We hope the weather is nice this year as we celebrate of 13th BBq and 14th year flying the ERacer.\nHope to see all our friends for some good BBq!!!
URL:https://av8maps.com/event/carnards-over-georgia-kffc/2026-08-15/
LOCATION:Atlanta Regional Airport\, 7 Falcon Dr\, Peachtree City\, GA 30269
ATTACH;FMTTYPE=image/jpeg:https://av8maps.com/wp-content/uploads/2025/06/Carnards-over-Georgia-e1750111949548.jpg
GEO:33.3585099;-84.5695864
X-APPLE-STRUCTURED-LOCATION;VALUE=URI;X-ADDRESS=Atlanta Regional Airport 7 Falcon Dr Peachtree City GA 30269;X-APPLE-RADIUS=500;X-TITLE=7 Falcon Dr\, Peachtree City\, GA 30269:geo:-84.5695864,33.3585099
END:VEVENT
BEGIN:VEVENT
DTSTART;TZID=America/New_York:20270821T100000
DTEND;TZID=America/New_York:20270821T160000
DTSTAMP:20260423T080600
CREATED:20250616T221257Z
LAST-MODIFIED:20251031T201407Z
UID:10001841-1818842400-1818864000@av8maps.com
SUMMARY:Carnards over Georgia (KFFC)
DESCRIPTION:We hope the weather is nice this year as we celebrate of 13th BBq and 14th year flying the ERacer.\nHope to see all our friends for some good BBq!!!
URL:https://av8maps.com/event/carnards-over-georgia-kffc/2027-08-21/
LOCATION:Atlanta Regional Airport\, 7 Falcon Dr\, Peachtree City\, GA 30269
ATTACH;FMTTYPE=image/jpeg:https://av8maps.com/wp-content/uploads/2025/06/Carnards-over-Georgia-e1750111949548.jpg
GEO:33.3585099;-84.5695864
X-APPLE-STRUCTURED-LOCATION;VALUE=URI;X-ADDRESS=Atlanta Regional Airport 7 Falcon Dr Peachtree City GA 30269;X-APPLE-RADIUS=500;X-TITLE=7 Falcon Dr\, Peachtree City\, GA 30269:geo:-84.5695864,33.3585099
END:VEVENT
BEGIN:VEVENT
DTSTART;TZID=America/New_York:20280819T100000
DTEND;TZID=America/New_York:20280819T160000
DTSTAMP:20260423T080600
CREATED:20250616T221257Z
LAST-MODIFIED:20251031T201407Z
UID:10001842-1850292000-1850313600@av8maps.com
SUMMARY:Carnards over Georgia (KFFC)
DESCRIPTION:We hope the weather is nice this year as we celebrate of 13th BBq and 14th year flying the ERacer.\nHope to see all our friends for some good BBq!!!
URL:https://av8maps.com/event/carnards-over-georgia-kffc/2028-08-19/
LOCATION:Atlanta Regional Airport\, 7 Falcon Dr\, Peachtree City\, GA 30269
ATTACH;FMTTYPE=image/jpeg:https://av8maps.com/wp-content/uploads/2025/06/Carnards-over-Georgia-e1750111949548.jpg
GEO:33.3585099;-84.5695864
X-APPLE-STRUCTURED-LOCATION;VALUE=URI;X-ADDRESS=Atlanta Regional Airport 7 Falcon Dr Peachtree City GA 30269;X-APPLE-RADIUS=500;X-TITLE=7 Falcon Dr\, Peachtree City\, GA 30269:geo:-84.5695864,33.3585099
END:VEVENT
BEGIN:VEVENT
DTSTART;TZID=America/New_York:20290818T100000
DTEND;TZID=America/New_York:20290818T160000
DTSTAMP:20260423T080600
CREATED:20250616T221257Z
LAST-MODIFIED:20251031T201407Z
UID:10001843-1881741600-1881763200@av8maps.com
SUMMARY:Carnards over Georgia (KFFC)
DESCRIPTION:We hope the weather is nice this year as we celebrate of 13th BBq and 14th year flying the ERacer.\nHope to see all our friends for some good BBq!!!
URL:https://av8maps.com/event/carnards-over-georgia-kffc/2029-08-18/
LOCATION:Atlanta Regional Airport\, 7 Falcon Dr\, Peachtree City\, GA 30269
ATTACH;FMTTYPE=image/jpeg:https://av8maps.com/wp-content/uploads/2025/06/Carnards-over-Georgia-e1750111949548.jpg
GEO:33.3585099;-84.5695864
X-APPLE-STRUCTURED-LOCATION;VALUE=URI;X-ADDRESS=Atlanta Regional Airport 7 Falcon Dr Peachtree City GA 30269;X-APPLE-RADIUS=500;X-TITLE=7 Falcon Dr\, Peachtree City\, GA 30269:geo:-84.5695864,33.3585099
END:VEVENT
BEGIN:VEVENT
DTSTART;TZID=America/New_York:20300817T100000
DTEND;TZID=America/New_York:20300817T160000
DTSTAMP:20260423T080600
CREATED:20250616T221257Z
LAST-MODIFIED:20251031T201407Z
UID:10001844-1913191200-1913212800@av8maps.com
SUMMARY:Carnards over Georgia (KFFC)
DESCRIPTION:We hope the weather is nice this year as we celebrate of 13th BBq and 14th year flying the ERacer.\nHope to see all our friends for some good BBq!!!
URL:https://av8maps.com/event/carnards-over-georgia-kffc/2030-08-17/
LOCATION:Atlanta Regional Airport\, 7 Falcon Dr\, Peachtree City\, GA 30269
ATTACH;FMTTYPE=image/jpeg:https://av8maps.com/wp-content/uploads/2025/06/Carnards-over-Georgia-e1750111949548.jpg
GEO:33.3585099;-84.5695864
X-APPLE-STRUCTURED-LOCATION;VALUE=URI;X-ADDRESS=Atlanta Regional Airport 7 Falcon Dr Peachtree City GA 30269;X-APPLE-RADIUS=500;X-TITLE=7 Falcon Dr\, Peachtree City\, GA 30269:geo:-84.5695864,33.3585099
END:VEVENT
END:VCALENDAR