BEGIN:VCALENDAR
VERSION:2.0
PRODID:-//AV8MAPS.COM - ECPv6.15.20//NONSGML v1.0//EN
CALSCALE:GREGORIAN
METHOD:PUBLISH
X-WR-CALNAME:AV8MAPS.COM
X-ORIGINAL-URL:https://av8maps.com
X-WR-CALDESC:Events for AV8MAPS.COM
REFRESH-INTERVAL;VALUE=DURATION:PT1H
X-Robots-Tag:noindex
X-PUBLISHED-TTL:PT1H
BEGIN:VTIMEZONE
TZID:America/New_York
BEGIN:DAYLIGHT
TZOFFSETFROM:-0500
TZOFFSETTO:-0400
TZNAME:EDT
DTSTART:20250309T070000
END:DAYLIGHT
BEGIN:STANDARD
TZOFFSETFROM:-0400
TZOFFSETTO:-0500
TZNAME:EST
DTSTART:20251102T060000
END:STANDARD
BEGIN:DAYLIGHT
TZOFFSETFROM:-0500
TZOFFSETTO:-0400
TZNAME:EDT
DTSTART:20260308T070000
END:DAYLIGHT
BEGIN:STANDARD
TZOFFSETFROM:-0400
TZOFFSETTO:-0500
TZNAME:EST
DTSTART:20261101T060000
END:STANDARD
BEGIN:DAYLIGHT
TZOFFSETFROM:-0500
TZOFFSETTO:-0400
TZNAME:EDT
DTSTART:20270314T070000
END:DAYLIGHT
BEGIN:STANDARD
TZOFFSETFROM:-0400
TZOFFSETTO:-0500
TZNAME:EST
DTSTART:20271107T060000
END:STANDARD
BEGIN:DAYLIGHT
TZOFFSETFROM:-0500
TZOFFSETTO:-0400
TZNAME:EDT
DTSTART:20280312T070000
END:DAYLIGHT
BEGIN:STANDARD
TZOFFSETFROM:-0400
TZOFFSETTO:-0500
TZNAME:EST
DTSTART:20281105T060000
END:STANDARD
BEGIN:DAYLIGHT
TZOFFSETFROM:-0500
TZOFFSETTO:-0400
TZNAME:EDT
DTSTART:20290311T070000
END:DAYLIGHT
BEGIN:STANDARD
TZOFFSETFROM:-0400
TZOFFSETTO:-0500
TZNAME:EST
DTSTART:20291104T060000
END:STANDARD
BEGIN:DAYLIGHT
TZOFFSETFROM:-0500
TZOFFSETTO:-0400
TZNAME:EDT
DTSTART:20300310T070000
END:DAYLIGHT
BEGIN:STANDARD
TZOFFSETFROM:-0400
TZOFFSETTO:-0500
TZNAME:EST
DTSTART:20301103T060000
END:STANDARD
BEGIN:DAYLIGHT
TZOFFSETFROM:-0500
TZOFFSETTO:-0400
TZNAME:EDT
DTSTART:20310309T070000
END:DAYLIGHT
BEGIN:STANDARD
TZOFFSETFROM:-0400
TZOFFSETTO:-0500
TZNAME:EST
DTSTART:20311102T060000
END:STANDARD
END:VTIMEZONE
BEGIN:VEVENT
DTSTART;TZID=America/New_York:20260712T073000
DTEND;TZID=America/New_York:20260712T120000
DTSTAMP:20260423T005630
CREATED:20250620T134414Z
LAST-MODIFIED:20251031T201925Z
UID:10001853-1783841400-1783857600@av8maps.com
SUMMARY:Annual Spurwink Farm Intl Fly In
DESCRIPTION:Come join us by car or plane for our annual fly-in and pancake breakfast! \nParking is free\, proceeds from the breakfast benefit Chapter 141 E.A.A. Programs. \nGPS N 43° 34.00’ W 70° 16.00’ \nSpurwink Unicom 122.9
URL:https://av8maps.com/event/28th-annual-fly-in/2026-07-12/
LOCATION:Spurwink Farm Airfield\, 44 Fieldways Ln\, Cape Elizabeth\, ME\, 04107\, United States
ATTACH;FMTTYPE=image/jpeg:https://av8maps.com/wp-content/uploads/2025/06/28th-Annual-Spurwink-Farm-Fly-in-e1750427465785.jpg
GEO:43.5677123;-70.2654822
X-APPLE-STRUCTURED-LOCATION;VALUE=URI;X-ADDRESS=Spurwink Farm Airfield 44 Fieldways Ln Cape Elizabeth ME 04107 United States;X-APPLE-RADIUS=500;X-TITLE=44 Fieldways Ln:geo:-70.2654822,43.5677123
END:VEVENT
BEGIN:VEVENT
DTSTART;TZID=America/New_York:20270711T073000
DTEND;TZID=America/New_York:20270711T120000
DTSTAMP:20260423T005630
CREATED:20250620T134414Z
LAST-MODIFIED:20251031T201925Z
UID:10001854-1815291000-1815307200@av8maps.com
SUMMARY:Annual Spurwink Farm Intl Fly In
DESCRIPTION:Come join us by car or plane for our annual fly-in and pancake breakfast! \nParking is free\, proceeds from the breakfast benefit Chapter 141 E.A.A. Programs. \nGPS N 43° 34.00’ W 70° 16.00’ \nSpurwink Unicom 122.9
URL:https://av8maps.com/event/28th-annual-fly-in/2027-07-11/
LOCATION:Spurwink Farm Airfield\, 44 Fieldways Ln\, Cape Elizabeth\, ME\, 04107\, United States
ATTACH;FMTTYPE=image/jpeg:https://av8maps.com/wp-content/uploads/2025/06/28th-Annual-Spurwink-Farm-Fly-in-e1750427465785.jpg
GEO:43.5677123;-70.2654822
X-APPLE-STRUCTURED-LOCATION;VALUE=URI;X-ADDRESS=Spurwink Farm Airfield 44 Fieldways Ln Cape Elizabeth ME 04107 United States;X-APPLE-RADIUS=500;X-TITLE=44 Fieldways Ln:geo:-70.2654822,43.5677123
END:VEVENT
BEGIN:VEVENT
DTSTART;TZID=America/New_York:20280709T073000
DTEND;TZID=America/New_York:20280709T120000
DTSTAMP:20260423T005630
CREATED:20250620T134414Z
LAST-MODIFIED:20251031T201925Z
UID:10001855-1846740600-1846756800@av8maps.com
SUMMARY:Annual Spurwink Farm Intl Fly In
DESCRIPTION:Come join us by car or plane for our annual fly-in and pancake breakfast! \nParking is free\, proceeds from the breakfast benefit Chapter 141 E.A.A. Programs. \nGPS N 43° 34.00’ W 70° 16.00’ \nSpurwink Unicom 122.9
URL:https://av8maps.com/event/28th-annual-fly-in/2028-07-09/
LOCATION:Spurwink Farm Airfield\, 44 Fieldways Ln\, Cape Elizabeth\, ME\, 04107\, United States
ATTACH;FMTTYPE=image/jpeg:https://av8maps.com/wp-content/uploads/2025/06/28th-Annual-Spurwink-Farm-Fly-in-e1750427465785.jpg
GEO:43.5677123;-70.2654822
X-APPLE-STRUCTURED-LOCATION;VALUE=URI;X-ADDRESS=Spurwink Farm Airfield 44 Fieldways Ln Cape Elizabeth ME 04107 United States;X-APPLE-RADIUS=500;X-TITLE=44 Fieldways Ln:geo:-70.2654822,43.5677123
END:VEVENT
BEGIN:VEVENT
DTSTART;TZID=America/New_York:20290708T073000
DTEND;TZID=America/New_York:20290708T120000
DTSTAMP:20260423T005630
CREATED:20250620T134414Z
LAST-MODIFIED:20251031T201925Z
UID:10001856-1878190200-1878206400@av8maps.com
SUMMARY:Annual Spurwink Farm Intl Fly In
DESCRIPTION:Come join us by car or plane for our annual fly-in and pancake breakfast! \nParking is free\, proceeds from the breakfast benefit Chapter 141 E.A.A. Programs. \nGPS N 43° 34.00’ W 70° 16.00’ \nSpurwink Unicom 122.9
URL:https://av8maps.com/event/28th-annual-fly-in/2029-07-08/
LOCATION:Spurwink Farm Airfield\, 44 Fieldways Ln\, Cape Elizabeth\, ME\, 04107\, United States
ATTACH;FMTTYPE=image/jpeg:https://av8maps.com/wp-content/uploads/2025/06/28th-Annual-Spurwink-Farm-Fly-in-e1750427465785.jpg
GEO:43.5677123;-70.2654822
X-APPLE-STRUCTURED-LOCATION;VALUE=URI;X-ADDRESS=Spurwink Farm Airfield 44 Fieldways Ln Cape Elizabeth ME 04107 United States;X-APPLE-RADIUS=500;X-TITLE=44 Fieldways Ln:geo:-70.2654822,43.5677123
END:VEVENT
BEGIN:VEVENT
DTSTART;TZID=America/New_York:20300714T073000
DTEND;TZID=America/New_York:20300714T120000
DTSTAMP:20260423T005630
CREATED:20250620T134414Z
LAST-MODIFIED:20251031T201925Z
UID:10001857-1910244600-1910260800@av8maps.com
SUMMARY:Annual Spurwink Farm Intl Fly In
DESCRIPTION:Come join us by car or plane for our annual fly-in and pancake breakfast! \nParking is free\, proceeds from the breakfast benefit Chapter 141 E.A.A. Programs. \nGPS N 43° 34.00’ W 70° 16.00’ \nSpurwink Unicom 122.9
URL:https://av8maps.com/event/28th-annual-fly-in/2030-07-14/
LOCATION:Spurwink Farm Airfield\, 44 Fieldways Ln\, Cape Elizabeth\, ME\, 04107\, United States
ATTACH;FMTTYPE=image/jpeg:https://av8maps.com/wp-content/uploads/2025/06/28th-Annual-Spurwink-Farm-Fly-in-e1750427465785.jpg
GEO:43.5677123;-70.2654822
X-APPLE-STRUCTURED-LOCATION;VALUE=URI;X-ADDRESS=Spurwink Farm Airfield 44 Fieldways Ln Cape Elizabeth ME 04107 United States;X-APPLE-RADIUS=500;X-TITLE=44 Fieldways Ln:geo:-70.2654822,43.5677123
END:VEVENT
END:VCALENDAR