BEGIN:VCALENDAR
VERSION:2.0
PRODID:-//AV8MAPS.COM - ECPv6.15.20//NONSGML v1.0//EN
CALSCALE:GREGORIAN
METHOD:PUBLISH
X-WR-CALNAME:AV8MAPS.COM
X-ORIGINAL-URL:https://av8maps.com
X-WR-CALDESC:Events for AV8MAPS.COM
REFRESH-INTERVAL;VALUE=DURATION:PT1H
X-Robots-Tag:noindex
X-PUBLISHED-TTL:PT1H
BEGIN:VTIMEZONE
TZID:America/New_York
BEGIN:DAYLIGHT
TZOFFSETFROM:-0500
TZOFFSETTO:-0400
TZNAME:EDT
DTSTART:20260308T070000
END:DAYLIGHT
BEGIN:STANDARD
TZOFFSETFROM:-0400
TZOFFSETTO:-0500
TZNAME:EST
DTSTART:20261101T060000
END:STANDARD
BEGIN:DAYLIGHT
TZOFFSETFROM:-0500
TZOFFSETTO:-0400
TZNAME:EDT
DTSTART:20270314T070000
END:DAYLIGHT
BEGIN:STANDARD
TZOFFSETFROM:-0400
TZOFFSETTO:-0500
TZNAME:EST
DTSTART:20271107T060000
END:STANDARD
BEGIN:DAYLIGHT
TZOFFSETFROM:-0500
TZOFFSETTO:-0400
TZNAME:EDT
DTSTART:20280312T070000
END:DAYLIGHT
BEGIN:STANDARD
TZOFFSETFROM:-0400
TZOFFSETTO:-0500
TZNAME:EST
DTSTART:20281105T060000
END:STANDARD
BEGIN:DAYLIGHT
TZOFFSETFROM:-0500
TZOFFSETTO:-0400
TZNAME:EDT
DTSTART:20290311T070000
END:DAYLIGHT
BEGIN:STANDARD
TZOFFSETFROM:-0400
TZOFFSETTO:-0500
TZNAME:EST
DTSTART:20291104T060000
END:STANDARD
BEGIN:DAYLIGHT
TZOFFSETFROM:-0500
TZOFFSETTO:-0400
TZNAME:EDT
DTSTART:20300310T070000
END:DAYLIGHT
BEGIN:STANDARD
TZOFFSETFROM:-0400
TZOFFSETTO:-0500
TZNAME:EST
DTSTART:20301103T060000
END:STANDARD
BEGIN:DAYLIGHT
TZOFFSETFROM:-0500
TZOFFSETTO:-0400
TZNAME:EDT
DTSTART:20310309T070000
END:DAYLIGHT
BEGIN:STANDARD
TZOFFSETFROM:-0400
TZOFFSETTO:-0500
TZNAME:EST
DTSTART:20311102T060000
END:STANDARD
END:VTIMEZONE
BEGIN:VEVENT
DTSTART;TZID=America/New_York:20270413T000000
DTEND;TZID=America/New_York:20270418T235959
DTSTAMP:20260423T135017
CREATED:20250622T171102Z
LAST-MODIFIED:20251031T202626Z
UID:10001927-1807574400-1808092799@av8maps.com
SUMMARY:Sun 'n Fun 2026 (KLAL)
DESCRIPTION:RED\, WHITE & BLUE AT 52 – The official 2026 SUN ‘n FUN poster drops July 4th — and it’s got afterburners! \nFrom Thunderbirds to Rhinos to Mustangs\, this reveal is sure to spark your passion for flight and the spirit of American Pride as we celebrate the 250th Anniversary of America in 2026!
URL:https://av8maps.com/event/sun-n-fun-2026-klal/2027-04-13/
LOCATION:Sun ‘n Fun Aeopce Expo\, 4075 James C. Ray Dr\, Lakeland\, FL 33811
ATTACH;FMTTYPE=image/jpeg:https://av8maps.com/wp-content/uploads/2025/06/Sun-n-Fun-2026-e1750612210108.jpg
GEO:27.9824332;-82.0276753
X-APPLE-STRUCTURED-LOCATION;VALUE=URI;X-ADDRESS=Sun ‘n Fun Aeopce Expo 4075 James C. Ray Dr Lakeland FL 33811;X-APPLE-RADIUS=500;X-TITLE=4075 James C. Ray Dr\, Lakeland\, FL 33811:geo:-82.0276753,27.9824332
END:VEVENT
BEGIN:VEVENT
DTSTART;TZID=America/New_York:20280411T000000
DTEND;TZID=America/New_York:20280416T235959
DTSTAMP:20260423T135017
CREATED:20250622T171102Z
LAST-MODIFIED:20251031T202626Z
UID:10001928-1839024000-1839542399@av8maps.com
SUMMARY:Sun 'n Fun 2026 (KLAL)
DESCRIPTION:RED\, WHITE & BLUE AT 52 – The official 2026 SUN ‘n FUN poster drops July 4th — and it’s got afterburners! \nFrom Thunderbirds to Rhinos to Mustangs\, this reveal is sure to spark your passion for flight and the spirit of American Pride as we celebrate the 250th Anniversary of America in 2026!
URL:https://av8maps.com/event/sun-n-fun-2026-klal/2028-04-11/
LOCATION:Sun ‘n Fun Aeopce Expo\, 4075 James C. Ray Dr\, Lakeland\, FL 33811
ATTACH;FMTTYPE=image/jpeg:https://av8maps.com/wp-content/uploads/2025/06/Sun-n-Fun-2026-e1750612210108.jpg
GEO:27.9824332;-82.0276753
X-APPLE-STRUCTURED-LOCATION;VALUE=URI;X-ADDRESS=Sun ‘n Fun Aeopce Expo 4075 James C. Ray Dr Lakeland FL 33811;X-APPLE-RADIUS=500;X-TITLE=4075 James C. Ray Dr\, Lakeland\, FL 33811:geo:-82.0276753,27.9824332
END:VEVENT
BEGIN:VEVENT
DTSTART;TZID=America/New_York:20290410T000000
DTEND;TZID=America/New_York:20290415T235959
DTSTAMP:20260423T135017
CREATED:20250622T171102Z
LAST-MODIFIED:20251031T202626Z
UID:10001929-1870473600-1870991999@av8maps.com
SUMMARY:Sun 'n Fun 2026 (KLAL)
DESCRIPTION:RED\, WHITE & BLUE AT 52 – The official 2026 SUN ‘n FUN poster drops July 4th — and it’s got afterburners! \nFrom Thunderbirds to Rhinos to Mustangs\, this reveal is sure to spark your passion for flight and the spirit of American Pride as we celebrate the 250th Anniversary of America in 2026!
URL:https://av8maps.com/event/sun-n-fun-2026-klal/2029-04-10/
LOCATION:Sun ‘n Fun Aeopce Expo\, 4075 James C. Ray Dr\, Lakeland\, FL 33811
ATTACH;FMTTYPE=image/jpeg:https://av8maps.com/wp-content/uploads/2025/06/Sun-n-Fun-2026-e1750612210108.jpg
GEO:27.9824332;-82.0276753
X-APPLE-STRUCTURED-LOCATION;VALUE=URI;X-ADDRESS=Sun ‘n Fun Aeopce Expo 4075 James C. Ray Dr Lakeland FL 33811;X-APPLE-RADIUS=500;X-TITLE=4075 James C. Ray Dr\, Lakeland\, FL 33811:geo:-82.0276753,27.9824332
END:VEVENT
BEGIN:VEVENT
DTSTART;TZID=America/New_York:20300409T000000
DTEND;TZID=America/New_York:20300414T235959
DTSTAMP:20260423T135017
CREATED:20250622T171102Z
LAST-MODIFIED:20251031T202626Z
UID:10001930-1901923200-1902441599@av8maps.com
SUMMARY:Sun 'n Fun 2026 (KLAL)
DESCRIPTION:RED\, WHITE & BLUE AT 52 – The official 2026 SUN ‘n FUN poster drops July 4th — and it’s got afterburners! \nFrom Thunderbirds to Rhinos to Mustangs\, this reveal is sure to spark your passion for flight and the spirit of American Pride as we celebrate the 250th Anniversary of America in 2026!
URL:https://av8maps.com/event/sun-n-fun-2026-klal/2030-04-09/
LOCATION:Sun ‘n Fun Aeopce Expo\, 4075 James C. Ray Dr\, Lakeland\, FL 33811
ATTACH;FMTTYPE=image/jpeg:https://av8maps.com/wp-content/uploads/2025/06/Sun-n-Fun-2026-e1750612210108.jpg
GEO:27.9824332;-82.0276753
X-APPLE-STRUCTURED-LOCATION;VALUE=URI;X-ADDRESS=Sun ‘n Fun Aeopce Expo 4075 James C. Ray Dr Lakeland FL 33811;X-APPLE-RADIUS=500;X-TITLE=4075 James C. Ray Dr\, Lakeland\, FL 33811:geo:-82.0276753,27.9824332
END:VEVENT
END:VCALENDAR