BEGIN:VCALENDAR
VERSION:2.0
PRODID:-//AV8MAPS.COM - ECPv6.15.20//NONSGML v1.0//EN
CALSCALE:GREGORIAN
METHOD:PUBLISH
X-WR-CALNAME:AV8MAPS.COM
X-ORIGINAL-URL:https://av8maps.com
X-WR-CALDESC:Events for AV8MAPS.COM
REFRESH-INTERVAL;VALUE=DURATION:PT1H
X-Robots-Tag:noindex
X-PUBLISHED-TTL:PT1H
BEGIN:VTIMEZONE
TZID:America/New_York
BEGIN:DAYLIGHT
TZOFFSETFROM:-0500
TZOFFSETTO:-0400
TZNAME:EDT
DTSTART:20250309T070000
END:DAYLIGHT
BEGIN:STANDARD
TZOFFSETFROM:-0400
TZOFFSETTO:-0500
TZNAME:EST
DTSTART:20251102T060000
END:STANDARD
BEGIN:DAYLIGHT
TZOFFSETFROM:-0500
TZOFFSETTO:-0400
TZNAME:EDT
DTSTART:20260308T070000
END:DAYLIGHT
BEGIN:STANDARD
TZOFFSETFROM:-0400
TZOFFSETTO:-0500
TZNAME:EST
DTSTART:20261101T060000
END:STANDARD
BEGIN:DAYLIGHT
TZOFFSETFROM:-0500
TZOFFSETTO:-0400
TZNAME:EDT
DTSTART:20270314T070000
END:DAYLIGHT
BEGIN:STANDARD
TZOFFSETFROM:-0400
TZOFFSETTO:-0500
TZNAME:EST
DTSTART:20271107T060000
END:STANDARD
BEGIN:DAYLIGHT
TZOFFSETFROM:-0500
TZOFFSETTO:-0400
TZNAME:EDT
DTSTART:20280312T070000
END:DAYLIGHT
BEGIN:STANDARD
TZOFFSETFROM:-0400
TZOFFSETTO:-0500
TZNAME:EST
DTSTART:20281105T060000
END:STANDARD
BEGIN:DAYLIGHT
TZOFFSETFROM:-0500
TZOFFSETTO:-0400
TZNAME:EDT
DTSTART:20290311T070000
END:DAYLIGHT
BEGIN:STANDARD
TZOFFSETFROM:-0400
TZOFFSETTO:-0500
TZNAME:EST
DTSTART:20291104T060000
END:STANDARD
BEGIN:DAYLIGHT
TZOFFSETFROM:-0500
TZOFFSETTO:-0400
TZNAME:EDT
DTSTART:20300310T070000
END:DAYLIGHT
BEGIN:STANDARD
TZOFFSETFROM:-0400
TZOFFSETTO:-0500
TZNAME:EST
DTSTART:20301103T060000
END:STANDARD
BEGIN:DAYLIGHT
TZOFFSETFROM:-0500
TZOFFSETTO:-0400
TZNAME:EDT
DTSTART:20310309T070000
END:DAYLIGHT
BEGIN:STANDARD
TZOFFSETFROM:-0400
TZOFFSETTO:-0500
TZNAME:EST
DTSTART:20311102T060000
END:STANDARD
END:VTIMEZONE
BEGIN:VEVENT
DTSTART;TZID=America/New_York:20260717T173000
DTEND;TZID=America/New_York:20260719T210000
DTSTAMP:20260423T011501
CREATED:20250622T182406Z
LAST-MODIFIED:20251031T202957Z
UID:10001942-1784309400-1784494800@av8maps.com
SUMMARY:Annual Shiocton Fly-in (W34)
DESCRIPTION:Shiocton Airport Fly-in\nW7406 State Hwy. 54\, Shiocton\, WI 54170\nJuly 18-20\, 2025\nFriday\, Fish Fry in the Flyers Club hangar\, 4:30-8pm.\nSaturday\, plane rides 9am to dusk.\nSaturday afternoon and evening bands.\nFood (brats\, hamburgers\, fries\, onion rings) 10am to midnight.\nSunday\, plane rides 8am to dusk.\nSunday morning only – breakfast 7am to 11am\, Potato & wheat pancakes\, sausage\, eggs\, coffee\, juice\, milk.\nSunday afternoon band.\nLarge gun/cash/prize raffle at 5pm.\nFood (brats\, hamburgers\, fries\, onion rings) 11am to 8pm.
URL:https://av8maps.com/event/40th-annual-shiocton-fly-in/2026-07-17/
LOCATION:Shiocton Airport\, 7551 Park Ave\, Shiocton\, WI 54170\, WI\, United States
ATTACH;FMTTYPE=image/jpeg:https://av8maps.com/wp-content/uploads/2025/06/Schiocton-FLy-in-e1750616720111.jpg
GEO:44.4551753;-88.5625714
X-APPLE-STRUCTURED-LOCATION;VALUE=URI;X-ADDRESS=Shiocton Airport 7551 Park Ave Shiocton WI 54170 WI United States;X-APPLE-RADIUS=500;X-TITLE=7551 Park Ave\, Shiocton\, WI 54170:geo:-88.5625714,44.4551753
END:VEVENT
BEGIN:VEVENT
DTSTART;TZID=America/New_York:20270716T173000
DTEND;TZID=America/New_York:20270718T210000
DTSTAMP:20260423T011501
CREATED:20250622T182406Z
LAST-MODIFIED:20251031T202957Z
UID:10001943-1815759000-1815944400@av8maps.com
SUMMARY:Annual Shiocton Fly-in (W34)
DESCRIPTION:Shiocton Airport Fly-in\nW7406 State Hwy. 54\, Shiocton\, WI 54170\nJuly 18-20\, 2025\nFriday\, Fish Fry in the Flyers Club hangar\, 4:30-8pm.\nSaturday\, plane rides 9am to dusk.\nSaturday afternoon and evening bands.\nFood (brats\, hamburgers\, fries\, onion rings) 10am to midnight.\nSunday\, plane rides 8am to dusk.\nSunday morning only – breakfast 7am to 11am\, Potato & wheat pancakes\, sausage\, eggs\, coffee\, juice\, milk.\nSunday afternoon band.\nLarge gun/cash/prize raffle at 5pm.\nFood (brats\, hamburgers\, fries\, onion rings) 11am to 8pm.
URL:https://av8maps.com/event/40th-annual-shiocton-fly-in/2027-07-16/
LOCATION:Shiocton Airport\, 7551 Park Ave\, Shiocton\, WI 54170\, WI\, United States
ATTACH;FMTTYPE=image/jpeg:https://av8maps.com/wp-content/uploads/2025/06/Schiocton-FLy-in-e1750616720111.jpg
GEO:44.4551753;-88.5625714
X-APPLE-STRUCTURED-LOCATION;VALUE=URI;X-ADDRESS=Shiocton Airport 7551 Park Ave Shiocton WI 54170 WI United States;X-APPLE-RADIUS=500;X-TITLE=7551 Park Ave\, Shiocton\, WI 54170:geo:-88.5625714,44.4551753
END:VEVENT
BEGIN:VEVENT
DTSTART;TZID=America/New_York:20280721T173000
DTEND;TZID=America/New_York:20280723T210000
DTSTAMP:20260423T011501
CREATED:20250622T182406Z
LAST-MODIFIED:20251031T202957Z
UID:10001944-1847813400-1847998800@av8maps.com
SUMMARY:Annual Shiocton Fly-in (W34)
DESCRIPTION:Shiocton Airport Fly-in\nW7406 State Hwy. 54\, Shiocton\, WI 54170\nJuly 18-20\, 2025\nFriday\, Fish Fry in the Flyers Club hangar\, 4:30-8pm.\nSaturday\, plane rides 9am to dusk.\nSaturday afternoon and evening bands.\nFood (brats\, hamburgers\, fries\, onion rings) 10am to midnight.\nSunday\, plane rides 8am to dusk.\nSunday morning only – breakfast 7am to 11am\, Potato & wheat pancakes\, sausage\, eggs\, coffee\, juice\, milk.\nSunday afternoon band.\nLarge gun/cash/prize raffle at 5pm.\nFood (brats\, hamburgers\, fries\, onion rings) 11am to 8pm.
URL:https://av8maps.com/event/40th-annual-shiocton-fly-in/2028-07-21/
LOCATION:Shiocton Airport\, 7551 Park Ave\, Shiocton\, WI 54170\, WI\, United States
ATTACH;FMTTYPE=image/jpeg:https://av8maps.com/wp-content/uploads/2025/06/Schiocton-FLy-in-e1750616720111.jpg
GEO:44.4551753;-88.5625714
X-APPLE-STRUCTURED-LOCATION;VALUE=URI;X-ADDRESS=Shiocton Airport 7551 Park Ave Shiocton WI 54170 WI United States;X-APPLE-RADIUS=500;X-TITLE=7551 Park Ave\, Shiocton\, WI 54170:geo:-88.5625714,44.4551753
END:VEVENT
BEGIN:VEVENT
DTSTART;TZID=America/New_York:20290720T173000
DTEND;TZID=America/New_York:20290722T210000
DTSTAMP:20260423T011501
CREATED:20250622T182406Z
LAST-MODIFIED:20251031T202957Z
UID:10001945-1879263000-1879448400@av8maps.com
SUMMARY:Annual Shiocton Fly-in (W34)
DESCRIPTION:Shiocton Airport Fly-in\nW7406 State Hwy. 54\, Shiocton\, WI 54170\nJuly 18-20\, 2025\nFriday\, Fish Fry in the Flyers Club hangar\, 4:30-8pm.\nSaturday\, plane rides 9am to dusk.\nSaturday afternoon and evening bands.\nFood (brats\, hamburgers\, fries\, onion rings) 10am to midnight.\nSunday\, plane rides 8am to dusk.\nSunday morning only – breakfast 7am to 11am\, Potato & wheat pancakes\, sausage\, eggs\, coffee\, juice\, milk.\nSunday afternoon band.\nLarge gun/cash/prize raffle at 5pm.\nFood (brats\, hamburgers\, fries\, onion rings) 11am to 8pm.
URL:https://av8maps.com/event/40th-annual-shiocton-fly-in/2029-07-20/
LOCATION:Shiocton Airport\, 7551 Park Ave\, Shiocton\, WI 54170\, WI\, United States
ATTACH;FMTTYPE=image/jpeg:https://av8maps.com/wp-content/uploads/2025/06/Schiocton-FLy-in-e1750616720111.jpg
GEO:44.4551753;-88.5625714
X-APPLE-STRUCTURED-LOCATION;VALUE=URI;X-ADDRESS=Shiocton Airport 7551 Park Ave Shiocton WI 54170 WI United States;X-APPLE-RADIUS=500;X-TITLE=7551 Park Ave\, Shiocton\, WI 54170:geo:-88.5625714,44.4551753
END:VEVENT
BEGIN:VEVENT
DTSTART;TZID=America/New_York:20300719T173000
DTEND;TZID=America/New_York:20300721T210000
DTSTAMP:20260423T011501
CREATED:20250622T182406Z
LAST-MODIFIED:20251031T202957Z
UID:10001946-1910712600-1910898000@av8maps.com
SUMMARY:Annual Shiocton Fly-in (W34)
DESCRIPTION:Shiocton Airport Fly-in\nW7406 State Hwy. 54\, Shiocton\, WI 54170\nJuly 18-20\, 2025\nFriday\, Fish Fry in the Flyers Club hangar\, 4:30-8pm.\nSaturday\, plane rides 9am to dusk.\nSaturday afternoon and evening bands.\nFood (brats\, hamburgers\, fries\, onion rings) 10am to midnight.\nSunday\, plane rides 8am to dusk.\nSunday morning only – breakfast 7am to 11am\, Potato & wheat pancakes\, sausage\, eggs\, coffee\, juice\, milk.\nSunday afternoon band.\nLarge gun/cash/prize raffle at 5pm.\nFood (brats\, hamburgers\, fries\, onion rings) 11am to 8pm.
URL:https://av8maps.com/event/40th-annual-shiocton-fly-in/2030-07-19/
LOCATION:Shiocton Airport\, 7551 Park Ave\, Shiocton\, WI 54170\, WI\, United States
ATTACH;FMTTYPE=image/jpeg:https://av8maps.com/wp-content/uploads/2025/06/Schiocton-FLy-in-e1750616720111.jpg
GEO:44.4551753;-88.5625714
X-APPLE-STRUCTURED-LOCATION;VALUE=URI;X-ADDRESS=Shiocton Airport 7551 Park Ave Shiocton WI 54170 WI United States;X-APPLE-RADIUS=500;X-TITLE=7551 Park Ave\, Shiocton\, WI 54170:geo:-88.5625714,44.4551753
END:VEVENT
END:VCALENDAR