BEGIN:VCALENDAR
VERSION:2.0
PRODID:-//AV8MAPS.COM - ECPv6.15.20//NONSGML v1.0//EN
CALSCALE:GREGORIAN
METHOD:PUBLISH
X-WR-CALNAME:AV8MAPS.COM
X-ORIGINAL-URL:https://av8maps.com
X-WR-CALDESC:Events for AV8MAPS.COM
REFRESH-INTERVAL;VALUE=DURATION:PT1H
X-Robots-Tag:noindex
X-PUBLISHED-TTL:PT1H
BEGIN:VTIMEZONE
TZID:America/New_York
BEGIN:DAYLIGHT
TZOFFSETFROM:-0500
TZOFFSETTO:-0400
TZNAME:EDT
DTSTART:20250309T070000
END:DAYLIGHT
BEGIN:STANDARD
TZOFFSETFROM:-0400
TZOFFSETTO:-0500
TZNAME:EST
DTSTART:20251102T060000
END:STANDARD
BEGIN:DAYLIGHT
TZOFFSETFROM:-0500
TZOFFSETTO:-0400
TZNAME:EDT
DTSTART:20260308T070000
END:DAYLIGHT
BEGIN:STANDARD
TZOFFSETFROM:-0400
TZOFFSETTO:-0500
TZNAME:EST
DTSTART:20261101T060000
END:STANDARD
BEGIN:DAYLIGHT
TZOFFSETFROM:-0500
TZOFFSETTO:-0400
TZNAME:EDT
DTSTART:20270314T070000
END:DAYLIGHT
BEGIN:STANDARD
TZOFFSETFROM:-0400
TZOFFSETTO:-0500
TZNAME:EST
DTSTART:20271107T060000
END:STANDARD
BEGIN:DAYLIGHT
TZOFFSETFROM:-0500
TZOFFSETTO:-0400
TZNAME:EDT
DTSTART:20280312T070000
END:DAYLIGHT
BEGIN:STANDARD
TZOFFSETFROM:-0400
TZOFFSETTO:-0500
TZNAME:EST
DTSTART:20281105T060000
END:STANDARD
BEGIN:DAYLIGHT
TZOFFSETFROM:-0500
TZOFFSETTO:-0400
TZNAME:EDT
DTSTART:20290311T070000
END:DAYLIGHT
BEGIN:STANDARD
TZOFFSETFROM:-0400
TZOFFSETTO:-0500
TZNAME:EST
DTSTART:20291104T060000
END:STANDARD
BEGIN:DAYLIGHT
TZOFFSETFROM:-0500
TZOFFSETTO:-0400
TZNAME:EDT
DTSTART:20300310T070000
END:DAYLIGHT
BEGIN:STANDARD
TZOFFSETFROM:-0400
TZOFFSETTO:-0500
TZNAME:EST
DTSTART:20301103T060000
END:STANDARD
BEGIN:DAYLIGHT
TZOFFSETFROM:-0500
TZOFFSETTO:-0400
TZNAME:EDT
DTSTART:20310309T070000
END:DAYLIGHT
BEGIN:STANDARD
TZOFFSETFROM:-0400
TZOFFSETTO:-0500
TZNAME:EST
DTSTART:20311102T060000
END:STANDARD
END:VTIMEZONE
BEGIN:VEVENT
DTSTART;TZID=America/New_York:20260828T000000
DTEND;TZID=America/New_York:20260830T235959
DTSTAMP:20260423T011528
CREATED:20250623T214832Z
LAST-MODIFIED:20251031T203137Z
UID:10001947-1787875200-1788134399@av8maps.com
SUMMARY:Annual Fly-In (KHSI)
DESCRIPTION:Mark your calendars!!!! August kicks off the Annual NEAAA Flyin!!!
URL:https://av8maps.com/event/44th-annual-fly-in-khsi/2026-08-28/
LOCATION:Hastings Municipal Airport\, 3300 W 12th St\, Hastings\, NE 68901
ATTACH;FMTTYPE=image/jpeg:https://av8maps.com/wp-content/uploads/2025/06/Hastings-Municipal-NE-1-e1750715284348.jpg
GEO:40.5974454;-98.426095
X-APPLE-STRUCTURED-LOCATION;VALUE=URI;X-ADDRESS=Hastings Municipal Airport 3300 W 12th St Hastings NE 68901;X-APPLE-RADIUS=500;X-TITLE=3300 W 12th St\, Hastings\, NE 68901:geo:-98.426095,40.5974454
END:VEVENT
BEGIN:VEVENT
DTSTART;TZID=America/New_York:20270827T000000
DTEND;TZID=America/New_York:20270829T235959
DTSTAMP:20260423T011528
CREATED:20250623T214832Z
LAST-MODIFIED:20251031T203137Z
UID:10001948-1819324800-1819583999@av8maps.com
SUMMARY:Annual Fly-In (KHSI)
DESCRIPTION:Mark your calendars!!!! August kicks off the Annual NEAAA Flyin!!!
URL:https://av8maps.com/event/44th-annual-fly-in-khsi/2027-08-27/
LOCATION:Hastings Municipal Airport\, 3300 W 12th St\, Hastings\, NE 68901
ATTACH;FMTTYPE=image/jpeg:https://av8maps.com/wp-content/uploads/2025/06/Hastings-Municipal-NE-1-e1750715284348.jpg
GEO:40.5974454;-98.426095
X-APPLE-STRUCTURED-LOCATION;VALUE=URI;X-ADDRESS=Hastings Municipal Airport 3300 W 12th St Hastings NE 68901;X-APPLE-RADIUS=500;X-TITLE=3300 W 12th St\, Hastings\, NE 68901:geo:-98.426095,40.5974454
END:VEVENT
BEGIN:VEVENT
DTSTART;TZID=America/New_York:20280825T000000
DTEND;TZID=America/New_York:20280827T235959
DTSTAMP:20260423T011528
CREATED:20250623T214832Z
LAST-MODIFIED:20251031T203137Z
UID:10001949-1850774400-1851033599@av8maps.com
SUMMARY:Annual Fly-In (KHSI)
DESCRIPTION:Mark your calendars!!!! August kicks off the Annual NEAAA Flyin!!!
URL:https://av8maps.com/event/44th-annual-fly-in-khsi/2028-08-25/
LOCATION:Hastings Municipal Airport\, 3300 W 12th St\, Hastings\, NE 68901
ATTACH;FMTTYPE=image/jpeg:https://av8maps.com/wp-content/uploads/2025/06/Hastings-Municipal-NE-1-e1750715284348.jpg
GEO:40.5974454;-98.426095
X-APPLE-STRUCTURED-LOCATION;VALUE=URI;X-ADDRESS=Hastings Municipal Airport 3300 W 12th St Hastings NE 68901;X-APPLE-RADIUS=500;X-TITLE=3300 W 12th St\, Hastings\, NE 68901:geo:-98.426095,40.5974454
END:VEVENT
BEGIN:VEVENT
DTSTART;TZID=America/New_York:20290824T000000
DTEND;TZID=America/New_York:20290826T235959
DTSTAMP:20260423T011528
CREATED:20250623T214832Z
LAST-MODIFIED:20251031T203137Z
UID:10001950-1882224000-1882483199@av8maps.com
SUMMARY:Annual Fly-In (KHSI)
DESCRIPTION:Mark your calendars!!!! August kicks off the Annual NEAAA Flyin!!!
URL:https://av8maps.com/event/44th-annual-fly-in-khsi/2029-08-24/
LOCATION:Hastings Municipal Airport\, 3300 W 12th St\, Hastings\, NE 68901
ATTACH;FMTTYPE=image/jpeg:https://av8maps.com/wp-content/uploads/2025/06/Hastings-Municipal-NE-1-e1750715284348.jpg
GEO:40.5974454;-98.426095
X-APPLE-STRUCTURED-LOCATION;VALUE=URI;X-ADDRESS=Hastings Municipal Airport 3300 W 12th St Hastings NE 68901;X-APPLE-RADIUS=500;X-TITLE=3300 W 12th St\, Hastings\, NE 68901:geo:-98.426095,40.5974454
END:VEVENT
BEGIN:VEVENT
DTSTART;TZID=America/New_York:20300823T000000
DTEND;TZID=America/New_York:20300825T235959
DTSTAMP:20260423T011528
CREATED:20250623T214832Z
LAST-MODIFIED:20251031T203137Z
UID:10001951-1913673600-1913932799@av8maps.com
SUMMARY:Annual Fly-In (KHSI)
DESCRIPTION:Mark your calendars!!!! August kicks off the Annual NEAAA Flyin!!!
URL:https://av8maps.com/event/44th-annual-fly-in-khsi/2030-08-23/
LOCATION:Hastings Municipal Airport\, 3300 W 12th St\, Hastings\, NE 68901
ATTACH;FMTTYPE=image/jpeg:https://av8maps.com/wp-content/uploads/2025/06/Hastings-Municipal-NE-1-e1750715284348.jpg
GEO:40.5974454;-98.426095
X-APPLE-STRUCTURED-LOCATION;VALUE=URI;X-ADDRESS=Hastings Municipal Airport 3300 W 12th St Hastings NE 68901;X-APPLE-RADIUS=500;X-TITLE=3300 W 12th St\, Hastings\, NE 68901:geo:-98.426095,40.5974454
END:VEVENT
END:VCALENDAR