BEGIN:VCALENDAR
VERSION:2.0
PRODID:-//AV8MAPS.COM - ECPv6.15.20//NONSGML v1.0//EN
CALSCALE:GREGORIAN
METHOD:PUBLISH
X-WR-CALNAME:AV8MAPS.COM
X-ORIGINAL-URL:https://av8maps.com
X-WR-CALDESC:Events for AV8MAPS.COM
REFRESH-INTERVAL;VALUE=DURATION:PT1H
X-Robots-Tag:noindex
X-PUBLISHED-TTL:PT1H
BEGIN:VTIMEZONE
TZID:America/New_York
BEGIN:DAYLIGHT
TZOFFSETFROM:-0500
TZOFFSETTO:-0400
TZNAME:EDT
DTSTART:20250309T070000
END:DAYLIGHT
BEGIN:STANDARD
TZOFFSETFROM:-0400
TZOFFSETTO:-0500
TZNAME:EST
DTSTART:20251102T060000
END:STANDARD
BEGIN:DAYLIGHT
TZOFFSETFROM:-0500
TZOFFSETTO:-0400
TZNAME:EDT
DTSTART:20260308T070000
END:DAYLIGHT
BEGIN:STANDARD
TZOFFSETFROM:-0400
TZOFFSETTO:-0500
TZNAME:EST
DTSTART:20261101T060000
END:STANDARD
BEGIN:DAYLIGHT
TZOFFSETFROM:-0500
TZOFFSETTO:-0400
TZNAME:EDT
DTSTART:20270314T070000
END:DAYLIGHT
BEGIN:STANDARD
TZOFFSETFROM:-0400
TZOFFSETTO:-0500
TZNAME:EST
DTSTART:20271107T060000
END:STANDARD
BEGIN:DAYLIGHT
TZOFFSETFROM:-0500
TZOFFSETTO:-0400
TZNAME:EDT
DTSTART:20280312T070000
END:DAYLIGHT
BEGIN:STANDARD
TZOFFSETFROM:-0400
TZOFFSETTO:-0500
TZNAME:EST
DTSTART:20281105T060000
END:STANDARD
BEGIN:DAYLIGHT
TZOFFSETFROM:-0500
TZOFFSETTO:-0400
TZNAME:EDT
DTSTART:20290311T070000
END:DAYLIGHT
BEGIN:STANDARD
TZOFFSETFROM:-0400
TZOFFSETTO:-0500
TZNAME:EST
DTSTART:20291104T060000
END:STANDARD
BEGIN:DAYLIGHT
TZOFFSETFROM:-0500
TZOFFSETTO:-0400
TZNAME:EDT
DTSTART:20300310T070000
END:DAYLIGHT
BEGIN:STANDARD
TZOFFSETFROM:-0400
TZOFFSETTO:-0500
TZNAME:EST
DTSTART:20301103T060000
END:STANDARD
BEGIN:DAYLIGHT
TZOFFSETFROM:-0500
TZOFFSETTO:-0400
TZNAME:EDT
DTSTART:20310309T070000
END:DAYLIGHT
BEGIN:STANDARD
TZOFFSETFROM:-0400
TZOFFSETTO:-0500
TZNAME:EST
DTSTART:20311102T060000
END:STANDARD
END:VTIMEZONE
BEGIN:VEVENT
DTSTART;TZID=America/New_York:20260703T080000
DTEND;TZID=America/New_York:20260703T170000
DTSTAMP:20260423T165311
CREATED:20250625T135159Z
LAST-MODIFIED:20251031T210217Z
UID:10001978-1783065600-1783098000@av8maps.com
SUMMARY:Grand Oak Plantation Annual Fly-in (1GA6)
DESCRIPTION:The annual fly-in will be on a Friday this year\, the perfect day of the week for a fly-in. We are hoping to have some Paramotors visit this year. They fascinate me and seem to be getting more popular. I have not priced any\, but I would predict that they cost less than a new airplane. Plenty of camping and parking space with WC and showers available. I will add more information as it becomes available. \nDue to a vast number of spam calls I am quite difficult to contact by phone\, best to text with your name and number\, it only rings if you are on my contact list.\nLooking forward to a great fly-in.\nLife is a barrel of fun.\nKen Andrew\n229 883-4400\n229 407-0200 \nCTAF:  122.8 \n 
URL:https://av8maps.com/event/grand-oak-plantation-annual-july-4th-fly-in-1ga6/2026-07-03/
LOCATION:Grand Oaks Plantation\, 2134 D.E. SHORT RD. DAWSON\, GA 39842
ATTACH;FMTTYPE=image/jpeg:https://av8maps.com/wp-content/uploads/2025/06/IMG_9754-e1750886019377.jpeg
GEO:31.726139;-84.309171
X-APPLE-STRUCTURED-LOCATION;VALUE=URI;X-ADDRESS=Grand Oaks Plantation 2134 D.E. SHORT RD. DAWSON GA 39842;X-APPLE-RADIUS=500;X-TITLE=2134 D.E. SHORT RD. DAWSON\, GA 39842:geo:-84.309171,31.726139
END:VEVENT
BEGIN:VEVENT
DTSTART;TZID=America/New_York:20270702T080000
DTEND;TZID=America/New_York:20270702T170000
DTSTAMP:20260423T165311
CREATED:20250625T135159Z
LAST-MODIFIED:20251031T210217Z
UID:10001979-1814515200-1814547600@av8maps.com
SUMMARY:Grand Oak Plantation Annual Fly-in (1GA6)
DESCRIPTION:The annual fly-in will be on a Friday this year\, the perfect day of the week for a fly-in. We are hoping to have some Paramotors visit this year. They fascinate me and seem to be getting more popular. I have not priced any\, but I would predict that they cost less than a new airplane. Plenty of camping and parking space with WC and showers available. I will add more information as it becomes available. \nDue to a vast number of spam calls I am quite difficult to contact by phone\, best to text with your name and number\, it only rings if you are on my contact list.\nLooking forward to a great fly-in.\nLife is a barrel of fun.\nKen Andrew\n229 883-4400\n229 407-0200 \nCTAF:  122.8 \n 
URL:https://av8maps.com/event/grand-oak-plantation-annual-july-4th-fly-in-1ga6/2027-07-02/
LOCATION:Grand Oaks Plantation\, 2134 D.E. SHORT RD. DAWSON\, GA 39842
ATTACH;FMTTYPE=image/jpeg:https://av8maps.com/wp-content/uploads/2025/06/IMG_9754-e1750886019377.jpeg
GEO:31.726139;-84.309171
X-APPLE-STRUCTURED-LOCATION;VALUE=URI;X-ADDRESS=Grand Oaks Plantation 2134 D.E. SHORT RD. DAWSON GA 39842;X-APPLE-RADIUS=500;X-TITLE=2134 D.E. SHORT RD. DAWSON\, GA 39842:geo:-84.309171,31.726139
END:VEVENT
BEGIN:VEVENT
DTSTART;TZID=America/New_York:20280707T080000
DTEND;TZID=America/New_York:20280707T170000
DTSTAMP:20260423T165311
CREATED:20250625T135159Z
LAST-MODIFIED:20251031T210217Z
UID:10001980-1846569600-1846602000@av8maps.com
SUMMARY:Grand Oak Plantation Annual Fly-in (1GA6)
DESCRIPTION:The annual fly-in will be on a Friday this year\, the perfect day of the week for a fly-in. We are hoping to have some Paramotors visit this year. They fascinate me and seem to be getting more popular. I have not priced any\, but I would predict that they cost less than a new airplane. Plenty of camping and parking space with WC and showers available. I will add more information as it becomes available. \nDue to a vast number of spam calls I am quite difficult to contact by phone\, best to text with your name and number\, it only rings if you are on my contact list.\nLooking forward to a great fly-in.\nLife is a barrel of fun.\nKen Andrew\n229 883-4400\n229 407-0200 \nCTAF:  122.8 \n 
URL:https://av8maps.com/event/grand-oak-plantation-annual-july-4th-fly-in-1ga6/2028-07-07/
LOCATION:Grand Oaks Plantation\, 2134 D.E. SHORT RD. DAWSON\, GA 39842
ATTACH;FMTTYPE=image/jpeg:https://av8maps.com/wp-content/uploads/2025/06/IMG_9754-e1750886019377.jpeg
GEO:31.726139;-84.309171
X-APPLE-STRUCTURED-LOCATION;VALUE=URI;X-ADDRESS=Grand Oaks Plantation 2134 D.E. SHORT RD. DAWSON GA 39842;X-APPLE-RADIUS=500;X-TITLE=2134 D.E. SHORT RD. DAWSON\, GA 39842:geo:-84.309171,31.726139
END:VEVENT
BEGIN:VEVENT
DTSTART;TZID=America/New_York:20290706T080000
DTEND;TZID=America/New_York:20290706T170000
DTSTAMP:20260423T165311
CREATED:20250625T135159Z
LAST-MODIFIED:20251031T210217Z
UID:10001981-1878019200-1878051600@av8maps.com
SUMMARY:Grand Oak Plantation Annual Fly-in (1GA6)
DESCRIPTION:The annual fly-in will be on a Friday this year\, the perfect day of the week for a fly-in. We are hoping to have some Paramotors visit this year. They fascinate me and seem to be getting more popular. I have not priced any\, but I would predict that they cost less than a new airplane. Plenty of camping and parking space with WC and showers available. I will add more information as it becomes available. \nDue to a vast number of spam calls I am quite difficult to contact by phone\, best to text with your name and number\, it only rings if you are on my contact list.\nLooking forward to a great fly-in.\nLife is a barrel of fun.\nKen Andrew\n229 883-4400\n229 407-0200 \nCTAF:  122.8 \n 
URL:https://av8maps.com/event/grand-oak-plantation-annual-july-4th-fly-in-1ga6/2029-07-06/
LOCATION:Grand Oaks Plantation\, 2134 D.E. SHORT RD. DAWSON\, GA 39842
ATTACH;FMTTYPE=image/jpeg:https://av8maps.com/wp-content/uploads/2025/06/IMG_9754-e1750886019377.jpeg
GEO:31.726139;-84.309171
X-APPLE-STRUCTURED-LOCATION;VALUE=URI;X-ADDRESS=Grand Oaks Plantation 2134 D.E. SHORT RD. DAWSON GA 39842;X-APPLE-RADIUS=500;X-TITLE=2134 D.E. SHORT RD. DAWSON\, GA 39842:geo:-84.309171,31.726139
END:VEVENT
BEGIN:VEVENT
DTSTART;TZID=America/New_York:20300705T080000
DTEND;TZID=America/New_York:20300705T170000
DTSTAMP:20260423T165311
CREATED:20250625T135159Z
LAST-MODIFIED:20251031T210217Z
UID:10001982-1909468800-1909501200@av8maps.com
SUMMARY:Grand Oak Plantation Annual Fly-in (1GA6)
DESCRIPTION:The annual fly-in will be on a Friday this year\, the perfect day of the week for a fly-in. We are hoping to have some Paramotors visit this year. They fascinate me and seem to be getting more popular. I have not priced any\, but I would predict that they cost less than a new airplane. Plenty of camping and parking space with WC and showers available. I will add more information as it becomes available. \nDue to a vast number of spam calls I am quite difficult to contact by phone\, best to text with your name and number\, it only rings if you are on my contact list.\nLooking forward to a great fly-in.\nLife is a barrel of fun.\nKen Andrew\n229 883-4400\n229 407-0200 \nCTAF:  122.8 \n 
URL:https://av8maps.com/event/grand-oak-plantation-annual-july-4th-fly-in-1ga6/2030-07-05/
LOCATION:Grand Oaks Plantation\, 2134 D.E. SHORT RD. DAWSON\, GA 39842
ATTACH;FMTTYPE=image/jpeg:https://av8maps.com/wp-content/uploads/2025/06/IMG_9754-e1750886019377.jpeg
GEO:31.726139;-84.309171
X-APPLE-STRUCTURED-LOCATION;VALUE=URI;X-ADDRESS=Grand Oaks Plantation 2134 D.E. SHORT RD. DAWSON GA 39842;X-APPLE-RADIUS=500;X-TITLE=2134 D.E. SHORT RD. DAWSON\, GA 39842:geo:-84.309171,31.726139
END:VEVENT
END:VCALENDAR