BEGIN:VCALENDAR
VERSION:2.0
PRODID:-//AV8MAPS.COM - ECPv6.15.20//NONSGML v1.0//EN
CALSCALE:GREGORIAN
METHOD:PUBLISH
X-WR-CALNAME:AV8MAPS.COM
X-ORIGINAL-URL:https://av8maps.com
X-WR-CALDESC:Events for AV8MAPS.COM
REFRESH-INTERVAL;VALUE=DURATION:PT1H
X-Robots-Tag:noindex
X-PUBLISHED-TTL:PT1H
BEGIN:VTIMEZONE
TZID:America/New_York
BEGIN:DAYLIGHT
TZOFFSETFROM:-0500
TZOFFSETTO:-0400
TZNAME:EDT
DTSTART:20250309T070000
END:DAYLIGHT
BEGIN:STANDARD
TZOFFSETFROM:-0400
TZOFFSETTO:-0500
TZNAME:EST
DTSTART:20251102T060000
END:STANDARD
BEGIN:DAYLIGHT
TZOFFSETFROM:-0500
TZOFFSETTO:-0400
TZNAME:EDT
DTSTART:20260308T070000
END:DAYLIGHT
BEGIN:STANDARD
TZOFFSETFROM:-0400
TZOFFSETTO:-0500
TZNAME:EST
DTSTART:20261101T060000
END:STANDARD
BEGIN:DAYLIGHT
TZOFFSETFROM:-0500
TZOFFSETTO:-0400
TZNAME:EDT
DTSTART:20270314T070000
END:DAYLIGHT
BEGIN:STANDARD
TZOFFSETFROM:-0400
TZOFFSETTO:-0500
TZNAME:EST
DTSTART:20271107T060000
END:STANDARD
BEGIN:DAYLIGHT
TZOFFSETFROM:-0500
TZOFFSETTO:-0400
TZNAME:EDT
DTSTART:20280312T070000
END:DAYLIGHT
BEGIN:STANDARD
TZOFFSETFROM:-0400
TZOFFSETTO:-0500
TZNAME:EST
DTSTART:20281105T060000
END:STANDARD
BEGIN:DAYLIGHT
TZOFFSETFROM:-0500
TZOFFSETTO:-0400
TZNAME:EDT
DTSTART:20290311T070000
END:DAYLIGHT
BEGIN:STANDARD
TZOFFSETFROM:-0400
TZOFFSETTO:-0500
TZNAME:EST
DTSTART:20291104T060000
END:STANDARD
BEGIN:DAYLIGHT
TZOFFSETFROM:-0500
TZOFFSETTO:-0400
TZNAME:EDT
DTSTART:20300310T070000
END:DAYLIGHT
BEGIN:STANDARD
TZOFFSETFROM:-0400
TZOFFSETTO:-0500
TZNAME:EST
DTSTART:20301103T060000
END:STANDARD
BEGIN:DAYLIGHT
TZOFFSETFROM:-0500
TZOFFSETTO:-0400
TZNAME:EDT
DTSTART:20310309T070000
END:DAYLIGHT
BEGIN:STANDARD
TZOFFSETFROM:-0400
TZOFFSETTO:-0500
TZNAME:EST
DTSTART:20311102T060000
END:STANDARD
END:VTIMEZONE
BEGIN:VEVENT
DTSTART;TZID=America/New_York:20260704T070000
DTEND;TZID=America/New_York:20260704T170000
DTSTAMP:20260423T164816
CREATED:20250627T002927Z
LAST-MODIFIED:20251031T210440Z
UID:10001988-1783148400-1783184400@av8maps.com
SUMMARY:Leadore all volunteer EMT annual Fundraiser (U00)
DESCRIPTION:Support the Leadore all volunteer EMT annual fund raiser.\nThese are the people that are there for us when things go wrong!\nAlso check out the improvements made so far this year to U00.
URL:https://av8maps.com/event/leadore-all-volunteer-emt-annual-fundraiser-u00/2026-07-04/
LOCATION:Leadore Airport\, 301 Galena St\, Leadore\, ID 83464
ATTACH;FMTTYPE=image/jpeg:https://av8maps.com/wp-content/uploads/2025/06/City-of-Leadore.jpg
GEO:44.6778158;-113.358612
X-APPLE-STRUCTURED-LOCATION;VALUE=URI;X-ADDRESS=Leadore Airport 301 Galena St Leadore ID 83464;X-APPLE-RADIUS=500;X-TITLE=301 Galena St\, Leadore\, ID 83464:geo:-113.358612,44.6778158
END:VEVENT
BEGIN:VEVENT
DTSTART;TZID=America/New_York:20270703T070000
DTEND;TZID=America/New_York:20270703T170000
DTSTAMP:20260423T164816
CREATED:20250627T002927Z
LAST-MODIFIED:20251031T210440Z
UID:10001989-1814598000-1814634000@av8maps.com
SUMMARY:Leadore all volunteer EMT annual Fundraiser (U00)
DESCRIPTION:Support the Leadore all volunteer EMT annual fund raiser.\nThese are the people that are there for us when things go wrong!\nAlso check out the improvements made so far this year to U00.
URL:https://av8maps.com/event/leadore-all-volunteer-emt-annual-fundraiser-u00/2027-07-03/
LOCATION:Leadore Airport\, 301 Galena St\, Leadore\, ID 83464
ATTACH;FMTTYPE=image/jpeg:https://av8maps.com/wp-content/uploads/2025/06/City-of-Leadore.jpg
GEO:44.6778158;-113.358612
X-APPLE-STRUCTURED-LOCATION;VALUE=URI;X-ADDRESS=Leadore Airport 301 Galena St Leadore ID 83464;X-APPLE-RADIUS=500;X-TITLE=301 Galena St\, Leadore\, ID 83464:geo:-113.358612,44.6778158
END:VEVENT
BEGIN:VEVENT
DTSTART;TZID=America/New_York:20280701T070000
DTEND;TZID=America/New_York:20280701T170000
DTSTAMP:20260423T164816
CREATED:20250627T002927Z
LAST-MODIFIED:20251031T210440Z
UID:10001990-1846047600-1846083600@av8maps.com
SUMMARY:Leadore all volunteer EMT annual Fundraiser (U00)
DESCRIPTION:Support the Leadore all volunteer EMT annual fund raiser.\nThese are the people that are there for us when things go wrong!\nAlso check out the improvements made so far this year to U00.
URL:https://av8maps.com/event/leadore-all-volunteer-emt-annual-fundraiser-u00/2028-07-01/
LOCATION:Leadore Airport\, 301 Galena St\, Leadore\, ID 83464
ATTACH;FMTTYPE=image/jpeg:https://av8maps.com/wp-content/uploads/2025/06/City-of-Leadore.jpg
GEO:44.6778158;-113.358612
X-APPLE-STRUCTURED-LOCATION;VALUE=URI;X-ADDRESS=Leadore Airport 301 Galena St Leadore ID 83464;X-APPLE-RADIUS=500;X-TITLE=301 Galena St\, Leadore\, ID 83464:geo:-113.358612,44.6778158
END:VEVENT
BEGIN:VEVENT
DTSTART;TZID=America/New_York:20290707T070000
DTEND;TZID=America/New_York:20290707T170000
DTSTAMP:20260423T164817
CREATED:20250627T002927Z
LAST-MODIFIED:20251031T210440Z
UID:10001991-1878102000-1878138000@av8maps.com
SUMMARY:Leadore all volunteer EMT annual Fundraiser (U00)
DESCRIPTION:Support the Leadore all volunteer EMT annual fund raiser.\nThese are the people that are there for us when things go wrong!\nAlso check out the improvements made so far this year to U00.
URL:https://av8maps.com/event/leadore-all-volunteer-emt-annual-fundraiser-u00/2029-07-07/
LOCATION:Leadore Airport\, 301 Galena St\, Leadore\, ID 83464
ATTACH;FMTTYPE=image/jpeg:https://av8maps.com/wp-content/uploads/2025/06/City-of-Leadore.jpg
GEO:44.6778158;-113.358612
X-APPLE-STRUCTURED-LOCATION;VALUE=URI;X-ADDRESS=Leadore Airport 301 Galena St Leadore ID 83464;X-APPLE-RADIUS=500;X-TITLE=301 Galena St\, Leadore\, ID 83464:geo:-113.358612,44.6778158
END:VEVENT
BEGIN:VEVENT
DTSTART;TZID=America/New_York:20300706T070000
DTEND;TZID=America/New_York:20300706T170000
DTSTAMP:20260423T164817
CREATED:20250627T002927Z
LAST-MODIFIED:20251031T210440Z
UID:10001992-1909551600-1909587600@av8maps.com
SUMMARY:Leadore all volunteer EMT annual Fundraiser (U00)
DESCRIPTION:Support the Leadore all volunteer EMT annual fund raiser.\nThese are the people that are there for us when things go wrong!\nAlso check out the improvements made so far this year to U00.
URL:https://av8maps.com/event/leadore-all-volunteer-emt-annual-fundraiser-u00/2030-07-06/
LOCATION:Leadore Airport\, 301 Galena St\, Leadore\, ID 83464
ATTACH;FMTTYPE=image/jpeg:https://av8maps.com/wp-content/uploads/2025/06/City-of-Leadore.jpg
GEO:44.6778158;-113.358612
X-APPLE-STRUCTURED-LOCATION;VALUE=URI;X-ADDRESS=Leadore Airport 301 Galena St Leadore ID 83464;X-APPLE-RADIUS=500;X-TITLE=301 Galena St\, Leadore\, ID 83464:geo:-113.358612,44.6778158
END:VEVENT
END:VCALENDAR