BEGIN:VCALENDAR
VERSION:2.0
PRODID:-//AV8MAPS.COM - ECPv6.15.20//NONSGML v1.0//EN
CALSCALE:GREGORIAN
METHOD:PUBLISH
X-WR-CALNAME:AV8MAPS.COM
X-ORIGINAL-URL:https://av8maps.com
X-WR-CALDESC:Events for AV8MAPS.COM
REFRESH-INTERVAL;VALUE=DURATION:PT1H
X-Robots-Tag:noindex
X-PUBLISHED-TTL:PT1H
BEGIN:VTIMEZONE
TZID:America/New_York
BEGIN:DAYLIGHT
TZOFFSETFROM:-0500
TZOFFSETTO:-0400
TZNAME:EDT
DTSTART:20250309T070000
END:DAYLIGHT
BEGIN:STANDARD
TZOFFSETFROM:-0400
TZOFFSETTO:-0500
TZNAME:EST
DTSTART:20251102T060000
END:STANDARD
BEGIN:DAYLIGHT
TZOFFSETFROM:-0500
TZOFFSETTO:-0400
TZNAME:EDT
DTSTART:20260308T070000
END:DAYLIGHT
BEGIN:STANDARD
TZOFFSETFROM:-0400
TZOFFSETTO:-0500
TZNAME:EST
DTSTART:20261101T060000
END:STANDARD
BEGIN:DAYLIGHT
TZOFFSETFROM:-0500
TZOFFSETTO:-0400
TZNAME:EDT
DTSTART:20270314T070000
END:DAYLIGHT
BEGIN:STANDARD
TZOFFSETFROM:-0400
TZOFFSETTO:-0500
TZNAME:EST
DTSTART:20271107T060000
END:STANDARD
BEGIN:DAYLIGHT
TZOFFSETFROM:-0500
TZOFFSETTO:-0400
TZNAME:EDT
DTSTART:20280312T070000
END:DAYLIGHT
BEGIN:STANDARD
TZOFFSETFROM:-0400
TZOFFSETTO:-0500
TZNAME:EST
DTSTART:20281105T060000
END:STANDARD
BEGIN:DAYLIGHT
TZOFFSETFROM:-0500
TZOFFSETTO:-0400
TZNAME:EDT
DTSTART:20290311T070000
END:DAYLIGHT
BEGIN:STANDARD
TZOFFSETFROM:-0400
TZOFFSETTO:-0500
TZNAME:EST
DTSTART:20291104T060000
END:STANDARD
BEGIN:DAYLIGHT
TZOFFSETFROM:-0500
TZOFFSETTO:-0400
TZNAME:EDT
DTSTART:20300310T070000
END:DAYLIGHT
BEGIN:STANDARD
TZOFFSETFROM:-0400
TZOFFSETTO:-0500
TZNAME:EST
DTSTART:20301103T060000
END:STANDARD
BEGIN:DAYLIGHT
TZOFFSETFROM:-0500
TZOFFSETTO:-0400
TZNAME:EDT
DTSTART:20310309T070000
END:DAYLIGHT
BEGIN:STANDARD
TZOFFSETFROM:-0400
TZOFFSETTO:-0500
TZNAME:EST
DTSTART:20311102T060000
END:STANDARD
END:VTIMEZONE
BEGIN:VEVENT
DTSTART;TZID=America/New_York:20260809T070000
DTEND;TZID=America/New_York:20260809T120000
DTSTAMP:20260423T062453
CREATED:20250627T143013Z
LAST-MODIFIED:20251031T212520Z
UID:10001997-1786258800-1786276800@av8maps.com
SUMMARY:Annual Fly in /Car Show 2025 (KLWA)
DESCRIPTION:Join us for the annual Rotary Fly In /Car Show and Blueberry Pancake Breakfast 🥞 😀\nCar Show Entry $10 (Day of only\, no online payments)\nEntry 7a.m to noon.\nTOP12 awards (Custom made)\nDash Plaques\n***Awards to be handed out at 10:30 a.m (to vehicle owners) no announcements to be made.***
URL:https://av8maps.com/event/fly-in-car-show-2025/2026-08-09/
LOCATION:South Haven Regional Airport\, 73020 Co Rd 380\, South Haven\, MI 49090
ATTACH;FMTTYPE=image/jpeg:https://av8maps.com/wp-content/uploads/2025/06/South-Haven-Airport-FLy-in-2-e1753045398169.jpg
GEO:42.3460495;-86.2568114
X-APPLE-STRUCTURED-LOCATION;VALUE=URI;X-ADDRESS=South Haven Regional Airport 73020 Co Rd 380 South Haven MI 49090;X-APPLE-RADIUS=500;X-TITLE=73020 Co Rd 380\, South Haven\, MI 49090:geo:-86.2568114,42.3460495
END:VEVENT
BEGIN:VEVENT
DTSTART;TZID=America/New_York:20270808T070000
DTEND;TZID=America/New_York:20270808T120000
DTSTAMP:20260423T062453
CREATED:20250627T143013Z
LAST-MODIFIED:20251031T212520Z
UID:10001998-1817708400-1817726400@av8maps.com
SUMMARY:Annual Fly in /Car Show 2025 (KLWA)
DESCRIPTION:Join us for the annual Rotary Fly In /Car Show and Blueberry Pancake Breakfast 🥞 😀\nCar Show Entry $10 (Day of only\, no online payments)\nEntry 7a.m to noon.\nTOP12 awards (Custom made)\nDash Plaques\n***Awards to be handed out at 10:30 a.m (to vehicle owners) no announcements to be made.***
URL:https://av8maps.com/event/fly-in-car-show-2025/2027-08-08/
LOCATION:South Haven Regional Airport\, 73020 Co Rd 380\, South Haven\, MI 49090
ATTACH;FMTTYPE=image/jpeg:https://av8maps.com/wp-content/uploads/2025/06/South-Haven-Airport-FLy-in-2-e1753045398169.jpg
GEO:42.3460495;-86.2568114
X-APPLE-STRUCTURED-LOCATION;VALUE=URI;X-ADDRESS=South Haven Regional Airport 73020 Co Rd 380 South Haven MI 49090;X-APPLE-RADIUS=500;X-TITLE=73020 Co Rd 380\, South Haven\, MI 49090:geo:-86.2568114,42.3460495
END:VEVENT
BEGIN:VEVENT
DTSTART;TZID=America/New_York:20280813T070000
DTEND;TZID=America/New_York:20280813T120000
DTSTAMP:20260423T062453
CREATED:20250627T143013Z
LAST-MODIFIED:20251031T212520Z
UID:10001999-1849762800-1849780800@av8maps.com
SUMMARY:Annual Fly in /Car Show 2025 (KLWA)
DESCRIPTION:Join us for the annual Rotary Fly In /Car Show and Blueberry Pancake Breakfast 🥞 😀\nCar Show Entry $10 (Day of only\, no online payments)\nEntry 7a.m to noon.\nTOP12 awards (Custom made)\nDash Plaques\n***Awards to be handed out at 10:30 a.m (to vehicle owners) no announcements to be made.***
URL:https://av8maps.com/event/fly-in-car-show-2025/2028-08-13/
LOCATION:South Haven Regional Airport\, 73020 Co Rd 380\, South Haven\, MI 49090
ATTACH;FMTTYPE=image/jpeg:https://av8maps.com/wp-content/uploads/2025/06/South-Haven-Airport-FLy-in-2-e1753045398169.jpg
GEO:42.3460495;-86.2568114
X-APPLE-STRUCTURED-LOCATION;VALUE=URI;X-ADDRESS=South Haven Regional Airport 73020 Co Rd 380 South Haven MI 49090;X-APPLE-RADIUS=500;X-TITLE=73020 Co Rd 380\, South Haven\, MI 49090:geo:-86.2568114,42.3460495
END:VEVENT
BEGIN:VEVENT
DTSTART;TZID=America/New_York:20290812T070000
DTEND;TZID=America/New_York:20290812T120000
DTSTAMP:20260423T062453
CREATED:20250627T143013Z
LAST-MODIFIED:20251031T212520Z
UID:10002000-1881212400-1881230400@av8maps.com
SUMMARY:Annual Fly in /Car Show 2025 (KLWA)
DESCRIPTION:Join us for the annual Rotary Fly In /Car Show and Blueberry Pancake Breakfast 🥞 😀\nCar Show Entry $10 (Day of only\, no online payments)\nEntry 7a.m to noon.\nTOP12 awards (Custom made)\nDash Plaques\n***Awards to be handed out at 10:30 a.m (to vehicle owners) no announcements to be made.***
URL:https://av8maps.com/event/fly-in-car-show-2025/2029-08-12/
LOCATION:South Haven Regional Airport\, 73020 Co Rd 380\, South Haven\, MI 49090
ATTACH;FMTTYPE=image/jpeg:https://av8maps.com/wp-content/uploads/2025/06/South-Haven-Airport-FLy-in-2-e1753045398169.jpg
GEO:42.3460495;-86.2568114
X-APPLE-STRUCTURED-LOCATION;VALUE=URI;X-ADDRESS=South Haven Regional Airport 73020 Co Rd 380 South Haven MI 49090;X-APPLE-RADIUS=500;X-TITLE=73020 Co Rd 380\, South Haven\, MI 49090:geo:-86.2568114,42.3460495
END:VEVENT
BEGIN:VEVENT
DTSTART;TZID=America/New_York:20300811T070000
DTEND;TZID=America/New_York:20300811T120000
DTSTAMP:20260423T062453
CREATED:20250627T143013Z
LAST-MODIFIED:20251031T212520Z
UID:10002001-1912662000-1912680000@av8maps.com
SUMMARY:Annual Fly in /Car Show 2025 (KLWA)
DESCRIPTION:Join us for the annual Rotary Fly In /Car Show and Blueberry Pancake Breakfast 🥞 😀\nCar Show Entry $10 (Day of only\, no online payments)\nEntry 7a.m to noon.\nTOP12 awards (Custom made)\nDash Plaques\n***Awards to be handed out at 10:30 a.m (to vehicle owners) no announcements to be made.***
URL:https://av8maps.com/event/fly-in-car-show-2025/2030-08-11/
LOCATION:South Haven Regional Airport\, 73020 Co Rd 380\, South Haven\, MI 49090
ATTACH;FMTTYPE=image/jpeg:https://av8maps.com/wp-content/uploads/2025/06/South-Haven-Airport-FLy-in-2-e1753045398169.jpg
GEO:42.3460495;-86.2568114
X-APPLE-STRUCTURED-LOCATION;VALUE=URI;X-ADDRESS=South Haven Regional Airport 73020 Co Rd 380 South Haven MI 49090;X-APPLE-RADIUS=500;X-TITLE=73020 Co Rd 380\, South Haven\, MI 49090:geo:-86.2568114,42.3460495
END:VEVENT
END:VCALENDAR