BEGIN:VCALENDAR
VERSION:2.0
PRODID:-//AV8MAPS.COM - ECPv6.15.20//NONSGML v1.0//EN
CALSCALE:GREGORIAN
METHOD:PUBLISH
X-WR-CALNAME:AV8MAPS.COM
X-ORIGINAL-URL:https://av8maps.com
X-WR-CALDESC:Events for AV8MAPS.COM
REFRESH-INTERVAL;VALUE=DURATION:PT1H
X-Robots-Tag:noindex
X-PUBLISHED-TTL:PT1H
BEGIN:VTIMEZONE
TZID:America/New_York
BEGIN:DAYLIGHT
TZOFFSETFROM:-0500
TZOFFSETTO:-0400
TZNAME:EDT
DTSTART:20250309T070000
END:DAYLIGHT
BEGIN:STANDARD
TZOFFSETFROM:-0400
TZOFFSETTO:-0500
TZNAME:EST
DTSTART:20251102T060000
END:STANDARD
BEGIN:DAYLIGHT
TZOFFSETFROM:-0500
TZOFFSETTO:-0400
TZNAME:EDT
DTSTART:20260308T070000
END:DAYLIGHT
BEGIN:STANDARD
TZOFFSETFROM:-0400
TZOFFSETTO:-0500
TZNAME:EST
DTSTART:20261101T060000
END:STANDARD
BEGIN:DAYLIGHT
TZOFFSETFROM:-0500
TZOFFSETTO:-0400
TZNAME:EDT
DTSTART:20270314T070000
END:DAYLIGHT
BEGIN:STANDARD
TZOFFSETFROM:-0400
TZOFFSETTO:-0500
TZNAME:EST
DTSTART:20271107T060000
END:STANDARD
BEGIN:DAYLIGHT
TZOFFSETFROM:-0500
TZOFFSETTO:-0400
TZNAME:EDT
DTSTART:20280312T070000
END:DAYLIGHT
BEGIN:STANDARD
TZOFFSETFROM:-0400
TZOFFSETTO:-0500
TZNAME:EST
DTSTART:20281105T060000
END:STANDARD
BEGIN:DAYLIGHT
TZOFFSETFROM:-0500
TZOFFSETTO:-0400
TZNAME:EDT
DTSTART:20290311T070000
END:DAYLIGHT
BEGIN:STANDARD
TZOFFSETFROM:-0400
TZOFFSETTO:-0500
TZNAME:EST
DTSTART:20291104T060000
END:STANDARD
BEGIN:DAYLIGHT
TZOFFSETFROM:-0500
TZOFFSETTO:-0400
TZNAME:EDT
DTSTART:20300310T070000
END:DAYLIGHT
BEGIN:STANDARD
TZOFFSETFROM:-0400
TZOFFSETTO:-0500
TZNAME:EST
DTSTART:20301103T060000
END:STANDARD
BEGIN:DAYLIGHT
TZOFFSETFROM:-0500
TZOFFSETTO:-0400
TZNAME:EDT
DTSTART:20310309T070000
END:DAYLIGHT
BEGIN:STANDARD
TZOFFSETFROM:-0400
TZOFFSETTO:-0500
TZNAME:EST
DTSTART:20311102T060000
END:STANDARD
END:VTIMEZONE
BEGIN:VEVENT
DTSTART;TZID=America/New_York:20260822T070000
DTEND;TZID=America/New_York:20260822T210000
DTSTAMP:20260423T010909
CREATED:20250621T160209Z
LAST-MODIFIED:20251031T212636Z
UID:10002002-1787382000-1787432400@av8maps.com
SUMMARY:Vicksburg Fly-in (7MI3)
DESCRIPTION:Join us for our Annual action-packed event featuring planes\, paramotors\, hot air balloons\, RC planes\, live music\, and a car show. \nEvery cent raised will support the VFW of Vicksburg and Vicksburg High School.
URL:https://av8maps.com/event/vicksburg-fly-in/2026-08-22/
LOCATION:Thrall Lake Airport\, 6281 W Ave E\, Vicksburg\, MI 49097\, MI
ATTACH;FMTTYPE=image/jpeg:https://av8maps.com/wp-content/uploads/2025/06/Vicksburg-Fly-in-e1754861082220.jpg
GEO:42.1149483;-85.5051213
X-APPLE-STRUCTURED-LOCATION;VALUE=URI;X-ADDRESS=Thrall Lake Airport 6281 W Ave E Vicksburg MI 49097 MI;X-APPLE-RADIUS=500;X-TITLE=6281 W Ave E\, Vicksburg\, MI 49097:geo:-85.5051213,42.1149483
END:VEVENT
BEGIN:VEVENT
DTSTART;TZID=America/New_York:20270828T070000
DTEND;TZID=America/New_York:20270828T210000
DTSTAMP:20260423T010909
CREATED:20250621T160209Z
LAST-MODIFIED:20251031T212636Z
UID:10002003-1819436400-1819486800@av8maps.com
SUMMARY:Vicksburg Fly-in (7MI3)
DESCRIPTION:Join us for our Annual action-packed event featuring planes\, paramotors\, hot air balloons\, RC planes\, live music\, and a car show. \nEvery cent raised will support the VFW of Vicksburg and Vicksburg High School.
URL:https://av8maps.com/event/vicksburg-fly-in/2027-08-28/
LOCATION:Thrall Lake Airport\, 6281 W Ave E\, Vicksburg\, MI 49097\, MI
ATTACH;FMTTYPE=image/jpeg:https://av8maps.com/wp-content/uploads/2025/06/Vicksburg-Fly-in-e1754861082220.jpg
GEO:42.1149483;-85.5051213
X-APPLE-STRUCTURED-LOCATION;VALUE=URI;X-ADDRESS=Thrall Lake Airport 6281 W Ave E Vicksburg MI 49097 MI;X-APPLE-RADIUS=500;X-TITLE=6281 W Ave E\, Vicksburg\, MI 49097:geo:-85.5051213,42.1149483
END:VEVENT
BEGIN:VEVENT
DTSTART;TZID=America/New_York:20280826T070000
DTEND;TZID=America/New_York:20280826T210000
DTSTAMP:20260423T010909
CREATED:20250621T160209Z
LAST-MODIFIED:20251031T212636Z
UID:10002004-1850886000-1850936400@av8maps.com
SUMMARY:Vicksburg Fly-in (7MI3)
DESCRIPTION:Join us for our Annual action-packed event featuring planes\, paramotors\, hot air balloons\, RC planes\, live music\, and a car show. \nEvery cent raised will support the VFW of Vicksburg and Vicksburg High School.
URL:https://av8maps.com/event/vicksburg-fly-in/2028-08-26/
LOCATION:Thrall Lake Airport\, 6281 W Ave E\, Vicksburg\, MI 49097\, MI
ATTACH;FMTTYPE=image/jpeg:https://av8maps.com/wp-content/uploads/2025/06/Vicksburg-Fly-in-e1754861082220.jpg
GEO:42.1149483;-85.5051213
X-APPLE-STRUCTURED-LOCATION;VALUE=URI;X-ADDRESS=Thrall Lake Airport 6281 W Ave E Vicksburg MI 49097 MI;X-APPLE-RADIUS=500;X-TITLE=6281 W Ave E\, Vicksburg\, MI 49097:geo:-85.5051213,42.1149483
END:VEVENT
BEGIN:VEVENT
DTSTART;TZID=America/New_York:20290825T070000
DTEND;TZID=America/New_York:20290825T210000
DTSTAMP:20260423T010909
CREATED:20250621T160209Z
LAST-MODIFIED:20251031T212636Z
UID:10002005-1882335600-1882386000@av8maps.com
SUMMARY:Vicksburg Fly-in (7MI3)
DESCRIPTION:Join us for our Annual action-packed event featuring planes\, paramotors\, hot air balloons\, RC planes\, live music\, and a car show. \nEvery cent raised will support the VFW of Vicksburg and Vicksburg High School.
URL:https://av8maps.com/event/vicksburg-fly-in/2029-08-25/
LOCATION:Thrall Lake Airport\, 6281 W Ave E\, Vicksburg\, MI 49097\, MI
ATTACH;FMTTYPE=image/jpeg:https://av8maps.com/wp-content/uploads/2025/06/Vicksburg-Fly-in-e1754861082220.jpg
GEO:42.1149483;-85.5051213
X-APPLE-STRUCTURED-LOCATION;VALUE=URI;X-ADDRESS=Thrall Lake Airport 6281 W Ave E Vicksburg MI 49097 MI;X-APPLE-RADIUS=500;X-TITLE=6281 W Ave E\, Vicksburg\, MI 49097:geo:-85.5051213,42.1149483
END:VEVENT
BEGIN:VEVENT
DTSTART;TZID=America/New_York:20300824T070000
DTEND;TZID=America/New_York:20300824T210000
DTSTAMP:20260423T010909
CREATED:20250621T160209Z
LAST-MODIFIED:20251031T212636Z
UID:10002006-1913785200-1913835600@av8maps.com
SUMMARY:Vicksburg Fly-in (7MI3)
DESCRIPTION:Join us for our Annual action-packed event featuring planes\, paramotors\, hot air balloons\, RC planes\, live music\, and a car show. \nEvery cent raised will support the VFW of Vicksburg and Vicksburg High School.
URL:https://av8maps.com/event/vicksburg-fly-in/2030-08-24/
LOCATION:Thrall Lake Airport\, 6281 W Ave E\, Vicksburg\, MI 49097\, MI
ATTACH;FMTTYPE=image/jpeg:https://av8maps.com/wp-content/uploads/2025/06/Vicksburg-Fly-in-e1754861082220.jpg
GEO:42.1149483;-85.5051213
X-APPLE-STRUCTURED-LOCATION;VALUE=URI;X-ADDRESS=Thrall Lake Airport 6281 W Ave E Vicksburg MI 49097 MI;X-APPLE-RADIUS=500;X-TITLE=6281 W Ave E\, Vicksburg\, MI 49097:geo:-85.5051213,42.1149483
END:VEVENT
END:VCALENDAR