BEGIN:VCALENDAR
VERSION:2.0
PRODID:-//AV8MAPS.COM - ECPv6.15.20//NONSGML v1.0//EN
CALSCALE:GREGORIAN
METHOD:PUBLISH
X-WR-CALNAME:AV8MAPS.COM
X-ORIGINAL-URL:https://av8maps.com
X-WR-CALDESC:Events for AV8MAPS.COM
REFRESH-INTERVAL;VALUE=DURATION:PT1H
X-Robots-Tag:noindex
X-PUBLISHED-TTL:PT1H
BEGIN:VTIMEZONE
TZID:America/New_York
BEGIN:DAYLIGHT
TZOFFSETFROM:-0500
TZOFFSETTO:-0400
TZNAME:EDT
DTSTART:20250309T070000
END:DAYLIGHT
BEGIN:STANDARD
TZOFFSETFROM:-0400
TZOFFSETTO:-0500
TZNAME:EST
DTSTART:20251102T060000
END:STANDARD
BEGIN:DAYLIGHT
TZOFFSETFROM:-0500
TZOFFSETTO:-0400
TZNAME:EDT
DTSTART:20260308T070000
END:DAYLIGHT
BEGIN:STANDARD
TZOFFSETFROM:-0400
TZOFFSETTO:-0500
TZNAME:EST
DTSTART:20261101T060000
END:STANDARD
BEGIN:DAYLIGHT
TZOFFSETFROM:-0500
TZOFFSETTO:-0400
TZNAME:EDT
DTSTART:20270314T070000
END:DAYLIGHT
BEGIN:STANDARD
TZOFFSETFROM:-0400
TZOFFSETTO:-0500
TZNAME:EST
DTSTART:20271107T060000
END:STANDARD
BEGIN:DAYLIGHT
TZOFFSETFROM:-0500
TZOFFSETTO:-0400
TZNAME:EDT
DTSTART:20280312T070000
END:DAYLIGHT
BEGIN:STANDARD
TZOFFSETFROM:-0400
TZOFFSETTO:-0500
TZNAME:EST
DTSTART:20281105T060000
END:STANDARD
BEGIN:DAYLIGHT
TZOFFSETFROM:-0500
TZOFFSETTO:-0400
TZNAME:EDT
DTSTART:20290311T070000
END:DAYLIGHT
BEGIN:STANDARD
TZOFFSETFROM:-0400
TZOFFSETTO:-0500
TZNAME:EST
DTSTART:20291104T060000
END:STANDARD
BEGIN:DAYLIGHT
TZOFFSETFROM:-0500
TZOFFSETTO:-0400
TZNAME:EDT
DTSTART:20300310T070000
END:DAYLIGHT
BEGIN:STANDARD
TZOFFSETFROM:-0400
TZOFFSETTO:-0500
TZNAME:EST
DTSTART:20301103T060000
END:STANDARD
BEGIN:DAYLIGHT
TZOFFSETFROM:-0500
TZOFFSETTO:-0400
TZNAME:EDT
DTSTART:20310309T070000
END:DAYLIGHT
BEGIN:STANDARD
TZOFFSETFROM:-0400
TZOFFSETTO:-0500
TZNAME:EST
DTSTART:20311102T060000
END:STANDARD
END:VTIMEZONE
BEGIN:VEVENT
DTSTART;TZID=America/New_York:20260704T130000
DTEND;TZID=America/New_York:20260705T160000
DTSTAMP:20260423T021935
CREATED:20250609T190344Z
LAST-MODIFIED:20251101T125002Z
UID:10002022-1783170000-1783267200@av8maps.com
SUMMARY:RED\, WHITE\, and BOOM (3KY9)
DESCRIPTION:It’s quickly approaching. The annual 4th of July celebration. Friends and family get ready for another great year of fellowship and fun. \nFly or drive in to experience the fun of what is become known as thunder over Waddy.
URL:https://av8maps.com/event/red-white-and-boom/2026-07-04/
LOCATION:Miles Field\, 271 Grubbs Ln\, Waddy\, KY 40076
ATTACH;FMTTYPE=image/jpeg:https://av8maps.com/wp-content/uploads/2025/06/Red-White-and-Boom-3KY9-1-e1751050391618.jpg
GEO:38.122924;-85.1244451
X-APPLE-STRUCTURED-LOCATION;VALUE=URI;X-ADDRESS=Miles Field 271 Grubbs Ln Waddy KY 40076;X-APPLE-RADIUS=500;X-TITLE=271 Grubbs Ln\, Waddy\, KY 40076:geo:-85.1244451,38.122924
END:VEVENT
BEGIN:VEVENT
DTSTART;TZID=America/New_York:20270703T130000
DTEND;TZID=America/New_York:20270704T160000
DTSTAMP:20260423T021935
CREATED:20250609T190344Z
LAST-MODIFIED:20251101T125002Z
UID:10002023-1814619600-1814716800@av8maps.com
SUMMARY:RED\, WHITE\, and BOOM (3KY9)
DESCRIPTION:It’s quickly approaching. The annual 4th of July celebration. Friends and family get ready for another great year of fellowship and fun. \nFly or drive in to experience the fun of what is become known as thunder over Waddy.
URL:https://av8maps.com/event/red-white-and-boom/2027-07-03/
LOCATION:Miles Field\, 271 Grubbs Ln\, Waddy\, KY 40076
ATTACH;FMTTYPE=image/jpeg:https://av8maps.com/wp-content/uploads/2025/06/Red-White-and-Boom-3KY9-1-e1751050391618.jpg
GEO:38.122924;-85.1244451
X-APPLE-STRUCTURED-LOCATION;VALUE=URI;X-ADDRESS=Miles Field 271 Grubbs Ln Waddy KY 40076;X-APPLE-RADIUS=500;X-TITLE=271 Grubbs Ln\, Waddy\, KY 40076:geo:-85.1244451,38.122924
END:VEVENT
BEGIN:VEVENT
DTSTART;TZID=America/New_York:20280701T130000
DTEND;TZID=America/New_York:20280702T160000
DTSTAMP:20260423T021935
CREATED:20250609T190344Z
LAST-MODIFIED:20251101T125002Z
UID:10002024-1846069200-1846166400@av8maps.com
SUMMARY:RED\, WHITE\, and BOOM (3KY9)
DESCRIPTION:It’s quickly approaching. The annual 4th of July celebration. Friends and family get ready for another great year of fellowship and fun. \nFly or drive in to experience the fun of what is become known as thunder over Waddy.
URL:https://av8maps.com/event/red-white-and-boom/2028-07-01/
LOCATION:Miles Field\, 271 Grubbs Ln\, Waddy\, KY 40076
ATTACH;FMTTYPE=image/jpeg:https://av8maps.com/wp-content/uploads/2025/06/Red-White-and-Boom-3KY9-1-e1751050391618.jpg
GEO:38.122924;-85.1244451
X-APPLE-STRUCTURED-LOCATION;VALUE=URI;X-ADDRESS=Miles Field 271 Grubbs Ln Waddy KY 40076;X-APPLE-RADIUS=500;X-TITLE=271 Grubbs Ln\, Waddy\, KY 40076:geo:-85.1244451,38.122924
END:VEVENT
BEGIN:VEVENT
DTSTART;TZID=America/New_York:20290707T130000
DTEND;TZID=America/New_York:20290708T160000
DTSTAMP:20260423T021935
CREATED:20250609T190344Z
LAST-MODIFIED:20251101T125002Z
UID:10002025-1878123600-1878220800@av8maps.com
SUMMARY:RED\, WHITE\, and BOOM (3KY9)
DESCRIPTION:It’s quickly approaching. The annual 4th of July celebration. Friends and family get ready for another great year of fellowship and fun. \nFly or drive in to experience the fun of what is become known as thunder over Waddy.
URL:https://av8maps.com/event/red-white-and-boom/2029-07-07/
LOCATION:Miles Field\, 271 Grubbs Ln\, Waddy\, KY 40076
ATTACH;FMTTYPE=image/jpeg:https://av8maps.com/wp-content/uploads/2025/06/Red-White-and-Boom-3KY9-1-e1751050391618.jpg
GEO:38.122924;-85.1244451
X-APPLE-STRUCTURED-LOCATION;VALUE=URI;X-ADDRESS=Miles Field 271 Grubbs Ln Waddy KY 40076;X-APPLE-RADIUS=500;X-TITLE=271 Grubbs Ln\, Waddy\, KY 40076:geo:-85.1244451,38.122924
END:VEVENT
BEGIN:VEVENT
DTSTART;TZID=America/New_York:20300706T130000
DTEND;TZID=America/New_York:20300707T160000
DTSTAMP:20260423T021935
CREATED:20250609T190344Z
LAST-MODIFIED:20251101T125002Z
UID:10002026-1909573200-1909670400@av8maps.com
SUMMARY:RED\, WHITE\, and BOOM (3KY9)
DESCRIPTION:It’s quickly approaching. The annual 4th of July celebration. Friends and family get ready for another great year of fellowship and fun. \nFly or drive in to experience the fun of what is become known as thunder over Waddy.
URL:https://av8maps.com/event/red-white-and-boom/2030-07-06/
LOCATION:Miles Field\, 271 Grubbs Ln\, Waddy\, KY 40076
ATTACH;FMTTYPE=image/jpeg:https://av8maps.com/wp-content/uploads/2025/06/Red-White-and-Boom-3KY9-1-e1751050391618.jpg
GEO:38.122924;-85.1244451
X-APPLE-STRUCTURED-LOCATION;VALUE=URI;X-ADDRESS=Miles Field 271 Grubbs Ln Waddy KY 40076;X-APPLE-RADIUS=500;X-TITLE=271 Grubbs Ln\, Waddy\, KY 40076:geo:-85.1244451,38.122924
END:VEVENT
END:VCALENDAR