BEGIN:VCALENDAR
VERSION:2.0
PRODID:-//AV8MAPS.COM - ECPv6.15.20//NONSGML v1.0//EN
CALSCALE:GREGORIAN
METHOD:PUBLISH
X-WR-CALNAME:AV8MAPS.COM
X-ORIGINAL-URL:https://av8maps.com
X-WR-CALDESC:Events for AV8MAPS.COM
REFRESH-INTERVAL;VALUE=DURATION:PT1H
X-Robots-Tag:noindex
X-PUBLISHED-TTL:PT1H
BEGIN:VTIMEZONE
TZID:America/New_York
BEGIN:DAYLIGHT
TZOFFSETFROM:-0500
TZOFFSETTO:-0400
TZNAME:EDT
DTSTART:20250309T070000
END:DAYLIGHT
BEGIN:STANDARD
TZOFFSETFROM:-0400
TZOFFSETTO:-0500
TZNAME:EST
DTSTART:20251102T060000
END:STANDARD
BEGIN:DAYLIGHT
TZOFFSETFROM:-0500
TZOFFSETTO:-0400
TZNAME:EDT
DTSTART:20260308T070000
END:DAYLIGHT
BEGIN:STANDARD
TZOFFSETFROM:-0400
TZOFFSETTO:-0500
TZNAME:EST
DTSTART:20261101T060000
END:STANDARD
BEGIN:DAYLIGHT
TZOFFSETFROM:-0500
TZOFFSETTO:-0400
TZNAME:EDT
DTSTART:20270314T070000
END:DAYLIGHT
BEGIN:STANDARD
TZOFFSETFROM:-0400
TZOFFSETTO:-0500
TZNAME:EST
DTSTART:20271107T060000
END:STANDARD
BEGIN:DAYLIGHT
TZOFFSETFROM:-0500
TZOFFSETTO:-0400
TZNAME:EDT
DTSTART:20280312T070000
END:DAYLIGHT
BEGIN:STANDARD
TZOFFSETFROM:-0400
TZOFFSETTO:-0500
TZNAME:EST
DTSTART:20281105T060000
END:STANDARD
BEGIN:DAYLIGHT
TZOFFSETFROM:-0500
TZOFFSETTO:-0400
TZNAME:EDT
DTSTART:20290311T070000
END:DAYLIGHT
BEGIN:STANDARD
TZOFFSETFROM:-0400
TZOFFSETTO:-0500
TZNAME:EST
DTSTART:20291104T060000
END:STANDARD
BEGIN:DAYLIGHT
TZOFFSETFROM:-0500
TZOFFSETTO:-0400
TZNAME:EDT
DTSTART:20300310T070000
END:DAYLIGHT
BEGIN:STANDARD
TZOFFSETFROM:-0400
TZOFFSETTO:-0500
TZNAME:EST
DTSTART:20301103T060000
END:STANDARD
BEGIN:DAYLIGHT
TZOFFSETFROM:-0500
TZOFFSETTO:-0400
TZNAME:EDT
DTSTART:20310309T070000
END:DAYLIGHT
BEGIN:STANDARD
TZOFFSETFROM:-0400
TZOFFSETTO:-0500
TZNAME:EST
DTSTART:20311102T060000
END:STANDARD
END:VTIMEZONE
BEGIN:VEVENT
DTSTART;TZID=America/New_York:20260711T090000
DTEND;TZID=America/New_York:20260711T120000
DTSTAMP:20260423T075209
CREATED:20250613T210204Z
LAST-MODIFIED:20251101T125150Z
UID:10002027-1783760400-1783771200@av8maps.com
SUMMARY:Kelly Airpark Annual Pancake Breakfast Fly-in (CO15)
DESCRIPTION:You’re invited to join the Kelly Air Park homeowners for our Annual Pancake Breakfast—an event for both aviation and non-aviation enthusiasts! The gathering will take place at Jim & Cindy Norman’s hangar\, located one hangar south of BFSS at 24494 David C. Johnson Loop in Elbert\, CO 80106.\nEvent Details:\nTime: 7:00 AM – 11:00 AM\nLocation: Jim & Cindy Norman’s hangar (one hangar south of BFSS; enter from David C. Johnson Loop off County Rd. 5)\nFor those flying in\, please call the Kelly Air Park Unicom on 123.05 MHz for field advisories upon arrival. Ground support will be on hand to assist you\, but be sure to bring your own tie-downs. There will be plenty of parking available for both aircraft and automobiles.\nWe look forward to welcoming you for a morning of great food and friendly company!
URL:https://av8maps.com/event/kelly-airpark-annual-pancake-breakfast-fly-in/2026-07-11/
LOCATION:Kelly Airpark\, 24494 David C Johnson Loop\, Elbert\, CO 80106\, CO
ATTACH;FMTTYPE=image/jpeg:https://av8maps.com/wp-content/uploads/2025/06/Kelly-Airpark-e1751052911422.jpg
GEO:39.2222703;-104.6413988
X-APPLE-STRUCTURED-LOCATION;VALUE=URI;X-ADDRESS=Kelly Airpark 24494 David C Johnson Loop Elbert CO 80106 CO;X-APPLE-RADIUS=500;X-TITLE=24494 David C Johnson Loop\, Elbert\, CO 80106:geo:-104.6413988,39.2222703
END:VEVENT
BEGIN:VEVENT
DTSTART;TZID=America/New_York:20270710T090000
DTEND;TZID=America/New_York:20270710T120000
DTSTAMP:20260423T075209
CREATED:20250613T210204Z
LAST-MODIFIED:20251101T125150Z
UID:10002028-1815210000-1815220800@av8maps.com
SUMMARY:Kelly Airpark Annual Pancake Breakfast Fly-in (CO15)
DESCRIPTION:You’re invited to join the Kelly Air Park homeowners for our Annual Pancake Breakfast—an event for both aviation and non-aviation enthusiasts! The gathering will take place at Jim & Cindy Norman’s hangar\, located one hangar south of BFSS at 24494 David C. Johnson Loop in Elbert\, CO 80106.\nEvent Details:\nTime: 7:00 AM – 11:00 AM\nLocation: Jim & Cindy Norman’s hangar (one hangar south of BFSS; enter from David C. Johnson Loop off County Rd. 5)\nFor those flying in\, please call the Kelly Air Park Unicom on 123.05 MHz for field advisories upon arrival. Ground support will be on hand to assist you\, but be sure to bring your own tie-downs. There will be plenty of parking available for both aircraft and automobiles.\nWe look forward to welcoming you for a morning of great food and friendly company!
URL:https://av8maps.com/event/kelly-airpark-annual-pancake-breakfast-fly-in/2027-07-10/
LOCATION:Kelly Airpark\, 24494 David C Johnson Loop\, Elbert\, CO 80106\, CO
ATTACH;FMTTYPE=image/jpeg:https://av8maps.com/wp-content/uploads/2025/06/Kelly-Airpark-e1751052911422.jpg
GEO:39.2222703;-104.6413988
X-APPLE-STRUCTURED-LOCATION;VALUE=URI;X-ADDRESS=Kelly Airpark 24494 David C Johnson Loop Elbert CO 80106 CO;X-APPLE-RADIUS=500;X-TITLE=24494 David C Johnson Loop\, Elbert\, CO 80106:geo:-104.6413988,39.2222703
END:VEVENT
BEGIN:VEVENT
DTSTART;TZID=America/New_York:20280708T090000
DTEND;TZID=America/New_York:20280708T120000
DTSTAMP:20260423T075209
CREATED:20250613T210204Z
LAST-MODIFIED:20251101T125150Z
UID:10002029-1846659600-1846670400@av8maps.com
SUMMARY:Kelly Airpark Annual Pancake Breakfast Fly-in (CO15)
DESCRIPTION:You’re invited to join the Kelly Air Park homeowners for our Annual Pancake Breakfast—an event for both aviation and non-aviation enthusiasts! The gathering will take place at Jim & Cindy Norman’s hangar\, located one hangar south of BFSS at 24494 David C. Johnson Loop in Elbert\, CO 80106.\nEvent Details:\nTime: 7:00 AM – 11:00 AM\nLocation: Jim & Cindy Norman’s hangar (one hangar south of BFSS; enter from David C. Johnson Loop off County Rd. 5)\nFor those flying in\, please call the Kelly Air Park Unicom on 123.05 MHz for field advisories upon arrival. Ground support will be on hand to assist you\, but be sure to bring your own tie-downs. There will be plenty of parking available for both aircraft and automobiles.\nWe look forward to welcoming you for a morning of great food and friendly company!
URL:https://av8maps.com/event/kelly-airpark-annual-pancake-breakfast-fly-in/2028-07-08/
LOCATION:Kelly Airpark\, 24494 David C Johnson Loop\, Elbert\, CO 80106\, CO
ATTACH;FMTTYPE=image/jpeg:https://av8maps.com/wp-content/uploads/2025/06/Kelly-Airpark-e1751052911422.jpg
GEO:39.2222703;-104.6413988
X-APPLE-STRUCTURED-LOCATION;VALUE=URI;X-ADDRESS=Kelly Airpark 24494 David C Johnson Loop Elbert CO 80106 CO;X-APPLE-RADIUS=500;X-TITLE=24494 David C Johnson Loop\, Elbert\, CO 80106:geo:-104.6413988,39.2222703
END:VEVENT
BEGIN:VEVENT
DTSTART;TZID=America/New_York:20290714T090000
DTEND;TZID=America/New_York:20290714T120000
DTSTAMP:20260423T075209
CREATED:20250613T210204Z
LAST-MODIFIED:20251101T125150Z
UID:10002030-1878714000-1878724800@av8maps.com
SUMMARY:Kelly Airpark Annual Pancake Breakfast Fly-in (CO15)
DESCRIPTION:You’re invited to join the Kelly Air Park homeowners for our Annual Pancake Breakfast—an event for both aviation and non-aviation enthusiasts! The gathering will take place at Jim & Cindy Norman’s hangar\, located one hangar south of BFSS at 24494 David C. Johnson Loop in Elbert\, CO 80106.\nEvent Details:\nTime: 7:00 AM – 11:00 AM\nLocation: Jim & Cindy Norman’s hangar (one hangar south of BFSS; enter from David C. Johnson Loop off County Rd. 5)\nFor those flying in\, please call the Kelly Air Park Unicom on 123.05 MHz for field advisories upon arrival. Ground support will be on hand to assist you\, but be sure to bring your own tie-downs. There will be plenty of parking available for both aircraft and automobiles.\nWe look forward to welcoming you for a morning of great food and friendly company!
URL:https://av8maps.com/event/kelly-airpark-annual-pancake-breakfast-fly-in/2029-07-14/
LOCATION:Kelly Airpark\, 24494 David C Johnson Loop\, Elbert\, CO 80106\, CO
ATTACH;FMTTYPE=image/jpeg:https://av8maps.com/wp-content/uploads/2025/06/Kelly-Airpark-e1751052911422.jpg
GEO:39.2222703;-104.6413988
X-APPLE-STRUCTURED-LOCATION;VALUE=URI;X-ADDRESS=Kelly Airpark 24494 David C Johnson Loop Elbert CO 80106 CO;X-APPLE-RADIUS=500;X-TITLE=24494 David C Johnson Loop\, Elbert\, CO 80106:geo:-104.6413988,39.2222703
END:VEVENT
BEGIN:VEVENT
DTSTART;TZID=America/New_York:20300713T090000
DTEND;TZID=America/New_York:20300713T120000
DTSTAMP:20260423T075209
CREATED:20250613T210204Z
LAST-MODIFIED:20251101T125150Z
UID:10002031-1910163600-1910174400@av8maps.com
SUMMARY:Kelly Airpark Annual Pancake Breakfast Fly-in (CO15)
DESCRIPTION:You’re invited to join the Kelly Air Park homeowners for our Annual Pancake Breakfast—an event for both aviation and non-aviation enthusiasts! The gathering will take place at Jim & Cindy Norman’s hangar\, located one hangar south of BFSS at 24494 David C. Johnson Loop in Elbert\, CO 80106.\nEvent Details:\nTime: 7:00 AM – 11:00 AM\nLocation: Jim & Cindy Norman’s hangar (one hangar south of BFSS; enter from David C. Johnson Loop off County Rd. 5)\nFor those flying in\, please call the Kelly Air Park Unicom on 123.05 MHz for field advisories upon arrival. Ground support will be on hand to assist you\, but be sure to bring your own tie-downs. There will be plenty of parking available for both aircraft and automobiles.\nWe look forward to welcoming you for a morning of great food and friendly company!
URL:https://av8maps.com/event/kelly-airpark-annual-pancake-breakfast-fly-in/2030-07-13/
LOCATION:Kelly Airpark\, 24494 David C Johnson Loop\, Elbert\, CO 80106\, CO
ATTACH;FMTTYPE=image/jpeg:https://av8maps.com/wp-content/uploads/2025/06/Kelly-Airpark-e1751052911422.jpg
GEO:39.2222703;-104.6413988
X-APPLE-STRUCTURED-LOCATION;VALUE=URI;X-ADDRESS=Kelly Airpark 24494 David C Johnson Loop Elbert CO 80106 CO;X-APPLE-RADIUS=500;X-TITLE=24494 David C Johnson Loop\, Elbert\, CO 80106:geo:-104.6413988,39.2222703
END:VEVENT
END:VCALENDAR