BEGIN:VCALENDAR
VERSION:2.0
PRODID:-//AV8MAPS.COM - ECPv6.15.20//NONSGML v1.0//EN
CALSCALE:GREGORIAN
METHOD:PUBLISH
X-WR-CALNAME:AV8MAPS.COM
X-ORIGINAL-URL:https://av8maps.com
X-WR-CALDESC:Events for AV8MAPS.COM
REFRESH-INTERVAL;VALUE=DURATION:PT1H
X-Robots-Tag:noindex
X-PUBLISHED-TTL:PT1H
BEGIN:VTIMEZONE
TZID:America/New_York
BEGIN:DAYLIGHT
TZOFFSETFROM:-0500
TZOFFSETTO:-0400
TZNAME:EDT
DTSTART:20250309T070000
END:DAYLIGHT
BEGIN:STANDARD
TZOFFSETFROM:-0400
TZOFFSETTO:-0500
TZNAME:EST
DTSTART:20251102T060000
END:STANDARD
BEGIN:DAYLIGHT
TZOFFSETFROM:-0500
TZOFFSETTO:-0400
TZNAME:EDT
DTSTART:20260308T070000
END:DAYLIGHT
BEGIN:STANDARD
TZOFFSETFROM:-0400
TZOFFSETTO:-0500
TZNAME:EST
DTSTART:20261101T060000
END:STANDARD
BEGIN:DAYLIGHT
TZOFFSETFROM:-0500
TZOFFSETTO:-0400
TZNAME:EDT
DTSTART:20270314T070000
END:DAYLIGHT
BEGIN:STANDARD
TZOFFSETFROM:-0400
TZOFFSETTO:-0500
TZNAME:EST
DTSTART:20271107T060000
END:STANDARD
BEGIN:DAYLIGHT
TZOFFSETFROM:-0500
TZOFFSETTO:-0400
TZNAME:EDT
DTSTART:20280312T070000
END:DAYLIGHT
BEGIN:STANDARD
TZOFFSETFROM:-0400
TZOFFSETTO:-0500
TZNAME:EST
DTSTART:20281105T060000
END:STANDARD
BEGIN:DAYLIGHT
TZOFFSETFROM:-0500
TZOFFSETTO:-0400
TZNAME:EDT
DTSTART:20290311T070000
END:DAYLIGHT
BEGIN:STANDARD
TZOFFSETFROM:-0400
TZOFFSETTO:-0500
TZNAME:EST
DTSTART:20291104T060000
END:STANDARD
BEGIN:DAYLIGHT
TZOFFSETFROM:-0500
TZOFFSETTO:-0400
TZNAME:EDT
DTSTART:20300310T070000
END:DAYLIGHT
BEGIN:STANDARD
TZOFFSETFROM:-0400
TZOFFSETTO:-0500
TZNAME:EST
DTSTART:20301103T060000
END:STANDARD
BEGIN:DAYLIGHT
TZOFFSETFROM:-0500
TZOFFSETTO:-0400
TZNAME:EDT
DTSTART:20310309T070000
END:DAYLIGHT
BEGIN:STANDARD
TZOFFSETFROM:-0400
TZOFFSETTO:-0500
TZNAME:EST
DTSTART:20311102T060000
END:STANDARD
END:VTIMEZONE
BEGIN:VEVENT
DTSTART;TZID=America/New_York:20260711T073000
DTEND;TZID=America/New_York:20260711T170000
DTSTAMP:20260423T062510
CREATED:20250704T154953Z
LAST-MODIFIED:20251101T125607Z
UID:10002037-1783755000-1783789200@av8maps.com
SUMMARY:EAA Chapter 1405 Fly-in (K57)
DESCRIPTION:On Saturday\, July 12\, Congressman Sam Graves\, the Chairman of the U.S. House Transportation and Infrastructure Committee\, will be moderating a Pilot Town Hall at 10 a.m. at EAA Chapter 1405’s “Wing Nuts Flying Flying Circus” at Gould Peterson Municipal Airport (K57)\, Tarkio\, Missouri.\n\n\nMissouri pilots know that Sam Graves has been a tireless advocate for the aviation community\, and this Town Hall will be a great opportunity to learn and engage directly with elected officials and learn more about key issues facing our industry. EAA Chapter 1405 also hosts a great grass-roots fly-in and airshow.
URL:https://av8maps.com/event/eaa-chapter-1405-fly-in-k57/2026-07-11/
LOCATION:Gould Peterson Memorial Airport\, 18541 State Hwy O\, Tarkio\, MO 64491
ATTACH;FMTTYPE=image/jpeg:https://av8maps.com/wp-content/uploads/2025/07/EAA-Chapter-1405-Fly-in-e1751644106634.jpg
GEO:40.4647882;-95.3591902
X-APPLE-STRUCTURED-LOCATION;VALUE=URI;X-ADDRESS=Gould Peterson Memorial Airport 18541 State Hwy O Tarkio MO 64491;X-APPLE-RADIUS=500;X-TITLE=18541 State Hwy O\, Tarkio\, MO 64491:geo:-95.3591902,40.4647882
END:VEVENT
BEGIN:VEVENT
DTSTART;TZID=America/New_York:20270710T073000
DTEND;TZID=America/New_York:20270710T170000
DTSTAMP:20260423T062510
CREATED:20250704T154953Z
LAST-MODIFIED:20251101T125607Z
UID:10002038-1815204600-1815238800@av8maps.com
SUMMARY:EAA Chapter 1405 Fly-in (K57)
DESCRIPTION:On Saturday\, July 12\, Congressman Sam Graves\, the Chairman of the U.S. House Transportation and Infrastructure Committee\, will be moderating a Pilot Town Hall at 10 a.m. at EAA Chapter 1405’s “Wing Nuts Flying Flying Circus” at Gould Peterson Municipal Airport (K57)\, Tarkio\, Missouri.\n\n\nMissouri pilots know that Sam Graves has been a tireless advocate for the aviation community\, and this Town Hall will be a great opportunity to learn and engage directly with elected officials and learn more about key issues facing our industry. EAA Chapter 1405 also hosts a great grass-roots fly-in and airshow.
URL:https://av8maps.com/event/eaa-chapter-1405-fly-in-k57/2027-07-10/
LOCATION:Gould Peterson Memorial Airport\, 18541 State Hwy O\, Tarkio\, MO 64491
ATTACH;FMTTYPE=image/jpeg:https://av8maps.com/wp-content/uploads/2025/07/EAA-Chapter-1405-Fly-in-e1751644106634.jpg
GEO:40.4647882;-95.3591902
X-APPLE-STRUCTURED-LOCATION;VALUE=URI;X-ADDRESS=Gould Peterson Memorial Airport 18541 State Hwy O Tarkio MO 64491;X-APPLE-RADIUS=500;X-TITLE=18541 State Hwy O\, Tarkio\, MO 64491:geo:-95.3591902,40.4647882
END:VEVENT
BEGIN:VEVENT
DTSTART;TZID=America/New_York:20280708T073000
DTEND;TZID=America/New_York:20280708T170000
DTSTAMP:20260423T062510
CREATED:20250704T154953Z
LAST-MODIFIED:20251101T125607Z
UID:10002039-1846654200-1846688400@av8maps.com
SUMMARY:EAA Chapter 1405 Fly-in (K57)
DESCRIPTION:On Saturday\, July 12\, Congressman Sam Graves\, the Chairman of the U.S. House Transportation and Infrastructure Committee\, will be moderating a Pilot Town Hall at 10 a.m. at EAA Chapter 1405’s “Wing Nuts Flying Flying Circus” at Gould Peterson Municipal Airport (K57)\, Tarkio\, Missouri.\n\n\nMissouri pilots know that Sam Graves has been a tireless advocate for the aviation community\, and this Town Hall will be a great opportunity to learn and engage directly with elected officials and learn more about key issues facing our industry. EAA Chapter 1405 also hosts a great grass-roots fly-in and airshow.
URL:https://av8maps.com/event/eaa-chapter-1405-fly-in-k57/2028-07-08/
LOCATION:Gould Peterson Memorial Airport\, 18541 State Hwy O\, Tarkio\, MO 64491
ATTACH;FMTTYPE=image/jpeg:https://av8maps.com/wp-content/uploads/2025/07/EAA-Chapter-1405-Fly-in-e1751644106634.jpg
GEO:40.4647882;-95.3591902
X-APPLE-STRUCTURED-LOCATION;VALUE=URI;X-ADDRESS=Gould Peterson Memorial Airport 18541 State Hwy O Tarkio MO 64491;X-APPLE-RADIUS=500;X-TITLE=18541 State Hwy O\, Tarkio\, MO 64491:geo:-95.3591902,40.4647882
END:VEVENT
BEGIN:VEVENT
DTSTART;TZID=America/New_York:20290714T073000
DTEND;TZID=America/New_York:20290714T170000
DTSTAMP:20260423T062510
CREATED:20250704T154953Z
LAST-MODIFIED:20251101T125607Z
UID:10002040-1878708600-1878742800@av8maps.com
SUMMARY:EAA Chapter 1405 Fly-in (K57)
DESCRIPTION:On Saturday\, July 12\, Congressman Sam Graves\, the Chairman of the U.S. House Transportation and Infrastructure Committee\, will be moderating a Pilot Town Hall at 10 a.m. at EAA Chapter 1405’s “Wing Nuts Flying Flying Circus” at Gould Peterson Municipal Airport (K57)\, Tarkio\, Missouri.\n\n\nMissouri pilots know that Sam Graves has been a tireless advocate for the aviation community\, and this Town Hall will be a great opportunity to learn and engage directly with elected officials and learn more about key issues facing our industry. EAA Chapter 1405 also hosts a great grass-roots fly-in and airshow.
URL:https://av8maps.com/event/eaa-chapter-1405-fly-in-k57/2029-07-14/
LOCATION:Gould Peterson Memorial Airport\, 18541 State Hwy O\, Tarkio\, MO 64491
ATTACH;FMTTYPE=image/jpeg:https://av8maps.com/wp-content/uploads/2025/07/EAA-Chapter-1405-Fly-in-e1751644106634.jpg
GEO:40.4647882;-95.3591902
X-APPLE-STRUCTURED-LOCATION;VALUE=URI;X-ADDRESS=Gould Peterson Memorial Airport 18541 State Hwy O Tarkio MO 64491;X-APPLE-RADIUS=500;X-TITLE=18541 State Hwy O\, Tarkio\, MO 64491:geo:-95.3591902,40.4647882
END:VEVENT
BEGIN:VEVENT
DTSTART;TZID=America/New_York:20300713T073000
DTEND;TZID=America/New_York:20300713T170000
DTSTAMP:20260423T062510
CREATED:20250704T154953Z
LAST-MODIFIED:20251101T125607Z
UID:10002041-1910158200-1910192400@av8maps.com
SUMMARY:EAA Chapter 1405 Fly-in (K57)
DESCRIPTION:On Saturday\, July 12\, Congressman Sam Graves\, the Chairman of the U.S. House Transportation and Infrastructure Committee\, will be moderating a Pilot Town Hall at 10 a.m. at EAA Chapter 1405’s “Wing Nuts Flying Flying Circus” at Gould Peterson Municipal Airport (K57)\, Tarkio\, Missouri.\n\n\nMissouri pilots know that Sam Graves has been a tireless advocate for the aviation community\, and this Town Hall will be a great opportunity to learn and engage directly with elected officials and learn more about key issues facing our industry. EAA Chapter 1405 also hosts a great grass-roots fly-in and airshow.
URL:https://av8maps.com/event/eaa-chapter-1405-fly-in-k57/2030-07-13/
LOCATION:Gould Peterson Memorial Airport\, 18541 State Hwy O\, Tarkio\, MO 64491
ATTACH;FMTTYPE=image/jpeg:https://av8maps.com/wp-content/uploads/2025/07/EAA-Chapter-1405-Fly-in-e1751644106634.jpg
GEO:40.4647882;-95.3591902
X-APPLE-STRUCTURED-LOCATION;VALUE=URI;X-ADDRESS=Gould Peterson Memorial Airport 18541 State Hwy O Tarkio MO 64491;X-APPLE-RADIUS=500;X-TITLE=18541 State Hwy O\, Tarkio\, MO 64491:geo:-95.3591902,40.4647882
END:VEVENT
END:VCALENDAR