BEGIN:VCALENDAR
VERSION:2.0
PRODID:-//AV8MAPS.COM - ECPv6.15.20//NONSGML v1.0//EN
CALSCALE:GREGORIAN
METHOD:PUBLISH
X-WR-CALNAME:AV8MAPS.COM
X-ORIGINAL-URL:https://av8maps.com
X-WR-CALDESC:Events for AV8MAPS.COM
REFRESH-INTERVAL;VALUE=DURATION:PT1H
X-Robots-Tag:noindex
X-PUBLISHED-TTL:PT1H
BEGIN:VTIMEZONE
TZID:America/New_York
BEGIN:DAYLIGHT
TZOFFSETFROM:-0500
TZOFFSETTO:-0400
TZNAME:EDT
DTSTART:20250309T070000
END:DAYLIGHT
BEGIN:STANDARD
TZOFFSETFROM:-0400
TZOFFSETTO:-0500
TZNAME:EST
DTSTART:20251102T060000
END:STANDARD
BEGIN:DAYLIGHT
TZOFFSETFROM:-0500
TZOFFSETTO:-0400
TZNAME:EDT
DTSTART:20260308T070000
END:DAYLIGHT
BEGIN:STANDARD
TZOFFSETFROM:-0400
TZOFFSETTO:-0500
TZNAME:EST
DTSTART:20261101T060000
END:STANDARD
BEGIN:DAYLIGHT
TZOFFSETFROM:-0500
TZOFFSETTO:-0400
TZNAME:EDT
DTSTART:20270314T070000
END:DAYLIGHT
BEGIN:STANDARD
TZOFFSETFROM:-0400
TZOFFSETTO:-0500
TZNAME:EST
DTSTART:20271107T060000
END:STANDARD
BEGIN:DAYLIGHT
TZOFFSETFROM:-0500
TZOFFSETTO:-0400
TZNAME:EDT
DTSTART:20280312T070000
END:DAYLIGHT
BEGIN:STANDARD
TZOFFSETFROM:-0400
TZOFFSETTO:-0500
TZNAME:EST
DTSTART:20281105T060000
END:STANDARD
BEGIN:DAYLIGHT
TZOFFSETFROM:-0500
TZOFFSETTO:-0400
TZNAME:EDT
DTSTART:20290311T070000
END:DAYLIGHT
BEGIN:STANDARD
TZOFFSETFROM:-0400
TZOFFSETTO:-0500
TZNAME:EST
DTSTART:20291104T060000
END:STANDARD
BEGIN:DAYLIGHT
TZOFFSETFROM:-0500
TZOFFSETTO:-0400
TZNAME:EDT
DTSTART:20300310T070000
END:DAYLIGHT
BEGIN:STANDARD
TZOFFSETFROM:-0400
TZOFFSETTO:-0500
TZNAME:EST
DTSTART:20301103T060000
END:STANDARD
BEGIN:DAYLIGHT
TZOFFSETFROM:-0500
TZOFFSETTO:-0400
TZNAME:EDT
DTSTART:20310309T070000
END:DAYLIGHT
BEGIN:STANDARD
TZOFFSETFROM:-0400
TZOFFSETTO:-0500
TZNAME:EST
DTSTART:20311102T060000
END:STANDARD
END:VTIMEZONE
BEGIN:VEVENT
DTSTART;TZID=America/New_York:20260825T110000
DTEND;TZID=America/New_York:20260825T200000
DTSTAMP:20260422T222029
CREATED:20250704T210111Z
LAST-MODIFIED:20251101T125646Z
UID:10002042-1787655600-1787688000@av8maps.com
SUMMARY:Annual Flight Picnic (KRDK)
DESCRIPTION:Contact Person:  Chad Hill 1-605-484-2374 \nCamping Spots are available.  Call for reservations 1-712-274-3614
URL:https://av8maps.com/event/annual-flight-picnic-krdk/2026-08-25/
LOCATION:Red Oak Airport\, 1674 200th St\, Red Oak\, IA 51566
ATTACH;FMTTYPE=image/jpeg:https://av8maps.com/wp-content/uploads/2025/07/Red-Oak-Annual-Flight-Picnic-e1751662724872.jpg
GEO:41.0116021;-95.2593026
X-APPLE-STRUCTURED-LOCATION;VALUE=URI;X-ADDRESS=Red Oak Airport 1674 200th St Red Oak IA 51566;X-APPLE-RADIUS=500;X-TITLE=1674 200th St\, Red Oak\, IA 51566:geo:-95.2593026,41.0116021
END:VEVENT
BEGIN:VEVENT
DTSTART;TZID=America/New_York:20270824T110000
DTEND;TZID=America/New_York:20270824T200000
DTSTAMP:20260422T222029
CREATED:20250704T210111Z
LAST-MODIFIED:20251101T125646Z
UID:10002043-1819105200-1819137600@av8maps.com
SUMMARY:Annual Flight Picnic (KRDK)
DESCRIPTION:Contact Person:  Chad Hill 1-605-484-2374 \nCamping Spots are available.  Call for reservations 1-712-274-3614
URL:https://av8maps.com/event/annual-flight-picnic-krdk/2027-08-24/
LOCATION:Red Oak Airport\, 1674 200th St\, Red Oak\, IA 51566
ATTACH;FMTTYPE=image/jpeg:https://av8maps.com/wp-content/uploads/2025/07/Red-Oak-Annual-Flight-Picnic-e1751662724872.jpg
GEO:41.0116021;-95.2593026
X-APPLE-STRUCTURED-LOCATION;VALUE=URI;X-ADDRESS=Red Oak Airport 1674 200th St Red Oak IA 51566;X-APPLE-RADIUS=500;X-TITLE=1674 200th St\, Red Oak\, IA 51566:geo:-95.2593026,41.0116021
END:VEVENT
BEGIN:VEVENT
DTSTART;TZID=America/New_York:20280822T110000
DTEND;TZID=America/New_York:20280822T200000
DTSTAMP:20260422T222029
CREATED:20250704T210111Z
LAST-MODIFIED:20251101T125646Z
UID:10002044-1850554800-1850587200@av8maps.com
SUMMARY:Annual Flight Picnic (KRDK)
DESCRIPTION:Contact Person:  Chad Hill 1-605-484-2374 \nCamping Spots are available.  Call for reservations 1-712-274-3614
URL:https://av8maps.com/event/annual-flight-picnic-krdk/2028-08-22/
LOCATION:Red Oak Airport\, 1674 200th St\, Red Oak\, IA 51566
ATTACH;FMTTYPE=image/jpeg:https://av8maps.com/wp-content/uploads/2025/07/Red-Oak-Annual-Flight-Picnic-e1751662724872.jpg
GEO:41.0116021;-95.2593026
X-APPLE-STRUCTURED-LOCATION;VALUE=URI;X-ADDRESS=Red Oak Airport 1674 200th St Red Oak IA 51566;X-APPLE-RADIUS=500;X-TITLE=1674 200th St\, Red Oak\, IA 51566:geo:-95.2593026,41.0116021
END:VEVENT
BEGIN:VEVENT
DTSTART;TZID=America/New_York:20290828T110000
DTEND;TZID=America/New_York:20290828T200000
DTSTAMP:20260422T222029
CREATED:20250704T210111Z
LAST-MODIFIED:20251101T125646Z
UID:10002045-1882609200-1882641600@av8maps.com
SUMMARY:Annual Flight Picnic (KRDK)
DESCRIPTION:Contact Person:  Chad Hill 1-605-484-2374 \nCamping Spots are available.  Call for reservations 1-712-274-3614
URL:https://av8maps.com/event/annual-flight-picnic-krdk/2029-08-28/
LOCATION:Red Oak Airport\, 1674 200th St\, Red Oak\, IA 51566
ATTACH;FMTTYPE=image/jpeg:https://av8maps.com/wp-content/uploads/2025/07/Red-Oak-Annual-Flight-Picnic-e1751662724872.jpg
GEO:41.0116021;-95.2593026
X-APPLE-STRUCTURED-LOCATION;VALUE=URI;X-ADDRESS=Red Oak Airport 1674 200th St Red Oak IA 51566;X-APPLE-RADIUS=500;X-TITLE=1674 200th St\, Red Oak\, IA 51566:geo:-95.2593026,41.0116021
END:VEVENT
BEGIN:VEVENT
DTSTART;TZID=America/New_York:20300827T110000
DTEND;TZID=America/New_York:20300827T200000
DTSTAMP:20260422T222029
CREATED:20250704T210111Z
LAST-MODIFIED:20251101T125646Z
UID:10002046-1914058800-1914091200@av8maps.com
SUMMARY:Annual Flight Picnic (KRDK)
DESCRIPTION:Contact Person:  Chad Hill 1-605-484-2374 \nCamping Spots are available.  Call for reservations 1-712-274-3614
URL:https://av8maps.com/event/annual-flight-picnic-krdk/2030-08-27/
LOCATION:Red Oak Airport\, 1674 200th St\, Red Oak\, IA 51566
ATTACH;FMTTYPE=image/jpeg:https://av8maps.com/wp-content/uploads/2025/07/Red-Oak-Annual-Flight-Picnic-e1751662724872.jpg
GEO:41.0116021;-95.2593026
X-APPLE-STRUCTURED-LOCATION;VALUE=URI;X-ADDRESS=Red Oak Airport 1674 200th St Red Oak IA 51566;X-APPLE-RADIUS=500;X-TITLE=1674 200th St\, Red Oak\, IA 51566:geo:-95.2593026,41.0116021
END:VEVENT
END:VCALENDAR