BEGIN:VCALENDAR
VERSION:2.0
PRODID:-//AV8MAPS.COM - ECPv6.15.20//NONSGML v1.0//EN
CALSCALE:GREGORIAN
METHOD:PUBLISH
X-WR-CALNAME:AV8MAPS.COM
X-ORIGINAL-URL:https://av8maps.com
X-WR-CALDESC:Events for AV8MAPS.COM
REFRESH-INTERVAL;VALUE=DURATION:PT1H
X-Robots-Tag:noindex
X-PUBLISHED-TTL:PT1H
BEGIN:VTIMEZONE
TZID:America/New_York
BEGIN:DAYLIGHT
TZOFFSETFROM:-0500
TZOFFSETTO:-0400
TZNAME:EDT
DTSTART:20250309T070000
END:DAYLIGHT
BEGIN:STANDARD
TZOFFSETFROM:-0400
TZOFFSETTO:-0500
TZNAME:EST
DTSTART:20251102T060000
END:STANDARD
BEGIN:DAYLIGHT
TZOFFSETFROM:-0500
TZOFFSETTO:-0400
TZNAME:EDT
DTSTART:20260308T070000
END:DAYLIGHT
BEGIN:STANDARD
TZOFFSETFROM:-0400
TZOFFSETTO:-0500
TZNAME:EST
DTSTART:20261101T060000
END:STANDARD
BEGIN:DAYLIGHT
TZOFFSETFROM:-0500
TZOFFSETTO:-0400
TZNAME:EDT
DTSTART:20270314T070000
END:DAYLIGHT
BEGIN:STANDARD
TZOFFSETFROM:-0400
TZOFFSETTO:-0500
TZNAME:EST
DTSTART:20271107T060000
END:STANDARD
END:VTIMEZONE
BEGIN:VEVENT
DTSTART;TZID=America/New_York:20260425T080000
DTEND;TZID=America/New_York:20260425T100000
DTSTAMP:20260422T195608
CREATED:20250706T194148Z
LAST-MODIFIED:20251101T130643Z
UID:10002132-1777104000-1777111200@av8maps.com
SUMMARY:Haskell Airport Coffee & Donuts Every Saturday (2K9)
DESCRIPTION:Rain or shine\, fly or drive\, aviation enthusiasts will be there no matter what the weather is doing.
URL:https://av8maps.com/event/kaskell-airport-coffee-donuts-every-saturday-2k9/2026-04-25/
LOCATION:Haskell Airport\, OK-72\,\, Haskell\, OK\, 74436
ATTACH;FMTTYPE=image/jpeg:https://av8maps.com/wp-content/uploads/2025/07/Haskell-Airport-e1751830891432.jpg
GEO:35.8197906;-95.6749658
X-APPLE-STRUCTURED-LOCATION;VALUE=URI;X-ADDRESS=Haskell Airport OK-72 Haskell OK 74436;X-APPLE-RADIUS=500;X-TITLE=OK-72\,:geo:-95.6749658,35.8197906
END:VEVENT
BEGIN:VEVENT
DTSTART;TZID=America/New_York:20260502T080000
DTEND;TZID=America/New_York:20260502T100000
DTSTAMP:20260422T195608
CREATED:20250706T194148Z
LAST-MODIFIED:20251101T130643Z
UID:10002133-1777708800-1777716000@av8maps.com
SUMMARY:Haskell Airport Coffee & Donuts Every Saturday (2K9)
DESCRIPTION:Rain or shine\, fly or drive\, aviation enthusiasts will be there no matter what the weather is doing.
URL:https://av8maps.com/event/kaskell-airport-coffee-donuts-every-saturday-2k9/2026-05-02/
LOCATION:Haskell Airport\, OK-72\,\, Haskell\, OK\, 74436
ATTACH;FMTTYPE=image/jpeg:https://av8maps.com/wp-content/uploads/2025/07/Haskell-Airport-e1751830891432.jpg
GEO:35.8197906;-95.6749658
X-APPLE-STRUCTURED-LOCATION;VALUE=URI;X-ADDRESS=Haskell Airport OK-72 Haskell OK 74436;X-APPLE-RADIUS=500;X-TITLE=OK-72\,:geo:-95.6749658,35.8197906
END:VEVENT
BEGIN:VEVENT
DTSTART;TZID=America/New_York:20260509T080000
DTEND;TZID=America/New_York:20260509T100000
DTSTAMP:20260422T195608
CREATED:20250706T194148Z
LAST-MODIFIED:20251101T130643Z
UID:10002134-1778313600-1778320800@av8maps.com
SUMMARY:Haskell Airport Coffee & Donuts Every Saturday (2K9)
DESCRIPTION:Rain or shine\, fly or drive\, aviation enthusiasts will be there no matter what the weather is doing.
URL:https://av8maps.com/event/kaskell-airport-coffee-donuts-every-saturday-2k9/2026-05-09/
LOCATION:Haskell Airport\, OK-72\,\, Haskell\, OK\, 74436
ATTACH;FMTTYPE=image/jpeg:https://av8maps.com/wp-content/uploads/2025/07/Haskell-Airport-e1751830891432.jpg
GEO:35.8197906;-95.6749658
X-APPLE-STRUCTURED-LOCATION;VALUE=URI;X-ADDRESS=Haskell Airport OK-72 Haskell OK 74436;X-APPLE-RADIUS=500;X-TITLE=OK-72\,:geo:-95.6749658,35.8197906
END:VEVENT
BEGIN:VEVENT
DTSTART;TZID=America/New_York:20260516T080000
DTEND;TZID=America/New_York:20260516T100000
DTSTAMP:20260422T195608
CREATED:20250706T194148Z
LAST-MODIFIED:20251101T130643Z
UID:10002135-1778918400-1778925600@av8maps.com
SUMMARY:Haskell Airport Coffee & Donuts Every Saturday (2K9)
DESCRIPTION:Rain or shine\, fly or drive\, aviation enthusiasts will be there no matter what the weather is doing.
URL:https://av8maps.com/event/kaskell-airport-coffee-donuts-every-saturday-2k9/2026-05-16/
LOCATION:Haskell Airport\, OK-72\,\, Haskell\, OK\, 74436
ATTACH;FMTTYPE=image/jpeg:https://av8maps.com/wp-content/uploads/2025/07/Haskell-Airport-e1751830891432.jpg
GEO:35.8197906;-95.6749658
X-APPLE-STRUCTURED-LOCATION;VALUE=URI;X-ADDRESS=Haskell Airport OK-72 Haskell OK 74436;X-APPLE-RADIUS=500;X-TITLE=OK-72\,:geo:-95.6749658,35.8197906
END:VEVENT
BEGIN:VEVENT
DTSTART;TZID=America/New_York:20260523T080000
DTEND;TZID=America/New_York:20260523T100000
DTSTAMP:20260422T195608
CREATED:20250706T194148Z
LAST-MODIFIED:20251101T130643Z
UID:10002136-1779523200-1779530400@av8maps.com
SUMMARY:Haskell Airport Coffee & Donuts Every Saturday (2K9)
DESCRIPTION:Rain or shine\, fly or drive\, aviation enthusiasts will be there no matter what the weather is doing.
URL:https://av8maps.com/event/kaskell-airport-coffee-donuts-every-saturday-2k9/2026-05-23/
LOCATION:Haskell Airport\, OK-72\,\, Haskell\, OK\, 74436
ATTACH;FMTTYPE=image/jpeg:https://av8maps.com/wp-content/uploads/2025/07/Haskell-Airport-e1751830891432.jpg
GEO:35.8197906;-95.6749658
X-APPLE-STRUCTURED-LOCATION;VALUE=URI;X-ADDRESS=Haskell Airport OK-72 Haskell OK 74436;X-APPLE-RADIUS=500;X-TITLE=OK-72\,:geo:-95.6749658,35.8197906
END:VEVENT
BEGIN:VEVENT
DTSTART;TZID=America/New_York:20260530T080000
DTEND;TZID=America/New_York:20260530T100000
DTSTAMP:20260422T195608
CREATED:20250706T194148Z
LAST-MODIFIED:20251101T130643Z
UID:10002137-1780128000-1780135200@av8maps.com
SUMMARY:Haskell Airport Coffee & Donuts Every Saturday (2K9)
DESCRIPTION:Rain or shine\, fly or drive\, aviation enthusiasts will be there no matter what the weather is doing.
URL:https://av8maps.com/event/kaskell-airport-coffee-donuts-every-saturday-2k9/2026-05-30/
LOCATION:Haskell Airport\, OK-72\,\, Haskell\, OK\, 74436
ATTACH;FMTTYPE=image/jpeg:https://av8maps.com/wp-content/uploads/2025/07/Haskell-Airport-e1751830891432.jpg
GEO:35.8197906;-95.6749658
X-APPLE-STRUCTURED-LOCATION;VALUE=URI;X-ADDRESS=Haskell Airport OK-72 Haskell OK 74436;X-APPLE-RADIUS=500;X-TITLE=OK-72\,:geo:-95.6749658,35.8197906
END:VEVENT
BEGIN:VEVENT
DTSTART;TZID=America/New_York:20260606T080000
DTEND;TZID=America/New_York:20260606T100000
DTSTAMP:20260422T195608
CREATED:20250706T194148Z
LAST-MODIFIED:20251101T130643Z
UID:10002138-1780732800-1780740000@av8maps.com
SUMMARY:Haskell Airport Coffee & Donuts Every Saturday (2K9)
DESCRIPTION:Rain or shine\, fly or drive\, aviation enthusiasts will be there no matter what the weather is doing.
URL:https://av8maps.com/event/kaskell-airport-coffee-donuts-every-saturday-2k9/2026-06-06/
LOCATION:Haskell Airport\, OK-72\,\, Haskell\, OK\, 74436
ATTACH;FMTTYPE=image/jpeg:https://av8maps.com/wp-content/uploads/2025/07/Haskell-Airport-e1751830891432.jpg
GEO:35.8197906;-95.6749658
X-APPLE-STRUCTURED-LOCATION;VALUE=URI;X-ADDRESS=Haskell Airport OK-72 Haskell OK 74436;X-APPLE-RADIUS=500;X-TITLE=OK-72\,:geo:-95.6749658,35.8197906
END:VEVENT
BEGIN:VEVENT
DTSTART;TZID=America/New_York:20260613T080000
DTEND;TZID=America/New_York:20260613T100000
DTSTAMP:20260422T195608
CREATED:20250706T194148Z
LAST-MODIFIED:20251101T130643Z
UID:10002139-1781337600-1781344800@av8maps.com
SUMMARY:Haskell Airport Coffee & Donuts Every Saturday (2K9)
DESCRIPTION:Rain or shine\, fly or drive\, aviation enthusiasts will be there no matter what the weather is doing.
URL:https://av8maps.com/event/kaskell-airport-coffee-donuts-every-saturday-2k9/2026-06-13/
LOCATION:Haskell Airport\, OK-72\,\, Haskell\, OK\, 74436
ATTACH;FMTTYPE=image/jpeg:https://av8maps.com/wp-content/uploads/2025/07/Haskell-Airport-e1751830891432.jpg
GEO:35.8197906;-95.6749658
X-APPLE-STRUCTURED-LOCATION;VALUE=URI;X-ADDRESS=Haskell Airport OK-72 Haskell OK 74436;X-APPLE-RADIUS=500;X-TITLE=OK-72\,:geo:-95.6749658,35.8197906
END:VEVENT
BEGIN:VEVENT
DTSTART;TZID=America/New_York:20260620T080000
DTEND;TZID=America/New_York:20260620T100000
DTSTAMP:20260422T195608
CREATED:20250706T194148Z
LAST-MODIFIED:20251101T130643Z
UID:10002140-1781942400-1781949600@av8maps.com
SUMMARY:Haskell Airport Coffee & Donuts Every Saturday (2K9)
DESCRIPTION:Rain or shine\, fly or drive\, aviation enthusiasts will be there no matter what the weather is doing.
URL:https://av8maps.com/event/kaskell-airport-coffee-donuts-every-saturday-2k9/2026-06-20/
LOCATION:Haskell Airport\, OK-72\,\, Haskell\, OK\, 74436
ATTACH;FMTTYPE=image/jpeg:https://av8maps.com/wp-content/uploads/2025/07/Haskell-Airport-e1751830891432.jpg
GEO:35.8197906;-95.6749658
X-APPLE-STRUCTURED-LOCATION;VALUE=URI;X-ADDRESS=Haskell Airport OK-72 Haskell OK 74436;X-APPLE-RADIUS=500;X-TITLE=OK-72\,:geo:-95.6749658,35.8197906
END:VEVENT
BEGIN:VEVENT
DTSTART;TZID=America/New_York:20260627T080000
DTEND;TZID=America/New_York:20260627T100000
DTSTAMP:20260422T195608
CREATED:20250706T194148Z
LAST-MODIFIED:20251101T130643Z
UID:10002141-1782547200-1782554400@av8maps.com
SUMMARY:Haskell Airport Coffee & Donuts Every Saturday (2K9)
DESCRIPTION:Rain or shine\, fly or drive\, aviation enthusiasts will be there no matter what the weather is doing.
URL:https://av8maps.com/event/kaskell-airport-coffee-donuts-every-saturday-2k9/2026-06-27/
LOCATION:Haskell Airport\, OK-72\,\, Haskell\, OK\, 74436
ATTACH;FMTTYPE=image/jpeg:https://av8maps.com/wp-content/uploads/2025/07/Haskell-Airport-e1751830891432.jpg
GEO:35.8197906;-95.6749658
X-APPLE-STRUCTURED-LOCATION;VALUE=URI;X-ADDRESS=Haskell Airport OK-72 Haskell OK 74436;X-APPLE-RADIUS=500;X-TITLE=OK-72\,:geo:-95.6749658,35.8197906
END:VEVENT
BEGIN:VEVENT
DTSTART;TZID=America/New_York:20260704T080000
DTEND;TZID=America/New_York:20260704T100000
DTSTAMP:20260422T195608
CREATED:20250706T194148Z
LAST-MODIFIED:20251101T130643Z
UID:10002142-1783152000-1783159200@av8maps.com
SUMMARY:Haskell Airport Coffee & Donuts Every Saturday (2K9)
DESCRIPTION:Rain or shine\, fly or drive\, aviation enthusiasts will be there no matter what the weather is doing.
URL:https://av8maps.com/event/kaskell-airport-coffee-donuts-every-saturday-2k9/2026-07-04/
LOCATION:Haskell Airport\, OK-72\,\, Haskell\, OK\, 74436
ATTACH;FMTTYPE=image/jpeg:https://av8maps.com/wp-content/uploads/2025/07/Haskell-Airport-e1751830891432.jpg
GEO:35.8197906;-95.6749658
X-APPLE-STRUCTURED-LOCATION;VALUE=URI;X-ADDRESS=Haskell Airport OK-72 Haskell OK 74436;X-APPLE-RADIUS=500;X-TITLE=OK-72\,:geo:-95.6749658,35.8197906
END:VEVENT
BEGIN:VEVENT
DTSTART;TZID=America/New_York:20260711T080000
DTEND;TZID=America/New_York:20260711T100000
DTSTAMP:20260422T195608
CREATED:20250706T194148Z
LAST-MODIFIED:20251101T130643Z
UID:10002143-1783756800-1783764000@av8maps.com
SUMMARY:Haskell Airport Coffee & Donuts Every Saturday (2K9)
DESCRIPTION:Rain or shine\, fly or drive\, aviation enthusiasts will be there no matter what the weather is doing.
URL:https://av8maps.com/event/kaskell-airport-coffee-donuts-every-saturday-2k9/2026-07-11/
LOCATION:Haskell Airport\, OK-72\,\, Haskell\, OK\, 74436
ATTACH;FMTTYPE=image/jpeg:https://av8maps.com/wp-content/uploads/2025/07/Haskell-Airport-e1751830891432.jpg
GEO:35.8197906;-95.6749658
X-APPLE-STRUCTURED-LOCATION;VALUE=URI;X-ADDRESS=Haskell Airport OK-72 Haskell OK 74436;X-APPLE-RADIUS=500;X-TITLE=OK-72\,:geo:-95.6749658,35.8197906
END:VEVENT
BEGIN:VEVENT
DTSTART;TZID=America/New_York:20260718T080000
DTEND;TZID=America/New_York:20260718T100000
DTSTAMP:20260422T195608
CREATED:20250706T194148Z
LAST-MODIFIED:20251101T130643Z
UID:10002144-1784361600-1784368800@av8maps.com
SUMMARY:Haskell Airport Coffee & Donuts Every Saturday (2K9)
DESCRIPTION:Rain or shine\, fly or drive\, aviation enthusiasts will be there no matter what the weather is doing.
URL:https://av8maps.com/event/kaskell-airport-coffee-donuts-every-saturday-2k9/2026-07-18/
LOCATION:Haskell Airport\, OK-72\,\, Haskell\, OK\, 74436
ATTACH;FMTTYPE=image/jpeg:https://av8maps.com/wp-content/uploads/2025/07/Haskell-Airport-e1751830891432.jpg
GEO:35.8197906;-95.6749658
X-APPLE-STRUCTURED-LOCATION;VALUE=URI;X-ADDRESS=Haskell Airport OK-72 Haskell OK 74436;X-APPLE-RADIUS=500;X-TITLE=OK-72\,:geo:-95.6749658,35.8197906
END:VEVENT
BEGIN:VEVENT
DTSTART;TZID=America/New_York:20260725T080000
DTEND;TZID=America/New_York:20260725T100000
DTSTAMP:20260422T195608
CREATED:20250706T194148Z
LAST-MODIFIED:20251101T130643Z
UID:10002145-1784966400-1784973600@av8maps.com
SUMMARY:Haskell Airport Coffee & Donuts Every Saturday (2K9)
DESCRIPTION:Rain or shine\, fly or drive\, aviation enthusiasts will be there no matter what the weather is doing.
URL:https://av8maps.com/event/kaskell-airport-coffee-donuts-every-saturday-2k9/2026-07-25/
LOCATION:Haskell Airport\, OK-72\,\, Haskell\, OK\, 74436
ATTACH;FMTTYPE=image/jpeg:https://av8maps.com/wp-content/uploads/2025/07/Haskell-Airport-e1751830891432.jpg
GEO:35.8197906;-95.6749658
X-APPLE-STRUCTURED-LOCATION;VALUE=URI;X-ADDRESS=Haskell Airport OK-72 Haskell OK 74436;X-APPLE-RADIUS=500;X-TITLE=OK-72\,:geo:-95.6749658,35.8197906
END:VEVENT
BEGIN:VEVENT
DTSTART;TZID=America/New_York:20260801T080000
DTEND;TZID=America/New_York:20260801T100000
DTSTAMP:20260422T195608
CREATED:20250706T194148Z
LAST-MODIFIED:20251101T130643Z
UID:10002146-1785571200-1785578400@av8maps.com
SUMMARY:Haskell Airport Coffee & Donuts Every Saturday (2K9)
DESCRIPTION:Rain or shine\, fly or drive\, aviation enthusiasts will be there no matter what the weather is doing.
URL:https://av8maps.com/event/kaskell-airport-coffee-donuts-every-saturday-2k9/2026-08-01/
LOCATION:Haskell Airport\, OK-72\,\, Haskell\, OK\, 74436
ATTACH;FMTTYPE=image/jpeg:https://av8maps.com/wp-content/uploads/2025/07/Haskell-Airport-e1751830891432.jpg
GEO:35.8197906;-95.6749658
X-APPLE-STRUCTURED-LOCATION;VALUE=URI;X-ADDRESS=Haskell Airport OK-72 Haskell OK 74436;X-APPLE-RADIUS=500;X-TITLE=OK-72\,:geo:-95.6749658,35.8197906
END:VEVENT
BEGIN:VEVENT
DTSTART;TZID=America/New_York:20260808T080000
DTEND;TZID=America/New_York:20260808T100000
DTSTAMP:20260422T195609
CREATED:20250706T194148Z
LAST-MODIFIED:20251101T130643Z
UID:10002147-1786176000-1786183200@av8maps.com
SUMMARY:Haskell Airport Coffee & Donuts Every Saturday (2K9)
DESCRIPTION:Rain or shine\, fly or drive\, aviation enthusiasts will be there no matter what the weather is doing.
URL:https://av8maps.com/event/kaskell-airport-coffee-donuts-every-saturday-2k9/2026-08-08/
LOCATION:Haskell Airport\, OK-72\,\, Haskell\, OK\, 74436
ATTACH;FMTTYPE=image/jpeg:https://av8maps.com/wp-content/uploads/2025/07/Haskell-Airport-e1751830891432.jpg
GEO:35.8197906;-95.6749658
X-APPLE-STRUCTURED-LOCATION;VALUE=URI;X-ADDRESS=Haskell Airport OK-72 Haskell OK 74436;X-APPLE-RADIUS=500;X-TITLE=OK-72\,:geo:-95.6749658,35.8197906
END:VEVENT
BEGIN:VEVENT
DTSTART;TZID=America/New_York:20260815T080000
DTEND;TZID=America/New_York:20260815T100000
DTSTAMP:20260422T195609
CREATED:20250706T194148Z
LAST-MODIFIED:20251101T130643Z
UID:10002148-1786780800-1786788000@av8maps.com
SUMMARY:Haskell Airport Coffee & Donuts Every Saturday (2K9)
DESCRIPTION:Rain or shine\, fly or drive\, aviation enthusiasts will be there no matter what the weather is doing.
URL:https://av8maps.com/event/kaskell-airport-coffee-donuts-every-saturday-2k9/2026-08-15/
LOCATION:Haskell Airport\, OK-72\,\, Haskell\, OK\, 74436
ATTACH;FMTTYPE=image/jpeg:https://av8maps.com/wp-content/uploads/2025/07/Haskell-Airport-e1751830891432.jpg
GEO:35.8197906;-95.6749658
X-APPLE-STRUCTURED-LOCATION;VALUE=URI;X-ADDRESS=Haskell Airport OK-72 Haskell OK 74436;X-APPLE-RADIUS=500;X-TITLE=OK-72\,:geo:-95.6749658,35.8197906
END:VEVENT
BEGIN:VEVENT
DTSTART;TZID=America/New_York:20260822T080000
DTEND;TZID=America/New_York:20260822T100000
DTSTAMP:20260422T195609
CREATED:20250706T194148Z
LAST-MODIFIED:20251101T130643Z
UID:10002149-1787385600-1787392800@av8maps.com
SUMMARY:Haskell Airport Coffee & Donuts Every Saturday (2K9)
DESCRIPTION:Rain or shine\, fly or drive\, aviation enthusiasts will be there no matter what the weather is doing.
URL:https://av8maps.com/event/kaskell-airport-coffee-donuts-every-saturday-2k9/2026-08-22/
LOCATION:Haskell Airport\, OK-72\,\, Haskell\, OK\, 74436
ATTACH;FMTTYPE=image/jpeg:https://av8maps.com/wp-content/uploads/2025/07/Haskell-Airport-e1751830891432.jpg
GEO:35.8197906;-95.6749658
X-APPLE-STRUCTURED-LOCATION;VALUE=URI;X-ADDRESS=Haskell Airport OK-72 Haskell OK 74436;X-APPLE-RADIUS=500;X-TITLE=OK-72\,:geo:-95.6749658,35.8197906
END:VEVENT
BEGIN:VEVENT
DTSTART;TZID=America/New_York:20260829T080000
DTEND;TZID=America/New_York:20260829T100000
DTSTAMP:20260422T195609
CREATED:20250706T194148Z
LAST-MODIFIED:20251101T130643Z
UID:10002150-1787990400-1787997600@av8maps.com
SUMMARY:Haskell Airport Coffee & Donuts Every Saturday (2K9)
DESCRIPTION:Rain or shine\, fly or drive\, aviation enthusiasts will be there no matter what the weather is doing.
URL:https://av8maps.com/event/kaskell-airport-coffee-donuts-every-saturday-2k9/2026-08-29/
LOCATION:Haskell Airport\, OK-72\,\, Haskell\, OK\, 74436
ATTACH;FMTTYPE=image/jpeg:https://av8maps.com/wp-content/uploads/2025/07/Haskell-Airport-e1751830891432.jpg
GEO:35.8197906;-95.6749658
X-APPLE-STRUCTURED-LOCATION;VALUE=URI;X-ADDRESS=Haskell Airport OK-72 Haskell OK 74436;X-APPLE-RADIUS=500;X-TITLE=OK-72\,:geo:-95.6749658,35.8197906
END:VEVENT
BEGIN:VEVENT
DTSTART;TZID=America/New_York:20260905T080000
DTEND;TZID=America/New_York:20260905T100000
DTSTAMP:20260422T195609
CREATED:20250706T194148Z
LAST-MODIFIED:20251101T130643Z
UID:10002151-1788595200-1788602400@av8maps.com
SUMMARY:Haskell Airport Coffee & Donuts Every Saturday (2K9)
DESCRIPTION:Rain or shine\, fly or drive\, aviation enthusiasts will be there no matter what the weather is doing.
URL:https://av8maps.com/event/kaskell-airport-coffee-donuts-every-saturday-2k9/2026-09-05/
LOCATION:Haskell Airport\, OK-72\,\, Haskell\, OK\, 74436
ATTACH;FMTTYPE=image/jpeg:https://av8maps.com/wp-content/uploads/2025/07/Haskell-Airport-e1751830891432.jpg
GEO:35.8197906;-95.6749658
X-APPLE-STRUCTURED-LOCATION;VALUE=URI;X-ADDRESS=Haskell Airport OK-72 Haskell OK 74436;X-APPLE-RADIUS=500;X-TITLE=OK-72\,:geo:-95.6749658,35.8197906
END:VEVENT
BEGIN:VEVENT
DTSTART;TZID=America/New_York:20260912T080000
DTEND;TZID=America/New_York:20260912T100000
DTSTAMP:20260422T195609
CREATED:20250706T194148Z
LAST-MODIFIED:20251101T130643Z
UID:10002152-1789200000-1789207200@av8maps.com
SUMMARY:Haskell Airport Coffee & Donuts Every Saturday (2K9)
DESCRIPTION:Rain or shine\, fly or drive\, aviation enthusiasts will be there no matter what the weather is doing.
URL:https://av8maps.com/event/kaskell-airport-coffee-donuts-every-saturday-2k9/2026-09-12/
LOCATION:Haskell Airport\, OK-72\,\, Haskell\, OK\, 74436
ATTACH;FMTTYPE=image/jpeg:https://av8maps.com/wp-content/uploads/2025/07/Haskell-Airport-e1751830891432.jpg
GEO:35.8197906;-95.6749658
X-APPLE-STRUCTURED-LOCATION;VALUE=URI;X-ADDRESS=Haskell Airport OK-72 Haskell OK 74436;X-APPLE-RADIUS=500;X-TITLE=OK-72\,:geo:-95.6749658,35.8197906
END:VEVENT
BEGIN:VEVENT
DTSTART;TZID=America/New_York:20260919T080000
DTEND;TZID=America/New_York:20260919T100000
DTSTAMP:20260422T195609
CREATED:20250706T194148Z
LAST-MODIFIED:20251101T130643Z
UID:10002153-1789804800-1789812000@av8maps.com
SUMMARY:Haskell Airport Coffee & Donuts Every Saturday (2K9)
DESCRIPTION:Rain or shine\, fly or drive\, aviation enthusiasts will be there no matter what the weather is doing.
URL:https://av8maps.com/event/kaskell-airport-coffee-donuts-every-saturday-2k9/2026-09-19/
LOCATION:Haskell Airport\, OK-72\,\, Haskell\, OK\, 74436
ATTACH;FMTTYPE=image/jpeg:https://av8maps.com/wp-content/uploads/2025/07/Haskell-Airport-e1751830891432.jpg
GEO:35.8197906;-95.6749658
X-APPLE-STRUCTURED-LOCATION;VALUE=URI;X-ADDRESS=Haskell Airport OK-72 Haskell OK 74436;X-APPLE-RADIUS=500;X-TITLE=OK-72\,:geo:-95.6749658,35.8197906
END:VEVENT
BEGIN:VEVENT
DTSTART;TZID=America/New_York:20260926T080000
DTEND;TZID=America/New_York:20260926T100000
DTSTAMP:20260422T195609
CREATED:20250706T194148Z
LAST-MODIFIED:20251101T130643Z
UID:10002154-1790409600-1790416800@av8maps.com
SUMMARY:Haskell Airport Coffee & Donuts Every Saturday (2K9)
DESCRIPTION:Rain or shine\, fly or drive\, aviation enthusiasts will be there no matter what the weather is doing.
URL:https://av8maps.com/event/kaskell-airport-coffee-donuts-every-saturday-2k9/2026-09-26/
LOCATION:Haskell Airport\, OK-72\,\, Haskell\, OK\, 74436
ATTACH;FMTTYPE=image/jpeg:https://av8maps.com/wp-content/uploads/2025/07/Haskell-Airport-e1751830891432.jpg
GEO:35.8197906;-95.6749658
X-APPLE-STRUCTURED-LOCATION;VALUE=URI;X-ADDRESS=Haskell Airport OK-72 Haskell OK 74436;X-APPLE-RADIUS=500;X-TITLE=OK-72\,:geo:-95.6749658,35.8197906
END:VEVENT
BEGIN:VEVENT
DTSTART;TZID=America/New_York:20261003T080000
DTEND;TZID=America/New_York:20261003T100000
DTSTAMP:20260422T195609
CREATED:20250706T194148Z
LAST-MODIFIED:20251101T130643Z
UID:10002155-1791014400-1791021600@av8maps.com
SUMMARY:Haskell Airport Coffee & Donuts Every Saturday (2K9)
DESCRIPTION:Rain or shine\, fly or drive\, aviation enthusiasts will be there no matter what the weather is doing.
URL:https://av8maps.com/event/kaskell-airport-coffee-donuts-every-saturday-2k9/2026-10-03/
LOCATION:Haskell Airport\, OK-72\,\, Haskell\, OK\, 74436
ATTACH;FMTTYPE=image/jpeg:https://av8maps.com/wp-content/uploads/2025/07/Haskell-Airport-e1751830891432.jpg
GEO:35.8197906;-95.6749658
X-APPLE-STRUCTURED-LOCATION;VALUE=URI;X-ADDRESS=Haskell Airport OK-72 Haskell OK 74436;X-APPLE-RADIUS=500;X-TITLE=OK-72\,:geo:-95.6749658,35.8197906
END:VEVENT
BEGIN:VEVENT
DTSTART;TZID=America/New_York:20261010T080000
DTEND;TZID=America/New_York:20261010T100000
DTSTAMP:20260422T195609
CREATED:20250706T194148Z
LAST-MODIFIED:20251101T130643Z
UID:10002156-1791619200-1791626400@av8maps.com
SUMMARY:Haskell Airport Coffee & Donuts Every Saturday (2K9)
DESCRIPTION:Rain or shine\, fly or drive\, aviation enthusiasts will be there no matter what the weather is doing.
URL:https://av8maps.com/event/kaskell-airport-coffee-donuts-every-saturday-2k9/2026-10-10/
LOCATION:Haskell Airport\, OK-72\,\, Haskell\, OK\, 74436
ATTACH;FMTTYPE=image/jpeg:https://av8maps.com/wp-content/uploads/2025/07/Haskell-Airport-e1751830891432.jpg
GEO:35.8197906;-95.6749658
X-APPLE-STRUCTURED-LOCATION;VALUE=URI;X-ADDRESS=Haskell Airport OK-72 Haskell OK 74436;X-APPLE-RADIUS=500;X-TITLE=OK-72\,:geo:-95.6749658,35.8197906
END:VEVENT
BEGIN:VEVENT
DTSTART;TZID=America/New_York:20261017T080000
DTEND;TZID=America/New_York:20261017T100000
DTSTAMP:20260422T195609
CREATED:20250706T194148Z
LAST-MODIFIED:20251101T130643Z
UID:10002157-1792224000-1792231200@av8maps.com
SUMMARY:Haskell Airport Coffee & Donuts Every Saturday (2K9)
DESCRIPTION:Rain or shine\, fly or drive\, aviation enthusiasts will be there no matter what the weather is doing.
URL:https://av8maps.com/event/kaskell-airport-coffee-donuts-every-saturday-2k9/2026-10-17/
LOCATION:Haskell Airport\, OK-72\,\, Haskell\, OK\, 74436
ATTACH;FMTTYPE=image/jpeg:https://av8maps.com/wp-content/uploads/2025/07/Haskell-Airport-e1751830891432.jpg
GEO:35.8197906;-95.6749658
X-APPLE-STRUCTURED-LOCATION;VALUE=URI;X-ADDRESS=Haskell Airport OK-72 Haskell OK 74436;X-APPLE-RADIUS=500;X-TITLE=OK-72\,:geo:-95.6749658,35.8197906
END:VEVENT
BEGIN:VEVENT
DTSTART;TZID=America/New_York:20261024T080000
DTEND;TZID=America/New_York:20261024T100000
DTSTAMP:20260422T195609
CREATED:20250706T194148Z
LAST-MODIFIED:20251101T130643Z
UID:10002158-1792828800-1792836000@av8maps.com
SUMMARY:Haskell Airport Coffee & Donuts Every Saturday (2K9)
DESCRIPTION:Rain or shine\, fly or drive\, aviation enthusiasts will be there no matter what the weather is doing.
URL:https://av8maps.com/event/kaskell-airport-coffee-donuts-every-saturday-2k9/2026-10-24/
LOCATION:Haskell Airport\, OK-72\,\, Haskell\, OK\, 74436
ATTACH;FMTTYPE=image/jpeg:https://av8maps.com/wp-content/uploads/2025/07/Haskell-Airport-e1751830891432.jpg
GEO:35.8197906;-95.6749658
X-APPLE-STRUCTURED-LOCATION;VALUE=URI;X-ADDRESS=Haskell Airport OK-72 Haskell OK 74436;X-APPLE-RADIUS=500;X-TITLE=OK-72\,:geo:-95.6749658,35.8197906
END:VEVENT
BEGIN:VEVENT
DTSTART;TZID=America/New_York:20261031T080000
DTEND;TZID=America/New_York:20261031T100000
DTSTAMP:20260422T195609
CREATED:20250706T194148Z
LAST-MODIFIED:20251101T130643Z
UID:10002159-1793433600-1793440800@av8maps.com
SUMMARY:Haskell Airport Coffee & Donuts Every Saturday (2K9)
DESCRIPTION:Rain or shine\, fly or drive\, aviation enthusiasts will be there no matter what the weather is doing.
URL:https://av8maps.com/event/kaskell-airport-coffee-donuts-every-saturday-2k9/2026-10-31/
LOCATION:Haskell Airport\, OK-72\,\, Haskell\, OK\, 74436
ATTACH;FMTTYPE=image/jpeg:https://av8maps.com/wp-content/uploads/2025/07/Haskell-Airport-e1751830891432.jpg
GEO:35.8197906;-95.6749658
X-APPLE-STRUCTURED-LOCATION;VALUE=URI;X-ADDRESS=Haskell Airport OK-72 Haskell OK 74436;X-APPLE-RADIUS=500;X-TITLE=OK-72\,:geo:-95.6749658,35.8197906
END:VEVENT
BEGIN:VEVENT
DTSTART;TZID=America/New_York:20261107T080000
DTEND;TZID=America/New_York:20261107T100000
DTSTAMP:20260422T195609
CREATED:20250706T194148Z
LAST-MODIFIED:20251101T130643Z
UID:10002160-1794038400-1794045600@av8maps.com
SUMMARY:Haskell Airport Coffee & Donuts Every Saturday (2K9)
DESCRIPTION:Rain or shine\, fly or drive\, aviation enthusiasts will be there no matter what the weather is doing.
URL:https://av8maps.com/event/kaskell-airport-coffee-donuts-every-saturday-2k9/2026-11-07/
LOCATION:Haskell Airport\, OK-72\,\, Haskell\, OK\, 74436
ATTACH;FMTTYPE=image/jpeg:https://av8maps.com/wp-content/uploads/2025/07/Haskell-Airport-e1751830891432.jpg
GEO:35.8197906;-95.6749658
X-APPLE-STRUCTURED-LOCATION;VALUE=URI;X-ADDRESS=Haskell Airport OK-72 Haskell OK 74436;X-APPLE-RADIUS=500;X-TITLE=OK-72\,:geo:-95.6749658,35.8197906
END:VEVENT
BEGIN:VEVENT
DTSTART;TZID=America/New_York:20261114T080000
DTEND;TZID=America/New_York:20261114T100000
DTSTAMP:20260422T195609
CREATED:20250706T194148Z
LAST-MODIFIED:20251101T130643Z
UID:10002161-1794643200-1794650400@av8maps.com
SUMMARY:Haskell Airport Coffee & Donuts Every Saturday (2K9)
DESCRIPTION:Rain or shine\, fly or drive\, aviation enthusiasts will be there no matter what the weather is doing.
URL:https://av8maps.com/event/kaskell-airport-coffee-donuts-every-saturday-2k9/2026-11-14/
LOCATION:Haskell Airport\, OK-72\,\, Haskell\, OK\, 74436
ATTACH;FMTTYPE=image/jpeg:https://av8maps.com/wp-content/uploads/2025/07/Haskell-Airport-e1751830891432.jpg
GEO:35.8197906;-95.6749658
X-APPLE-STRUCTURED-LOCATION;VALUE=URI;X-ADDRESS=Haskell Airport OK-72 Haskell OK 74436;X-APPLE-RADIUS=500;X-TITLE=OK-72\,:geo:-95.6749658,35.8197906
END:VEVENT
END:VCALENDAR