BEGIN:VCALENDAR
VERSION:2.0
PRODID:-//AV8MAPS.COM - ECPv6.15.20//NONSGML v1.0//EN
CALSCALE:GREGORIAN
METHOD:PUBLISH
X-WR-CALNAME:AV8MAPS.COM
X-ORIGINAL-URL:https://av8maps.com
X-WR-CALDESC:Events for AV8MAPS.COM
REFRESH-INTERVAL;VALUE=DURATION:PT1H
X-Robots-Tag:noindex
X-PUBLISHED-TTL:PT1H
BEGIN:VTIMEZONE
TZID:America/New_York
BEGIN:DAYLIGHT
TZOFFSETFROM:-0500
TZOFFSETTO:-0400
TZNAME:EDT
DTSTART:20250309T070000
END:DAYLIGHT
BEGIN:STANDARD
TZOFFSETFROM:-0400
TZOFFSETTO:-0500
TZNAME:EST
DTSTART:20251102T060000
END:STANDARD
BEGIN:DAYLIGHT
TZOFFSETFROM:-0500
TZOFFSETTO:-0400
TZNAME:EDT
DTSTART:20260308T070000
END:DAYLIGHT
BEGIN:STANDARD
TZOFFSETFROM:-0400
TZOFFSETTO:-0500
TZNAME:EST
DTSTART:20261101T060000
END:STANDARD
BEGIN:DAYLIGHT
TZOFFSETFROM:-0500
TZOFFSETTO:-0400
TZNAME:EDT
DTSTART:20270314T070000
END:DAYLIGHT
BEGIN:STANDARD
TZOFFSETFROM:-0400
TZOFFSETTO:-0500
TZNAME:EST
DTSTART:20271107T060000
END:STANDARD
BEGIN:DAYLIGHT
TZOFFSETFROM:-0500
TZOFFSETTO:-0400
TZNAME:EDT
DTSTART:20280312T070000
END:DAYLIGHT
BEGIN:STANDARD
TZOFFSETFROM:-0400
TZOFFSETTO:-0500
TZNAME:EST
DTSTART:20281105T060000
END:STANDARD
BEGIN:DAYLIGHT
TZOFFSETFROM:-0500
TZOFFSETTO:-0400
TZNAME:EDT
DTSTART:20290311T070000
END:DAYLIGHT
BEGIN:STANDARD
TZOFFSETFROM:-0400
TZOFFSETTO:-0500
TZNAME:EST
DTSTART:20291104T060000
END:STANDARD
BEGIN:DAYLIGHT
TZOFFSETFROM:-0500
TZOFFSETTO:-0400
TZNAME:EDT
DTSTART:20300310T070000
END:DAYLIGHT
BEGIN:STANDARD
TZOFFSETFROM:-0400
TZOFFSETTO:-0500
TZNAME:EST
DTSTART:20301103T060000
END:STANDARD
BEGIN:DAYLIGHT
TZOFFSETFROM:-0500
TZOFFSETTO:-0400
TZNAME:EDT
DTSTART:20310309T070000
END:DAYLIGHT
BEGIN:STANDARD
TZOFFSETFROM:-0400
TZOFFSETTO:-0500
TZNAME:EST
DTSTART:20311102T060000
END:STANDARD
END:VTIMEZONE
BEGIN:VEVENT
DTSTART;TZID=America/New_York:20260723T120000
DTEND;TZID=America/New_York:20260726T110000
DTSTAMP:20260422T234614
CREATED:20250504T162257Z
LAST-MODIFIED:20251101T132915Z
UID:10002629-1784808000-1785063600@av8maps.com
SUMMARY:Annual Fly In Festival
DESCRIPTION:We are excited to be bringing you the 10th Annual\nFLY IN FESTIVAL is at the Robert Newlon Airpark in Huntington\, WV (I41) !!!\n2025 will again feature 3 great days of music\, camping\, outdoor activities\, and will also include the ROBIN KESSINGER WV STATE FLATPICK GUITAR CONTEST & WORKSHOPS\, on Saturday July 26th.\nSo save the date\, and Fly In with us.\nGates Open NOON Thursday\n– Pot Luck Dinner / Welcome / Jamming / Camping\nTHURSDAY:\n** Music on the Main Stage from 6 to 9:30 pm\n** After-Party 10 pm at the Fly In Cafe with the Karaoke King\, Larry Adkins\nFRIDAY:\n** Workshops on the Fly In Cafe’ Patio 10:00 am **\n** 3:00 pm – 11:00 pm Main Stage Music **\nSATURDAY:\n** 9:00 am – 11:00 am – Instructional Workshops by Robin Kessinger & Guests **\n** 10:00 am — Kayak/Canoe Float Trip\n** 11:00 am – 3:00 pm – Robin Kessinger WV State Flatpick Guitar Contest **\n** 3:00 pm to 12:00 am – Main Stage Music **\nFULL ARTIST LINEUP ANNOUNCEMENT COMING SOON\nVisit www.flyinfestival.com for more information & updates
URL:https://av8maps.com/event/10th-annual-fly-in-festival/2026-07-23/
LOCATION:Robert Newlon Airpark\, 359 Kyle Ln\, Huntington\, WV 25702
ATTACH;FMTTYPE=image/jpeg:https://av8maps.com/wp-content/uploads/2025/05/10th-Annual-Fly-in-1-1-e1749677978349.jpg
GEO:38.4625834;-82.3101821
X-APPLE-STRUCTURED-LOCATION;VALUE=URI;X-ADDRESS=Robert Newlon Airpark 359 Kyle Ln Huntington WV 25702;X-APPLE-RADIUS=500;X-TITLE=359 Kyle Ln\, Huntington\, WV 25702:geo:-82.3101821,38.4625834
END:VEVENT
BEGIN:VEVENT
DTSTART;TZID=America/New_York:20270722T120000
DTEND;TZID=America/New_York:20270725T110000
DTSTAMP:20260422T234615
CREATED:20250504T162257Z
LAST-MODIFIED:20251101T132915Z
UID:10002630-1816257600-1816513200@av8maps.com
SUMMARY:Annual Fly In Festival
DESCRIPTION:We are excited to be bringing you the 10th Annual\nFLY IN FESTIVAL is at the Robert Newlon Airpark in Huntington\, WV (I41) !!!\n2025 will again feature 3 great days of music\, camping\, outdoor activities\, and will also include the ROBIN KESSINGER WV STATE FLATPICK GUITAR CONTEST & WORKSHOPS\, on Saturday July 26th.\nSo save the date\, and Fly In with us.\nGates Open NOON Thursday\n– Pot Luck Dinner / Welcome / Jamming / Camping\nTHURSDAY:\n** Music on the Main Stage from 6 to 9:30 pm\n** After-Party 10 pm at the Fly In Cafe with the Karaoke King\, Larry Adkins\nFRIDAY:\n** Workshops on the Fly In Cafe’ Patio 10:00 am **\n** 3:00 pm – 11:00 pm Main Stage Music **\nSATURDAY:\n** 9:00 am – 11:00 am – Instructional Workshops by Robin Kessinger & Guests **\n** 10:00 am — Kayak/Canoe Float Trip\n** 11:00 am – 3:00 pm – Robin Kessinger WV State Flatpick Guitar Contest **\n** 3:00 pm to 12:00 am – Main Stage Music **\nFULL ARTIST LINEUP ANNOUNCEMENT COMING SOON\nVisit www.flyinfestival.com for more information & updates
URL:https://av8maps.com/event/10th-annual-fly-in-festival/2027-07-22/
LOCATION:Robert Newlon Airpark\, 359 Kyle Ln\, Huntington\, WV 25702
ATTACH;FMTTYPE=image/jpeg:https://av8maps.com/wp-content/uploads/2025/05/10th-Annual-Fly-in-1-1-e1749677978349.jpg
GEO:38.4625834;-82.3101821
X-APPLE-STRUCTURED-LOCATION;VALUE=URI;X-ADDRESS=Robert Newlon Airpark 359 Kyle Ln Huntington WV 25702;X-APPLE-RADIUS=500;X-TITLE=359 Kyle Ln\, Huntington\, WV 25702:geo:-82.3101821,38.4625834
END:VEVENT
BEGIN:VEVENT
DTSTART;TZID=America/New_York:20280727T120000
DTEND;TZID=America/New_York:20280730T110000
DTSTAMP:20260422T234615
CREATED:20250504T162257Z
LAST-MODIFIED:20251101T132915Z
UID:10002631-1848312000-1848567600@av8maps.com
SUMMARY:Annual Fly In Festival
DESCRIPTION:We are excited to be bringing you the 10th Annual\nFLY IN FESTIVAL is at the Robert Newlon Airpark in Huntington\, WV (I41) !!!\n2025 will again feature 3 great days of music\, camping\, outdoor activities\, and will also include the ROBIN KESSINGER WV STATE FLATPICK GUITAR CONTEST & WORKSHOPS\, on Saturday July 26th.\nSo save the date\, and Fly In with us.\nGates Open NOON Thursday\n– Pot Luck Dinner / Welcome / Jamming / Camping\nTHURSDAY:\n** Music on the Main Stage from 6 to 9:30 pm\n** After-Party 10 pm at the Fly In Cafe with the Karaoke King\, Larry Adkins\nFRIDAY:\n** Workshops on the Fly In Cafe’ Patio 10:00 am **\n** 3:00 pm – 11:00 pm Main Stage Music **\nSATURDAY:\n** 9:00 am – 11:00 am – Instructional Workshops by Robin Kessinger & Guests **\n** 10:00 am — Kayak/Canoe Float Trip\n** 11:00 am – 3:00 pm – Robin Kessinger WV State Flatpick Guitar Contest **\n** 3:00 pm to 12:00 am – Main Stage Music **\nFULL ARTIST LINEUP ANNOUNCEMENT COMING SOON\nVisit www.flyinfestival.com for more information & updates
URL:https://av8maps.com/event/10th-annual-fly-in-festival/2028-07-27/
LOCATION:Robert Newlon Airpark\, 359 Kyle Ln\, Huntington\, WV 25702
ATTACH;FMTTYPE=image/jpeg:https://av8maps.com/wp-content/uploads/2025/05/10th-Annual-Fly-in-1-1-e1749677978349.jpg
GEO:38.4625834;-82.3101821
X-APPLE-STRUCTURED-LOCATION;VALUE=URI;X-ADDRESS=Robert Newlon Airpark 359 Kyle Ln Huntington WV 25702;X-APPLE-RADIUS=500;X-TITLE=359 Kyle Ln\, Huntington\, WV 25702:geo:-82.3101821,38.4625834
END:VEVENT
BEGIN:VEVENT
DTSTART;TZID=America/New_York:20290726T120000
DTEND;TZID=America/New_York:20290729T110000
DTSTAMP:20260422T234615
CREATED:20250504T162257Z
LAST-MODIFIED:20251101T132915Z
UID:10002632-1879761600-1880017200@av8maps.com
SUMMARY:Annual Fly In Festival
DESCRIPTION:We are excited to be bringing you the 10th Annual\nFLY IN FESTIVAL is at the Robert Newlon Airpark in Huntington\, WV (I41) !!!\n2025 will again feature 3 great days of music\, camping\, outdoor activities\, and will also include the ROBIN KESSINGER WV STATE FLATPICK GUITAR CONTEST & WORKSHOPS\, on Saturday July 26th.\nSo save the date\, and Fly In with us.\nGates Open NOON Thursday\n– Pot Luck Dinner / Welcome / Jamming / Camping\nTHURSDAY:\n** Music on the Main Stage from 6 to 9:30 pm\n** After-Party 10 pm at the Fly In Cafe with the Karaoke King\, Larry Adkins\nFRIDAY:\n** Workshops on the Fly In Cafe’ Patio 10:00 am **\n** 3:00 pm – 11:00 pm Main Stage Music **\nSATURDAY:\n** 9:00 am – 11:00 am – Instructional Workshops by Robin Kessinger & Guests **\n** 10:00 am — Kayak/Canoe Float Trip\n** 11:00 am – 3:00 pm – Robin Kessinger WV State Flatpick Guitar Contest **\n** 3:00 pm to 12:00 am – Main Stage Music **\nFULL ARTIST LINEUP ANNOUNCEMENT COMING SOON\nVisit www.flyinfestival.com for more information & updates
URL:https://av8maps.com/event/10th-annual-fly-in-festival/2029-07-26/
LOCATION:Robert Newlon Airpark\, 359 Kyle Ln\, Huntington\, WV 25702
ATTACH;FMTTYPE=image/jpeg:https://av8maps.com/wp-content/uploads/2025/05/10th-Annual-Fly-in-1-1-e1749677978349.jpg
GEO:38.4625834;-82.3101821
X-APPLE-STRUCTURED-LOCATION;VALUE=URI;X-ADDRESS=Robert Newlon Airpark 359 Kyle Ln Huntington WV 25702;X-APPLE-RADIUS=500;X-TITLE=359 Kyle Ln\, Huntington\, WV 25702:geo:-82.3101821,38.4625834
END:VEVENT
BEGIN:VEVENT
DTSTART;TZID=America/New_York:20300725T120000
DTEND;TZID=America/New_York:20300728T110000
DTSTAMP:20260422T234615
CREATED:20250504T162257Z
LAST-MODIFIED:20251101T132915Z
UID:10002633-1911211200-1911466800@av8maps.com
SUMMARY:Annual Fly In Festival
DESCRIPTION:We are excited to be bringing you the 10th Annual\nFLY IN FESTIVAL is at the Robert Newlon Airpark in Huntington\, WV (I41) !!!\n2025 will again feature 3 great days of music\, camping\, outdoor activities\, and will also include the ROBIN KESSINGER WV STATE FLATPICK GUITAR CONTEST & WORKSHOPS\, on Saturday July 26th.\nSo save the date\, and Fly In with us.\nGates Open NOON Thursday\n– Pot Luck Dinner / Welcome / Jamming / Camping\nTHURSDAY:\n** Music on the Main Stage from 6 to 9:30 pm\n** After-Party 10 pm at the Fly In Cafe with the Karaoke King\, Larry Adkins\nFRIDAY:\n** Workshops on the Fly In Cafe’ Patio 10:00 am **\n** 3:00 pm – 11:00 pm Main Stage Music **\nSATURDAY:\n** 9:00 am – 11:00 am – Instructional Workshops by Robin Kessinger & Guests **\n** 10:00 am — Kayak/Canoe Float Trip\n** 11:00 am – 3:00 pm – Robin Kessinger WV State Flatpick Guitar Contest **\n** 3:00 pm to 12:00 am – Main Stage Music **\nFULL ARTIST LINEUP ANNOUNCEMENT COMING SOON\nVisit www.flyinfestival.com for more information & updates
URL:https://av8maps.com/event/10th-annual-fly-in-festival/2030-07-25/
LOCATION:Robert Newlon Airpark\, 359 Kyle Ln\, Huntington\, WV 25702
ATTACH;FMTTYPE=image/jpeg:https://av8maps.com/wp-content/uploads/2025/05/10th-Annual-Fly-in-1-1-e1749677978349.jpg
GEO:38.4625834;-82.3101821
X-APPLE-STRUCTURED-LOCATION;VALUE=URI;X-ADDRESS=Robert Newlon Airpark 359 Kyle Ln Huntington WV 25702;X-APPLE-RADIUS=500;X-TITLE=359 Kyle Ln\, Huntington\, WV 25702:geo:-82.3101821,38.4625834
END:VEVENT
END:VCALENDAR