BEGIN:VCALENDAR
VERSION:2.0
PRODID:-//AV8MAPS.COM - ECPv6.15.20//NONSGML v1.0//EN
CALSCALE:GREGORIAN
METHOD:PUBLISH
X-WR-CALNAME:AV8MAPS.COM
X-ORIGINAL-URL:https://av8maps.com
X-WR-CALDESC:Events for AV8MAPS.COM
REFRESH-INTERVAL;VALUE=DURATION:PT1H
X-Robots-Tag:noindex
X-PUBLISHED-TTL:PT1H
BEGIN:VTIMEZONE
TZID:America/New_York
BEGIN:DAYLIGHT
TZOFFSETFROM:-0500
TZOFFSETTO:-0400
TZNAME:EDT
DTSTART:20250309T070000
END:DAYLIGHT
BEGIN:STANDARD
TZOFFSETFROM:-0400
TZOFFSETTO:-0500
TZNAME:EST
DTSTART:20251102T060000
END:STANDARD
BEGIN:DAYLIGHT
TZOFFSETFROM:-0500
TZOFFSETTO:-0400
TZNAME:EDT
DTSTART:20260308T070000
END:DAYLIGHT
BEGIN:STANDARD
TZOFFSETFROM:-0400
TZOFFSETTO:-0500
TZNAME:EST
DTSTART:20261101T060000
END:STANDARD
BEGIN:DAYLIGHT
TZOFFSETFROM:-0500
TZOFFSETTO:-0400
TZNAME:EDT
DTSTART:20270314T070000
END:DAYLIGHT
BEGIN:STANDARD
TZOFFSETFROM:-0400
TZOFFSETTO:-0500
TZNAME:EST
DTSTART:20271107T060000
END:STANDARD
BEGIN:DAYLIGHT
TZOFFSETFROM:-0500
TZOFFSETTO:-0400
TZNAME:EDT
DTSTART:20280312T070000
END:DAYLIGHT
BEGIN:STANDARD
TZOFFSETFROM:-0400
TZOFFSETTO:-0500
TZNAME:EST
DTSTART:20281105T060000
END:STANDARD
BEGIN:DAYLIGHT
TZOFFSETFROM:-0500
TZOFFSETTO:-0400
TZNAME:EDT
DTSTART:20290311T070000
END:DAYLIGHT
BEGIN:STANDARD
TZOFFSETFROM:-0400
TZOFFSETTO:-0500
TZNAME:EST
DTSTART:20291104T060000
END:STANDARD
BEGIN:DAYLIGHT
TZOFFSETFROM:-0500
TZOFFSETTO:-0400
TZNAME:EDT
DTSTART:20300310T070000
END:DAYLIGHT
BEGIN:STANDARD
TZOFFSETFROM:-0400
TZOFFSETTO:-0500
TZNAME:EST
DTSTART:20301103T060000
END:STANDARD
BEGIN:DAYLIGHT
TZOFFSETFROM:-0500
TZOFFSETTO:-0400
TZNAME:EDT
DTSTART:20310309T070000
END:DAYLIGHT
BEGIN:STANDARD
TZOFFSETFROM:-0400
TZOFFSETTO:-0500
TZNAME:EST
DTSTART:20311102T060000
END:STANDARD
END:VTIMEZONE
BEGIN:VEVENT
DTSTART;TZID=America/New_York:20260829T090000
DTEND;TZID=America/New_York:20260829T120000
DTSTAMP:20260423T022539
CREATED:20250730T194835Z
LAST-MODIFIED:20251109T182628Z
UID:10002752-1787994000-1788004800@av8maps.com
SUMMARY:Annual EAA Chapter 88 Air Capital Fly-In (KAAO)
DESCRIPTION:Join the fun on August 30th. Adults $5 and free to kids 17 and under.
URL:https://av8maps.com/event/eaa-chapter-88-air-capital-fly-in/2026-08-29/
LOCATION:Colonel James Jabara Airport\, 3512 N Webb Rd\, Wichita\, KS 67226
GEO:37.7463516;-97.2242481
X-APPLE-STRUCTURED-LOCATION;VALUE=URI;X-ADDRESS=Colonel James Jabara Airport 3512 N Webb Rd Wichita KS 67226;X-APPLE-RADIUS=500;X-TITLE=3512 N Webb Rd\, Wichita\, KS 67226:geo:-97.2242481,37.7463516
END:VEVENT
BEGIN:VEVENT
DTSTART;TZID=America/New_York:20300831T090000
DTEND;TZID=America/New_York:20300831T120000
DTSTAMP:20260423T022539
CREATED:20250730T194835Z
LAST-MODIFIED:20251109T182628Z
UID:10002753-1914397200-1914408000@av8maps.com
SUMMARY:Annual EAA Chapter 88 Air Capital Fly-In (KAAO)
DESCRIPTION:Join the fun on August 30th. Adults $5 and free to kids 17 and under.
URL:https://av8maps.com/event/eaa-chapter-88-air-capital-fly-in/2030-08-31/
LOCATION:Colonel James Jabara Airport\, 3512 N Webb Rd\, Wichita\, KS 67226
GEO:37.7463516;-97.2242481
X-APPLE-STRUCTURED-LOCATION;VALUE=URI;X-ADDRESS=Colonel James Jabara Airport 3512 N Webb Rd Wichita KS 67226;X-APPLE-RADIUS=500;X-TITLE=3512 N Webb Rd\, Wichita\, KS 67226:geo:-97.2242481,37.7463516
END:VEVENT
END:VCALENDAR