BEGIN:VCALENDAR
VERSION:2.0
PRODID:-//AV8MAPS.COM - ECPv6.15.20//NONSGML v1.0//EN
CALSCALE:GREGORIAN
METHOD:PUBLISH
X-WR-CALNAME:AV8MAPS.COM
X-ORIGINAL-URL:https://av8maps.com
X-WR-CALDESC:Events for AV8MAPS.COM
REFRESH-INTERVAL;VALUE=DURATION:PT1H
X-Robots-Tag:noindex
X-PUBLISHED-TTL:PT1H
BEGIN:VTIMEZONE
TZID:America/New_York
BEGIN:DAYLIGHT
TZOFFSETFROM:-0500
TZOFFSETTO:-0400
TZNAME:EDT
DTSTART:20250309T070000
END:DAYLIGHT
BEGIN:STANDARD
TZOFFSETFROM:-0400
TZOFFSETTO:-0500
TZNAME:EST
DTSTART:20251102T060000
END:STANDARD
BEGIN:DAYLIGHT
TZOFFSETFROM:-0500
TZOFFSETTO:-0400
TZNAME:EDT
DTSTART:20260308T070000
END:DAYLIGHT
BEGIN:STANDARD
TZOFFSETFROM:-0400
TZOFFSETTO:-0500
TZNAME:EST
DTSTART:20261101T060000
END:STANDARD
BEGIN:DAYLIGHT
TZOFFSETFROM:-0500
TZOFFSETTO:-0400
TZNAME:EDT
DTSTART:20270314T070000
END:DAYLIGHT
BEGIN:STANDARD
TZOFFSETFROM:-0400
TZOFFSETTO:-0500
TZNAME:EST
DTSTART:20271107T060000
END:STANDARD
BEGIN:DAYLIGHT
TZOFFSETFROM:-0500
TZOFFSETTO:-0400
TZNAME:EDT
DTSTART:20280312T070000
END:DAYLIGHT
BEGIN:STANDARD
TZOFFSETFROM:-0400
TZOFFSETTO:-0500
TZNAME:EST
DTSTART:20281105T060000
END:STANDARD
END:VTIMEZONE
BEGIN:VEVENT
DTSTART;TZID=America/New_York:20260516T073000
DTEND;TZID=America/New_York:20260516T100000
DTSTAMP:20260422T213610
CREATED:20251101T145143Z
LAST-MODIFIED:20251101T145143Z
UID:10002812-1778916600-1778925600@av8maps.com
SUMMARY:3rd Saturday Breakfast (4M1)
DESCRIPTION:Carroll County Airport (4M1) 3rd Saturday BREAKFAST EVENT!! 7:30 – 10:00 AM. Farm fresh scrambled eggs\, sausage patties & links\, flapjacks\, sweet tea and always a bunch-o-sweet treats made by the airport wives…$10.00 suggested donation. Contact: 870-423-8393 \n  \nMar-Oct breakfast 7:30am-10am \nNov & Feb lunch 11am-1pm
URL:https://av8maps.com/event/3rd-saturday-breakfast-4m1-2/2026-05-16/
LOCATION:Carroll County Airport\, 518 Co Rd 308\, Berryville\, AR 72616
ATTACH;FMTTYPE=image/jpeg:https://av8maps.com/wp-content/uploads/2025/07/Carroll-County-Airport-e1751833649176.jpg
GEO:36.3823377;-93.62368
X-APPLE-STRUCTURED-LOCATION;VALUE=URI;X-ADDRESS=Carroll County Airport 518 Co Rd 308 Berryville AR 72616;X-APPLE-RADIUS=500;X-TITLE=518 Co Rd 308\, Berryville\, AR 72616:geo:-93.62368,36.3823377
END:VEVENT
BEGIN:VEVENT
DTSTART;TZID=America/New_York:20260620T073000
DTEND;TZID=America/New_York:20260620T100000
DTSTAMP:20260422T213610
CREATED:20251101T145143Z
LAST-MODIFIED:20251101T145143Z
UID:10002813-1781940600-1781949600@av8maps.com
SUMMARY:3rd Saturday Breakfast (4M1)
DESCRIPTION:Carroll County Airport (4M1) 3rd Saturday BREAKFAST EVENT!! 7:30 – 10:00 AM. Farm fresh scrambled eggs\, sausage patties & links\, flapjacks\, sweet tea and always a bunch-o-sweet treats made by the airport wives…$10.00 suggested donation. Contact: 870-423-8393 \n  \nMar-Oct breakfast 7:30am-10am \nNov & Feb lunch 11am-1pm
URL:https://av8maps.com/event/3rd-saturday-breakfast-4m1-2/2026-06-20/
LOCATION:Carroll County Airport\, 518 Co Rd 308\, Berryville\, AR 72616
ATTACH;FMTTYPE=image/jpeg:https://av8maps.com/wp-content/uploads/2025/07/Carroll-County-Airport-e1751833649176.jpg
GEO:36.3823377;-93.62368
X-APPLE-STRUCTURED-LOCATION;VALUE=URI;X-ADDRESS=Carroll County Airport 518 Co Rd 308 Berryville AR 72616;X-APPLE-RADIUS=500;X-TITLE=518 Co Rd 308\, Berryville\, AR 72616:geo:-93.62368,36.3823377
END:VEVENT
BEGIN:VEVENT
DTSTART;TZID=America/New_York:20260718T073000
DTEND;TZID=America/New_York:20260718T100000
DTSTAMP:20260422T213610
CREATED:20251101T145143Z
LAST-MODIFIED:20251101T145143Z
UID:10002814-1784359800-1784368800@av8maps.com
SUMMARY:3rd Saturday Breakfast (4M1)
DESCRIPTION:Carroll County Airport (4M1) 3rd Saturday BREAKFAST EVENT!! 7:30 – 10:00 AM. Farm fresh scrambled eggs\, sausage patties & links\, flapjacks\, sweet tea and always a bunch-o-sweet treats made by the airport wives…$10.00 suggested donation. Contact: 870-423-8393 \n  \nMar-Oct breakfast 7:30am-10am \nNov & Feb lunch 11am-1pm
URL:https://av8maps.com/event/3rd-saturday-breakfast-4m1-2/2026-07-18/
LOCATION:Carroll County Airport\, 518 Co Rd 308\, Berryville\, AR 72616
ATTACH;FMTTYPE=image/jpeg:https://av8maps.com/wp-content/uploads/2025/07/Carroll-County-Airport-e1751833649176.jpg
GEO:36.3823377;-93.62368
X-APPLE-STRUCTURED-LOCATION;VALUE=URI;X-ADDRESS=Carroll County Airport 518 Co Rd 308 Berryville AR 72616;X-APPLE-RADIUS=500;X-TITLE=518 Co Rd 308\, Berryville\, AR 72616:geo:-93.62368,36.3823377
END:VEVENT
BEGIN:VEVENT
DTSTART;TZID=America/New_York:20260815T073000
DTEND;TZID=America/New_York:20260815T100000
DTSTAMP:20260422T213610
CREATED:20251101T145143Z
LAST-MODIFIED:20251101T145143Z
UID:10002815-1786779000-1786788000@av8maps.com
SUMMARY:3rd Saturday Breakfast (4M1)
DESCRIPTION:Carroll County Airport (4M1) 3rd Saturday BREAKFAST EVENT!! 7:30 – 10:00 AM. Farm fresh scrambled eggs\, sausage patties & links\, flapjacks\, sweet tea and always a bunch-o-sweet treats made by the airport wives…$10.00 suggested donation. Contact: 870-423-8393 \n  \nMar-Oct breakfast 7:30am-10am \nNov & Feb lunch 11am-1pm
URL:https://av8maps.com/event/3rd-saturday-breakfast-4m1-2/2026-08-15/
LOCATION:Carroll County Airport\, 518 Co Rd 308\, Berryville\, AR 72616
ATTACH;FMTTYPE=image/jpeg:https://av8maps.com/wp-content/uploads/2025/07/Carroll-County-Airport-e1751833649176.jpg
GEO:36.3823377;-93.62368
X-APPLE-STRUCTURED-LOCATION;VALUE=URI;X-ADDRESS=Carroll County Airport 518 Co Rd 308 Berryville AR 72616;X-APPLE-RADIUS=500;X-TITLE=518 Co Rd 308\, Berryville\, AR 72616:geo:-93.62368,36.3823377
END:VEVENT
BEGIN:VEVENT
DTSTART;TZID=America/New_York:20260919T073000
DTEND;TZID=America/New_York:20260919T100000
DTSTAMP:20260422T213610
CREATED:20251101T145143Z
LAST-MODIFIED:20251101T145143Z
UID:10002816-1789803000-1789812000@av8maps.com
SUMMARY:3rd Saturday Breakfast (4M1)
DESCRIPTION:Carroll County Airport (4M1) 3rd Saturday BREAKFAST EVENT!! 7:30 – 10:00 AM. Farm fresh scrambled eggs\, sausage patties & links\, flapjacks\, sweet tea and always a bunch-o-sweet treats made by the airport wives…$10.00 suggested donation. Contact: 870-423-8393 \n  \nMar-Oct breakfast 7:30am-10am \nNov & Feb lunch 11am-1pm
URL:https://av8maps.com/event/3rd-saturday-breakfast-4m1-2/2026-09-19/
LOCATION:Carroll County Airport\, 518 Co Rd 308\, Berryville\, AR 72616
ATTACH;FMTTYPE=image/jpeg:https://av8maps.com/wp-content/uploads/2025/07/Carroll-County-Airport-e1751833649176.jpg
GEO:36.3823377;-93.62368
X-APPLE-STRUCTURED-LOCATION;VALUE=URI;X-ADDRESS=Carroll County Airport 518 Co Rd 308 Berryville AR 72616;X-APPLE-RADIUS=500;X-TITLE=518 Co Rd 308\, Berryville\, AR 72616:geo:-93.62368,36.3823377
END:VEVENT
BEGIN:VEVENT
DTSTART;TZID=America/New_York:20261017T073000
DTEND;TZID=America/New_York:20261017T100000
DTSTAMP:20260422T213610
CREATED:20251101T145143Z
LAST-MODIFIED:20251101T145143Z
UID:10002817-1792222200-1792231200@av8maps.com
SUMMARY:3rd Saturday Breakfast (4M1)
DESCRIPTION:Carroll County Airport (4M1) 3rd Saturday BREAKFAST EVENT!! 7:30 – 10:00 AM. Farm fresh scrambled eggs\, sausage patties & links\, flapjacks\, sweet tea and always a bunch-o-sweet treats made by the airport wives…$10.00 suggested donation. Contact: 870-423-8393 \n  \nMar-Oct breakfast 7:30am-10am \nNov & Feb lunch 11am-1pm
URL:https://av8maps.com/event/3rd-saturday-breakfast-4m1-2/2026-10-17/
LOCATION:Carroll County Airport\, 518 Co Rd 308\, Berryville\, AR 72616
ATTACH;FMTTYPE=image/jpeg:https://av8maps.com/wp-content/uploads/2025/07/Carroll-County-Airport-e1751833649176.jpg
GEO:36.3823377;-93.62368
X-APPLE-STRUCTURED-LOCATION;VALUE=URI;X-ADDRESS=Carroll County Airport 518 Co Rd 308 Berryville AR 72616;X-APPLE-RADIUS=500;X-TITLE=518 Co Rd 308\, Berryville\, AR 72616:geo:-93.62368,36.3823377
END:VEVENT
BEGIN:VEVENT
DTSTART;TZID=America/New_York:20261121T110000
DTEND;TZID=America/New_York:20261121T130000
DTSTAMP:20260422T213610
CREATED:20251101T145254Z
LAST-MODIFIED:20251101T145254Z
UID:10002818-1795258800-1795266000@av8maps.com
SUMMARY:3rd Saturday Breakfast (4M1)
DESCRIPTION:Carroll County Airport (4M1) 3rd Saturday BREAKFAST EVENT!! 7:30 – 10:00 AM. Farm fresh scrambled eggs\, sausage patties & links\, flapjacks\, sweet tea and always a bunch-o-sweet treats made by the airport wives…$10.00 suggested donation. Contact: 870-423-8393 \n  \nMar-Oct breakfast 7:30am-10am \nNov & Feb lunch 11am-1pm
URL:https://av8maps.com/event/3rd-saturday-breakfast-4m1-2-2/2026-11-21/
LOCATION:Carroll County Airport\, 518 Co Rd 308\, Berryville\, AR 72616
ATTACH;FMTTYPE=image/jpeg:https://av8maps.com/wp-content/uploads/2025/07/Carroll-County-Airport-e1751833649176.jpg
GEO:36.3823377;-93.62368
X-APPLE-STRUCTURED-LOCATION;VALUE=URI;X-ADDRESS=Carroll County Airport 518 Co Rd 308 Berryville AR 72616;X-APPLE-RADIUS=500;X-TITLE=518 Co Rd 308\, Berryville\, AR 72616:geo:-93.62368,36.3823377
END:VEVENT
BEGIN:VEVENT
DTSTART;TZID=America/New_York:20270220T110000
DTEND;TZID=America/New_York:20270220T130000
DTSTAMP:20260422T213610
CREATED:20251101T145254Z
LAST-MODIFIED:20251101T145254Z
UID:10002868-1803121200-1803128400@av8maps.com
SUMMARY:3rd Saturday Breakfast (4M1)
DESCRIPTION:Carroll County Airport (4M1) 3rd Saturday BREAKFAST EVENT!! 7:30 – 10:00 AM. Farm fresh scrambled eggs\, sausage patties & links\, flapjacks\, sweet tea and always a bunch-o-sweet treats made by the airport wives…$10.00 suggested donation. Contact: 870-423-8393 \n  \nMar-Oct breakfast 7:30am-10am \nNov & Feb lunch 11am-1pm
URL:https://av8maps.com/event/3rd-saturday-breakfast-4m1-2-2/2027-02-20/
LOCATION:Carroll County Airport\, 518 Co Rd 308\, Berryville\, AR 72616
ATTACH;FMTTYPE=image/jpeg:https://av8maps.com/wp-content/uploads/2025/07/Carroll-County-Airport-e1751833649176.jpg
GEO:36.3823377;-93.62368
X-APPLE-STRUCTURED-LOCATION;VALUE=URI;X-ADDRESS=Carroll County Airport 518 Co Rd 308 Berryville AR 72616;X-APPLE-RADIUS=500;X-TITLE=518 Co Rd 308\, Berryville\, AR 72616:geo:-93.62368,36.3823377
END:VEVENT
END:VCALENDAR