BEGIN:VCALENDAR
VERSION:2.0
PRODID:-//AV8MAPS.COM - ECPv6.15.20//NONSGML v1.0//EN
CALSCALE:GREGORIAN
METHOD:PUBLISH
X-WR-CALNAME:AV8MAPS.COM
X-ORIGINAL-URL:https://av8maps.com
X-WR-CALDESC:Events for AV8MAPS.COM
REFRESH-INTERVAL;VALUE=DURATION:PT1H
X-Robots-Tag:noindex
X-PUBLISHED-TTL:PT1H
BEGIN:VTIMEZONE
TZID:America/New_York
BEGIN:DAYLIGHT
TZOFFSETFROM:-0500
TZOFFSETTO:-0400
TZNAME:EDT
DTSTART:20250309T070000
END:DAYLIGHT
BEGIN:STANDARD
TZOFFSETFROM:-0400
TZOFFSETTO:-0500
TZNAME:EST
DTSTART:20251102T060000
END:STANDARD
BEGIN:DAYLIGHT
TZOFFSETFROM:-0500
TZOFFSETTO:-0400
TZNAME:EDT
DTSTART:20260308T070000
END:DAYLIGHT
BEGIN:STANDARD
TZOFFSETFROM:-0400
TZOFFSETTO:-0500
TZNAME:EST
DTSTART:20261101T060000
END:STANDARD
BEGIN:DAYLIGHT
TZOFFSETFROM:-0500
TZOFFSETTO:-0400
TZNAME:EDT
DTSTART:20270314T070000
END:DAYLIGHT
BEGIN:STANDARD
TZOFFSETFROM:-0400
TZOFFSETTO:-0500
TZNAME:EST
DTSTART:20271107T060000
END:STANDARD
BEGIN:DAYLIGHT
TZOFFSETFROM:-0500
TZOFFSETTO:-0400
TZNAME:EDT
DTSTART:20280312T070000
END:DAYLIGHT
BEGIN:STANDARD
TZOFFSETFROM:-0400
TZOFFSETTO:-0500
TZNAME:EST
DTSTART:20281105T060000
END:STANDARD
BEGIN:DAYLIGHT
TZOFFSETFROM:-0500
TZOFFSETTO:-0400
TZNAME:EDT
DTSTART:20290311T070000
END:DAYLIGHT
BEGIN:STANDARD
TZOFFSETFROM:-0400
TZOFFSETTO:-0500
TZNAME:EST
DTSTART:20291104T060000
END:STANDARD
BEGIN:DAYLIGHT
TZOFFSETFROM:-0500
TZOFFSETTO:-0400
TZNAME:EDT
DTSTART:20300310T070000
END:DAYLIGHT
BEGIN:STANDARD
TZOFFSETFROM:-0400
TZOFFSETTO:-0500
TZNAME:EST
DTSTART:20301103T060000
END:STANDARD
BEGIN:DAYLIGHT
TZOFFSETFROM:-0500
TZOFFSETTO:-0400
TZNAME:EDT
DTSTART:20310309T070000
END:DAYLIGHT
BEGIN:STANDARD
TZOFFSETFROM:-0400
TZOFFSETTO:-0500
TZNAME:EST
DTSTART:20311102T060000
END:STANDARD
END:VTIMEZONE
BEGIN:VEVENT
DTSTART;TZID=America/New_York:20260815T090000
DTEND;TZID=America/New_York:20260815T120000
DTSTAMP:20260423T164808
CREATED:20250709T215036Z
LAST-MODIFIED:20251101T150157Z
UID:10003013-1786784400-1786795200@av8maps.com
SUMMARY:Annual Pancake Breakfast Fly-in (KMLE)
DESCRIPTION:American Legion Fly-in Pancake Breakfast
URL:https://av8maps.com/event/2nd-annual-pancake-breakfast-fly-in-kmle/2026-08-15/
LOCATION:Millard Airport\, 6161 S 132nd St\, Omaha\, NE 68137
ATTACH;FMTTYPE=image/jpeg:https://av8maps.com/wp-content/uploads/2025/07/Millard-American-legion-e1752097449864.jpg
GEO:41.1957789;-96.1119088
X-APPLE-STRUCTURED-LOCATION;VALUE=URI;X-ADDRESS=Millard Airport 6161 S 132nd St Omaha NE 68137;X-APPLE-RADIUS=500;X-TITLE=6161 S 132nd St\, Omaha\, NE 68137:geo:-96.1119088,41.1957789
END:VEVENT
BEGIN:VEVENT
DTSTART;TZID=America/New_York:20270821T090000
DTEND;TZID=America/New_York:20270821T120000
DTSTAMP:20260423T164808
CREATED:20250709T215036Z
LAST-MODIFIED:20251101T150157Z
UID:10003014-1818838800-1818849600@av8maps.com
SUMMARY:Annual Pancake Breakfast Fly-in (KMLE)
DESCRIPTION:American Legion Fly-in Pancake Breakfast
URL:https://av8maps.com/event/2nd-annual-pancake-breakfast-fly-in-kmle/2027-08-21/
LOCATION:Millard Airport\, 6161 S 132nd St\, Omaha\, NE 68137
ATTACH;FMTTYPE=image/jpeg:https://av8maps.com/wp-content/uploads/2025/07/Millard-American-legion-e1752097449864.jpg
GEO:41.1957789;-96.1119088
X-APPLE-STRUCTURED-LOCATION;VALUE=URI;X-ADDRESS=Millard Airport 6161 S 132nd St Omaha NE 68137;X-APPLE-RADIUS=500;X-TITLE=6161 S 132nd St\, Omaha\, NE 68137:geo:-96.1119088,41.1957789
END:VEVENT
BEGIN:VEVENT
DTSTART;TZID=America/New_York:20280819T090000
DTEND;TZID=America/New_York:20280819T120000
DTSTAMP:20260423T164808
CREATED:20250709T215036Z
LAST-MODIFIED:20251101T150157Z
UID:10003015-1850288400-1850299200@av8maps.com
SUMMARY:Annual Pancake Breakfast Fly-in (KMLE)
DESCRIPTION:American Legion Fly-in Pancake Breakfast
URL:https://av8maps.com/event/2nd-annual-pancake-breakfast-fly-in-kmle/2028-08-19/
LOCATION:Millard Airport\, 6161 S 132nd St\, Omaha\, NE 68137
ATTACH;FMTTYPE=image/jpeg:https://av8maps.com/wp-content/uploads/2025/07/Millard-American-legion-e1752097449864.jpg
GEO:41.1957789;-96.1119088
X-APPLE-STRUCTURED-LOCATION;VALUE=URI;X-ADDRESS=Millard Airport 6161 S 132nd St Omaha NE 68137;X-APPLE-RADIUS=500;X-TITLE=6161 S 132nd St\, Omaha\, NE 68137:geo:-96.1119088,41.1957789
END:VEVENT
BEGIN:VEVENT
DTSTART;TZID=America/New_York:20290818T090000
DTEND;TZID=America/New_York:20290818T120000
DTSTAMP:20260423T164808
CREATED:20250709T215036Z
LAST-MODIFIED:20251101T150157Z
UID:10003016-1881738000-1881748800@av8maps.com
SUMMARY:Annual Pancake Breakfast Fly-in (KMLE)
DESCRIPTION:American Legion Fly-in Pancake Breakfast
URL:https://av8maps.com/event/2nd-annual-pancake-breakfast-fly-in-kmle/2029-08-18/
LOCATION:Millard Airport\, 6161 S 132nd St\, Omaha\, NE 68137
ATTACH;FMTTYPE=image/jpeg:https://av8maps.com/wp-content/uploads/2025/07/Millard-American-legion-e1752097449864.jpg
GEO:41.1957789;-96.1119088
X-APPLE-STRUCTURED-LOCATION;VALUE=URI;X-ADDRESS=Millard Airport 6161 S 132nd St Omaha NE 68137;X-APPLE-RADIUS=500;X-TITLE=6161 S 132nd St\, Omaha\, NE 68137:geo:-96.1119088,41.1957789
END:VEVENT
BEGIN:VEVENT
DTSTART;TZID=America/New_York:20300817T090000
DTEND;TZID=America/New_York:20300817T120000
DTSTAMP:20260423T164808
CREATED:20250709T215036Z
LAST-MODIFIED:20251101T150157Z
UID:10003017-1913187600-1913198400@av8maps.com
SUMMARY:Annual Pancake Breakfast Fly-in (KMLE)
DESCRIPTION:American Legion Fly-in Pancake Breakfast
URL:https://av8maps.com/event/2nd-annual-pancake-breakfast-fly-in-kmle/2030-08-17/
LOCATION:Millard Airport\, 6161 S 132nd St\, Omaha\, NE 68137
ATTACH;FMTTYPE=image/jpeg:https://av8maps.com/wp-content/uploads/2025/07/Millard-American-legion-e1752097449864.jpg
GEO:41.1957789;-96.1119088
X-APPLE-STRUCTURED-LOCATION;VALUE=URI;X-ADDRESS=Millard Airport 6161 S 132nd St Omaha NE 68137;X-APPLE-RADIUS=500;X-TITLE=6161 S 132nd St\, Omaha\, NE 68137:geo:-96.1119088,41.1957789
END:VEVENT
END:VCALENDAR