BEGIN:VCALENDAR
VERSION:2.0
PRODID:-//AV8MAPS.COM - ECPv6.15.20//NONSGML v1.0//EN
CALSCALE:GREGORIAN
METHOD:PUBLISH
X-WR-CALNAME:AV8MAPS.COM
X-ORIGINAL-URL:https://av8maps.com
X-WR-CALDESC:Events for AV8MAPS.COM
REFRESH-INTERVAL;VALUE=DURATION:PT1H
X-Robots-Tag:noindex
X-PUBLISHED-TTL:PT1H
BEGIN:VTIMEZONE
TZID:America/New_York
BEGIN:DAYLIGHT
TZOFFSETFROM:-0500
TZOFFSETTO:-0400
TZNAME:EDT
DTSTART:20250309T070000
END:DAYLIGHT
BEGIN:STANDARD
TZOFFSETFROM:-0400
TZOFFSETTO:-0500
TZNAME:EST
DTSTART:20251102T060000
END:STANDARD
BEGIN:DAYLIGHT
TZOFFSETFROM:-0500
TZOFFSETTO:-0400
TZNAME:EDT
DTSTART:20260308T070000
END:DAYLIGHT
BEGIN:STANDARD
TZOFFSETFROM:-0400
TZOFFSETTO:-0500
TZNAME:EST
DTSTART:20261101T060000
END:STANDARD
BEGIN:DAYLIGHT
TZOFFSETFROM:-0500
TZOFFSETTO:-0400
TZNAME:EDT
DTSTART:20270314T070000
END:DAYLIGHT
BEGIN:STANDARD
TZOFFSETFROM:-0400
TZOFFSETTO:-0500
TZNAME:EST
DTSTART:20271107T060000
END:STANDARD
BEGIN:DAYLIGHT
TZOFFSETFROM:-0500
TZOFFSETTO:-0400
TZNAME:EDT
DTSTART:20280312T070000
END:DAYLIGHT
BEGIN:STANDARD
TZOFFSETFROM:-0400
TZOFFSETTO:-0500
TZNAME:EST
DTSTART:20281105T060000
END:STANDARD
BEGIN:DAYLIGHT
TZOFFSETFROM:-0500
TZOFFSETTO:-0400
TZNAME:EDT
DTSTART:20290311T070000
END:DAYLIGHT
BEGIN:STANDARD
TZOFFSETFROM:-0400
TZOFFSETTO:-0500
TZNAME:EST
DTSTART:20291104T060000
END:STANDARD
BEGIN:DAYLIGHT
TZOFFSETFROM:-0500
TZOFFSETTO:-0400
TZNAME:EDT
DTSTART:20300310T070000
END:DAYLIGHT
BEGIN:STANDARD
TZOFFSETFROM:-0400
TZOFFSETTO:-0500
TZNAME:EST
DTSTART:20301103T060000
END:STANDARD
BEGIN:DAYLIGHT
TZOFFSETFROM:-0500
TZOFFSETTO:-0400
TZNAME:EDT
DTSTART:20310309T070000
END:DAYLIGHT
BEGIN:STANDARD
TZOFFSETFROM:-0400
TZOFFSETTO:-0500
TZNAME:EST
DTSTART:20311102T060000
END:STANDARD
END:VTIMEZONE
BEGIN:VEVENT
DTSTART;TZID=America/New_York:20260718T080000
DTEND;TZID=America/New_York:20260718T150000
DTSTAMP:20260424T144837
CREATED:20250711T184922Z
LAST-MODIFIED:20251101T151540Z
UID:10003023-1784361600-1784386800@av8maps.com
SUMMARY:Annual Fly-in (CT24)
DESCRIPTION:Triumph Airfield Annual Fly In\n\n\n\nBreakfast by VFW Couch Pipa Post 8 – 10 am\n$10 Donation\n\n\n Lunch by Barnstormer’s Burgers 12 – 3pm\n*Cash Only\n\n\nCheck out Pack 22 Cub Scouts North Canaan who will be there mini airplane building\n\n\n\n\nPlease monitor 122.9 if flying in.
URL:https://av8maps.com/event/3rd-annual-fly-in-ct24/2026-07-18/
LOCATION:Triumph Airfield\, 547 W Main St\, Canaan\, CT 06018
ATTACH;FMTTYPE=image/jpeg:https://av8maps.com/wp-content/uploads/2025/07/Triumph-Airfield-3rd-annual-Fly-in-e1752259751351.jpg
GEO:42.0420363;-73.3388076
X-APPLE-STRUCTURED-LOCATION;VALUE=URI;X-ADDRESS=Triumph Airfield 547 W Main St Canaan CT 06018;X-APPLE-RADIUS=500;X-TITLE=547 W Main St\, Canaan\, CT 06018:geo:-73.3388076,42.0420363
END:VEVENT
BEGIN:VEVENT
DTSTART;TZID=America/New_York:20270717T080000
DTEND;TZID=America/New_York:20270717T150000
DTSTAMP:20260424T144837
CREATED:20250711T184922Z
LAST-MODIFIED:20251101T151540Z
UID:10003024-1815811200-1815836400@av8maps.com
SUMMARY:Annual Fly-in (CT24)
DESCRIPTION:Triumph Airfield Annual Fly In\n\n\n\nBreakfast by VFW Couch Pipa Post 8 – 10 am\n$10 Donation\n\n\n Lunch by Barnstormer’s Burgers 12 – 3pm\n*Cash Only\n\n\nCheck out Pack 22 Cub Scouts North Canaan who will be there mini airplane building\n\n\n\n\nPlease monitor 122.9 if flying in.
URL:https://av8maps.com/event/3rd-annual-fly-in-ct24/2027-07-17/
LOCATION:Triumph Airfield\, 547 W Main St\, Canaan\, CT 06018
ATTACH;FMTTYPE=image/jpeg:https://av8maps.com/wp-content/uploads/2025/07/Triumph-Airfield-3rd-annual-Fly-in-e1752259751351.jpg
GEO:42.0420363;-73.3388076
X-APPLE-STRUCTURED-LOCATION;VALUE=URI;X-ADDRESS=Triumph Airfield 547 W Main St Canaan CT 06018;X-APPLE-RADIUS=500;X-TITLE=547 W Main St\, Canaan\, CT 06018:geo:-73.3388076,42.0420363
END:VEVENT
BEGIN:VEVENT
DTSTART;TZID=America/New_York:20280715T080000
DTEND;TZID=America/New_York:20280715T150000
DTSTAMP:20260424T144837
CREATED:20250711T184922Z
LAST-MODIFIED:20251101T151540Z
UID:10003025-1847260800-1847286000@av8maps.com
SUMMARY:Annual Fly-in (CT24)
DESCRIPTION:Triumph Airfield Annual Fly In\n\n\n\nBreakfast by VFW Couch Pipa Post 8 – 10 am\n$10 Donation\n\n\n Lunch by Barnstormer’s Burgers 12 – 3pm\n*Cash Only\n\n\nCheck out Pack 22 Cub Scouts North Canaan who will be there mini airplane building\n\n\n\n\nPlease monitor 122.9 if flying in.
URL:https://av8maps.com/event/3rd-annual-fly-in-ct24/2028-07-15/
LOCATION:Triumph Airfield\, 547 W Main St\, Canaan\, CT 06018
ATTACH;FMTTYPE=image/jpeg:https://av8maps.com/wp-content/uploads/2025/07/Triumph-Airfield-3rd-annual-Fly-in-e1752259751351.jpg
GEO:42.0420363;-73.3388076
X-APPLE-STRUCTURED-LOCATION;VALUE=URI;X-ADDRESS=Triumph Airfield 547 W Main St Canaan CT 06018;X-APPLE-RADIUS=500;X-TITLE=547 W Main St\, Canaan\, CT 06018:geo:-73.3388076,42.0420363
END:VEVENT
BEGIN:VEVENT
DTSTART;TZID=America/New_York:20290721T080000
DTEND;TZID=America/New_York:20290721T150000
DTSTAMP:20260424T144837
CREATED:20250711T184922Z
LAST-MODIFIED:20251101T151540Z
UID:10003026-1879315200-1879340400@av8maps.com
SUMMARY:Annual Fly-in (CT24)
DESCRIPTION:Triumph Airfield Annual Fly In\n\n\n\nBreakfast by VFW Couch Pipa Post 8 – 10 am\n$10 Donation\n\n\n Lunch by Barnstormer’s Burgers 12 – 3pm\n*Cash Only\n\n\nCheck out Pack 22 Cub Scouts North Canaan who will be there mini airplane building\n\n\n\n\nPlease monitor 122.9 if flying in.
URL:https://av8maps.com/event/3rd-annual-fly-in-ct24/2029-07-21/
LOCATION:Triumph Airfield\, 547 W Main St\, Canaan\, CT 06018
ATTACH;FMTTYPE=image/jpeg:https://av8maps.com/wp-content/uploads/2025/07/Triumph-Airfield-3rd-annual-Fly-in-e1752259751351.jpg
GEO:42.0420363;-73.3388076
X-APPLE-STRUCTURED-LOCATION;VALUE=URI;X-ADDRESS=Triumph Airfield 547 W Main St Canaan CT 06018;X-APPLE-RADIUS=500;X-TITLE=547 W Main St\, Canaan\, CT 06018:geo:-73.3388076,42.0420363
END:VEVENT
BEGIN:VEVENT
DTSTART;TZID=America/New_York:20300720T080000
DTEND;TZID=America/New_York:20300720T150000
DTSTAMP:20260424T144837
CREATED:20250711T184922Z
LAST-MODIFIED:20251101T151540Z
UID:10003027-1910764800-1910790000@av8maps.com
SUMMARY:Annual Fly-in (CT24)
DESCRIPTION:Triumph Airfield Annual Fly In\n\n\n\nBreakfast by VFW Couch Pipa Post 8 – 10 am\n$10 Donation\n\n\n Lunch by Barnstormer’s Burgers 12 – 3pm\n*Cash Only\n\n\nCheck out Pack 22 Cub Scouts North Canaan who will be there mini airplane building\n\n\n\n\nPlease monitor 122.9 if flying in.
URL:https://av8maps.com/event/3rd-annual-fly-in-ct24/2030-07-20/
LOCATION:Triumph Airfield\, 547 W Main St\, Canaan\, CT 06018
ATTACH;FMTTYPE=image/jpeg:https://av8maps.com/wp-content/uploads/2025/07/Triumph-Airfield-3rd-annual-Fly-in-e1752259751351.jpg
GEO:42.0420363;-73.3388076
X-APPLE-STRUCTURED-LOCATION;VALUE=URI;X-ADDRESS=Triumph Airfield 547 W Main St Canaan CT 06018;X-APPLE-RADIUS=500;X-TITLE=547 W Main St\, Canaan\, CT 06018:geo:-73.3388076,42.0420363
END:VEVENT
END:VCALENDAR