BEGIN:VCALENDAR
VERSION:2.0
PRODID:-//AV8MAPS.COM - ECPv6.15.20//NONSGML v1.0//EN
CALSCALE:GREGORIAN
METHOD:PUBLISH
X-WR-CALNAME:AV8MAPS.COM
X-ORIGINAL-URL:https://av8maps.com
X-WR-CALDESC:Events for AV8MAPS.COM
REFRESH-INTERVAL;VALUE=DURATION:PT1H
X-Robots-Tag:noindex
X-PUBLISHED-TTL:PT1H
BEGIN:VTIMEZONE
TZID:America/New_York
BEGIN:DAYLIGHT
TZOFFSETFROM:-0500
TZOFFSETTO:-0400
TZNAME:EDT
DTSTART:20250309T070000
END:DAYLIGHT
BEGIN:STANDARD
TZOFFSETFROM:-0400
TZOFFSETTO:-0500
TZNAME:EST
DTSTART:20251102T060000
END:STANDARD
BEGIN:DAYLIGHT
TZOFFSETFROM:-0500
TZOFFSETTO:-0400
TZNAME:EDT
DTSTART:20260308T070000
END:DAYLIGHT
BEGIN:STANDARD
TZOFFSETFROM:-0400
TZOFFSETTO:-0500
TZNAME:EST
DTSTART:20261101T060000
END:STANDARD
BEGIN:DAYLIGHT
TZOFFSETFROM:-0500
TZOFFSETTO:-0400
TZNAME:EDT
DTSTART:20270314T070000
END:DAYLIGHT
BEGIN:STANDARD
TZOFFSETFROM:-0400
TZOFFSETTO:-0500
TZNAME:EST
DTSTART:20271107T060000
END:STANDARD
BEGIN:DAYLIGHT
TZOFFSETFROM:-0500
TZOFFSETTO:-0400
TZNAME:EDT
DTSTART:20280312T070000
END:DAYLIGHT
BEGIN:STANDARD
TZOFFSETFROM:-0400
TZOFFSETTO:-0500
TZNAME:EST
DTSTART:20281105T060000
END:STANDARD
BEGIN:DAYLIGHT
TZOFFSETFROM:-0500
TZOFFSETTO:-0400
TZNAME:EDT
DTSTART:20290311T070000
END:DAYLIGHT
BEGIN:STANDARD
TZOFFSETFROM:-0400
TZOFFSETTO:-0500
TZNAME:EST
DTSTART:20291104T060000
END:STANDARD
BEGIN:DAYLIGHT
TZOFFSETFROM:-0500
TZOFFSETTO:-0400
TZNAME:EDT
DTSTART:20300310T070000
END:DAYLIGHT
BEGIN:STANDARD
TZOFFSETFROM:-0400
TZOFFSETTO:-0500
TZNAME:EST
DTSTART:20301103T060000
END:STANDARD
BEGIN:DAYLIGHT
TZOFFSETFROM:-0500
TZOFFSETTO:-0400
TZNAME:EDT
DTSTART:20310309T070000
END:DAYLIGHT
BEGIN:STANDARD
TZOFFSETFROM:-0400
TZOFFSETTO:-0500
TZNAME:EST
DTSTART:20311102T060000
END:STANDARD
END:VTIMEZONE
BEGIN:VEVENT
DTSTART;TZID=America/New_York:20260718T110000
DTEND;TZID=America/New_York:20260718T130000
DTSTAMP:20260424T144749
CREATED:20250711T193223Z
LAST-MODIFIED:20251101T151635Z
UID:10003028-1784372400-1784379600@av8maps.com
SUMMARY:Washington Island Fly-in fish boil (2P2)
DESCRIPTION:What’s more Door County than a fish boil? A fly-in fish boil! \n\n\nA true spectacle\, Washington Island’s annual Fly-In Whitefish Boil is the Island Lions Club’s biggest annual fundraiser.\n\n\nIn addition to the fish boil\, there will be hay rides\, hot dogs\, ice cream & more!\n\n\nThe event will take place on Saturday\, July 19\, and begin at 11:00am at the Washington Island Airport.
URL:https://av8maps.com/event/washington-island-fly-in-fish-boil-2p2/2026-07-18/
LOCATION:Washington Island Airport\, 1350 Airport Rd\, Washington\, WI 54246
ATTACH;FMTTYPE=image/jpeg:https://av8maps.com/wp-content/uploads/2025/07/Washington-Island-flyin-Fishboil-e1752262255326.jpg
GEO:45.3778;-86.918828
X-APPLE-STRUCTURED-LOCATION;VALUE=URI;X-ADDRESS=Washington Island Airport 1350 Airport Rd Washington WI 54246;X-APPLE-RADIUS=500;X-TITLE=1350 Airport Rd\, Washington\, WI 54246:geo:-86.918828,45.3778
END:VEVENT
BEGIN:VEVENT
DTSTART;TZID=America/New_York:20270717T110000
DTEND;TZID=America/New_York:20270717T130000
DTSTAMP:20260424T144749
CREATED:20250711T193223Z
LAST-MODIFIED:20251101T151635Z
UID:10003029-1815822000-1815829200@av8maps.com
SUMMARY:Washington Island Fly-in fish boil (2P2)
DESCRIPTION:What’s more Door County than a fish boil? A fly-in fish boil! \n\n\nA true spectacle\, Washington Island’s annual Fly-In Whitefish Boil is the Island Lions Club’s biggest annual fundraiser.\n\n\nIn addition to the fish boil\, there will be hay rides\, hot dogs\, ice cream & more!\n\n\nThe event will take place on Saturday\, July 19\, and begin at 11:00am at the Washington Island Airport.
URL:https://av8maps.com/event/washington-island-fly-in-fish-boil-2p2/2027-07-17/
LOCATION:Washington Island Airport\, 1350 Airport Rd\, Washington\, WI 54246
ATTACH;FMTTYPE=image/jpeg:https://av8maps.com/wp-content/uploads/2025/07/Washington-Island-flyin-Fishboil-e1752262255326.jpg
GEO:45.3778;-86.918828
X-APPLE-STRUCTURED-LOCATION;VALUE=URI;X-ADDRESS=Washington Island Airport 1350 Airport Rd Washington WI 54246;X-APPLE-RADIUS=500;X-TITLE=1350 Airport Rd\, Washington\, WI 54246:geo:-86.918828,45.3778
END:VEVENT
BEGIN:VEVENT
DTSTART;TZID=America/New_York:20280715T110000
DTEND;TZID=America/New_York:20280715T130000
DTSTAMP:20260424T144749
CREATED:20250711T193223Z
LAST-MODIFIED:20251101T151635Z
UID:10003030-1847271600-1847278800@av8maps.com
SUMMARY:Washington Island Fly-in fish boil (2P2)
DESCRIPTION:What’s more Door County than a fish boil? A fly-in fish boil! \n\n\nA true spectacle\, Washington Island’s annual Fly-In Whitefish Boil is the Island Lions Club’s biggest annual fundraiser.\n\n\nIn addition to the fish boil\, there will be hay rides\, hot dogs\, ice cream & more!\n\n\nThe event will take place on Saturday\, July 19\, and begin at 11:00am at the Washington Island Airport.
URL:https://av8maps.com/event/washington-island-fly-in-fish-boil-2p2/2028-07-15/
LOCATION:Washington Island Airport\, 1350 Airport Rd\, Washington\, WI 54246
ATTACH;FMTTYPE=image/jpeg:https://av8maps.com/wp-content/uploads/2025/07/Washington-Island-flyin-Fishboil-e1752262255326.jpg
GEO:45.3778;-86.918828
X-APPLE-STRUCTURED-LOCATION;VALUE=URI;X-ADDRESS=Washington Island Airport 1350 Airport Rd Washington WI 54246;X-APPLE-RADIUS=500;X-TITLE=1350 Airport Rd\, Washington\, WI 54246:geo:-86.918828,45.3778
END:VEVENT
BEGIN:VEVENT
DTSTART;TZID=America/New_York:20290721T110000
DTEND;TZID=America/New_York:20290721T130000
DTSTAMP:20260424T144749
CREATED:20250711T193223Z
LAST-MODIFIED:20251101T151635Z
UID:10003031-1879326000-1879333200@av8maps.com
SUMMARY:Washington Island Fly-in fish boil (2P2)
DESCRIPTION:What’s more Door County than a fish boil? A fly-in fish boil! \n\n\nA true spectacle\, Washington Island’s annual Fly-In Whitefish Boil is the Island Lions Club’s biggest annual fundraiser.\n\n\nIn addition to the fish boil\, there will be hay rides\, hot dogs\, ice cream & more!\n\n\nThe event will take place on Saturday\, July 19\, and begin at 11:00am at the Washington Island Airport.
URL:https://av8maps.com/event/washington-island-fly-in-fish-boil-2p2/2029-07-21/
LOCATION:Washington Island Airport\, 1350 Airport Rd\, Washington\, WI 54246
ATTACH;FMTTYPE=image/jpeg:https://av8maps.com/wp-content/uploads/2025/07/Washington-Island-flyin-Fishboil-e1752262255326.jpg
GEO:45.3778;-86.918828
X-APPLE-STRUCTURED-LOCATION;VALUE=URI;X-ADDRESS=Washington Island Airport 1350 Airport Rd Washington WI 54246;X-APPLE-RADIUS=500;X-TITLE=1350 Airport Rd\, Washington\, WI 54246:geo:-86.918828,45.3778
END:VEVENT
BEGIN:VEVENT
DTSTART;TZID=America/New_York:20300720T110000
DTEND;TZID=America/New_York:20300720T130000
DTSTAMP:20260424T144749
CREATED:20250711T193223Z
LAST-MODIFIED:20251101T151635Z
UID:10003032-1910775600-1910782800@av8maps.com
SUMMARY:Washington Island Fly-in fish boil (2P2)
DESCRIPTION:What’s more Door County than a fish boil? A fly-in fish boil! \n\n\nA true spectacle\, Washington Island’s annual Fly-In Whitefish Boil is the Island Lions Club’s biggest annual fundraiser.\n\n\nIn addition to the fish boil\, there will be hay rides\, hot dogs\, ice cream & more!\n\n\nThe event will take place on Saturday\, July 19\, and begin at 11:00am at the Washington Island Airport.
URL:https://av8maps.com/event/washington-island-fly-in-fish-boil-2p2/2030-07-20/
LOCATION:Washington Island Airport\, 1350 Airport Rd\, Washington\, WI 54246
ATTACH;FMTTYPE=image/jpeg:https://av8maps.com/wp-content/uploads/2025/07/Washington-Island-flyin-Fishboil-e1752262255326.jpg
GEO:45.3778;-86.918828
X-APPLE-STRUCTURED-LOCATION;VALUE=URI;X-ADDRESS=Washington Island Airport 1350 Airport Rd Washington WI 54246;X-APPLE-RADIUS=500;X-TITLE=1350 Airport Rd\, Washington\, WI 54246:geo:-86.918828,45.3778
END:VEVENT
END:VCALENDAR