BEGIN:VCALENDAR
VERSION:2.0
PRODID:-//AV8MAPS.COM - ECPv6.15.20//NONSGML v1.0//EN
CALSCALE:GREGORIAN
METHOD:PUBLISH
X-WR-CALNAME:AV8MAPS.COM
X-ORIGINAL-URL:https://av8maps.com
X-WR-CALDESC:Events for AV8MAPS.COM
REFRESH-INTERVAL;VALUE=DURATION:PT1H
X-Robots-Tag:noindex
X-PUBLISHED-TTL:PT1H
BEGIN:VTIMEZONE
TZID:America/New_York
BEGIN:DAYLIGHT
TZOFFSETFROM:-0500
TZOFFSETTO:-0400
TZNAME:EDT
DTSTART:20250309T070000
END:DAYLIGHT
BEGIN:STANDARD
TZOFFSETFROM:-0400
TZOFFSETTO:-0500
TZNAME:EST
DTSTART:20251102T060000
END:STANDARD
BEGIN:DAYLIGHT
TZOFFSETFROM:-0500
TZOFFSETTO:-0400
TZNAME:EDT
DTSTART:20260308T070000
END:DAYLIGHT
BEGIN:STANDARD
TZOFFSETFROM:-0400
TZOFFSETTO:-0500
TZNAME:EST
DTSTART:20261101T060000
END:STANDARD
BEGIN:DAYLIGHT
TZOFFSETFROM:-0500
TZOFFSETTO:-0400
TZNAME:EDT
DTSTART:20270314T070000
END:DAYLIGHT
BEGIN:STANDARD
TZOFFSETFROM:-0400
TZOFFSETTO:-0500
TZNAME:EST
DTSTART:20271107T060000
END:STANDARD
BEGIN:DAYLIGHT
TZOFFSETFROM:-0500
TZOFFSETTO:-0400
TZNAME:EDT
DTSTART:20280312T070000
END:DAYLIGHT
BEGIN:STANDARD
TZOFFSETFROM:-0400
TZOFFSETTO:-0500
TZNAME:EST
DTSTART:20281105T060000
END:STANDARD
BEGIN:DAYLIGHT
TZOFFSETFROM:-0500
TZOFFSETTO:-0400
TZNAME:EDT
DTSTART:20290311T070000
END:DAYLIGHT
BEGIN:STANDARD
TZOFFSETFROM:-0400
TZOFFSETTO:-0500
TZNAME:EST
DTSTART:20291104T060000
END:STANDARD
BEGIN:DAYLIGHT
TZOFFSETFROM:-0500
TZOFFSETTO:-0400
TZNAME:EDT
DTSTART:20300310T070000
END:DAYLIGHT
BEGIN:STANDARD
TZOFFSETFROM:-0400
TZOFFSETTO:-0500
TZNAME:EST
DTSTART:20301103T060000
END:STANDARD
BEGIN:DAYLIGHT
TZOFFSETFROM:-0500
TZOFFSETTO:-0400
TZNAME:EDT
DTSTART:20310309T070000
END:DAYLIGHT
BEGIN:STANDARD
TZOFFSETFROM:-0400
TZOFFSETTO:-0500
TZNAME:EST
DTSTART:20311102T060000
END:STANDARD
END:VTIMEZONE
BEGIN:VEVENT
DTSTART;TZID=America/New_York:20260926T100000
DTEND;TZID=America/New_York:20260926T170000
DTSTAMP:20260425T101438
CREATED:20250720T011910Z
LAST-MODIFIED:20251101T152257Z
UID:10003053-1790416800-1790442000@av8maps.com
SUMMARY:Annual Wings over the Westside (C80)
DESCRIPTION:Wings Over the Westside – 9-27-2025! Hope to see everyone out at the Coalinga Airport in September! For Sponsorship Opportunities contact info@coalinga.com \nHigh Energy Aerobatics\, Military Paratroopers\, Flyovers\, and Comedic Pilot Acts and Guaranteed fun for all ages. \nFor more information contact:  Info@Coalinga.com
URL:https://av8maps.com/event/1st-annual-wings-over-the-westside-c80/2026-09-26/
LOCATION:Coalinga Airport\, W Durian Ave\, Coalinga\, CA 93210
ATTACH;FMTTYPE=image/jpeg:https://av8maps.com/wp-content/uploads/2025/07/Wings-over-Westside-e1752974333453.jpg
GEO:36.1390972;-120.3626168
X-APPLE-STRUCTURED-LOCATION;VALUE=URI;X-ADDRESS=Coalinga Airport W Durian Ave Coalinga CA 93210;X-APPLE-RADIUS=500;X-TITLE=W Durian Ave\, Coalinga\, CA 93210:geo:-120.3626168,36.1390972
END:VEVENT
BEGIN:VEVENT
DTSTART;TZID=America/New_York:20270925T100000
DTEND;TZID=America/New_York:20270925T170000
DTSTAMP:20260425T101438
CREATED:20250720T011910Z
LAST-MODIFIED:20251101T152257Z
UID:10003054-1821866400-1821891600@av8maps.com
SUMMARY:Annual Wings over the Westside (C80)
DESCRIPTION:Wings Over the Westside – 9-27-2025! Hope to see everyone out at the Coalinga Airport in September! For Sponsorship Opportunities contact info@coalinga.com \nHigh Energy Aerobatics\, Military Paratroopers\, Flyovers\, and Comedic Pilot Acts and Guaranteed fun for all ages. \nFor more information contact:  Info@Coalinga.com
URL:https://av8maps.com/event/1st-annual-wings-over-the-westside-c80/2027-09-25/
LOCATION:Coalinga Airport\, W Durian Ave\, Coalinga\, CA 93210
ATTACH;FMTTYPE=image/jpeg:https://av8maps.com/wp-content/uploads/2025/07/Wings-over-Westside-e1752974333453.jpg
GEO:36.1390972;-120.3626168
X-APPLE-STRUCTURED-LOCATION;VALUE=URI;X-ADDRESS=Coalinga Airport W Durian Ave Coalinga CA 93210;X-APPLE-RADIUS=500;X-TITLE=W Durian Ave\, Coalinga\, CA 93210:geo:-120.3626168,36.1390972
END:VEVENT
BEGIN:VEVENT
DTSTART;TZID=America/New_York:20280923T100000
DTEND;TZID=America/New_York:20280923T170000
DTSTAMP:20260425T101438
CREATED:20250720T011910Z
LAST-MODIFIED:20251101T152257Z
UID:10003055-1853316000-1853341200@av8maps.com
SUMMARY:Annual Wings over the Westside (C80)
DESCRIPTION:Wings Over the Westside – 9-27-2025! Hope to see everyone out at the Coalinga Airport in September! For Sponsorship Opportunities contact info@coalinga.com \nHigh Energy Aerobatics\, Military Paratroopers\, Flyovers\, and Comedic Pilot Acts and Guaranteed fun for all ages. \nFor more information contact:  Info@Coalinga.com
URL:https://av8maps.com/event/1st-annual-wings-over-the-westside-c80/2028-09-23/
LOCATION:Coalinga Airport\, W Durian Ave\, Coalinga\, CA 93210
ATTACH;FMTTYPE=image/jpeg:https://av8maps.com/wp-content/uploads/2025/07/Wings-over-Westside-e1752974333453.jpg
GEO:36.1390972;-120.3626168
X-APPLE-STRUCTURED-LOCATION;VALUE=URI;X-ADDRESS=Coalinga Airport W Durian Ave Coalinga CA 93210;X-APPLE-RADIUS=500;X-TITLE=W Durian Ave\, Coalinga\, CA 93210:geo:-120.3626168,36.1390972
END:VEVENT
BEGIN:VEVENT
DTSTART;TZID=America/New_York:20290922T100000
DTEND;TZID=America/New_York:20290922T170000
DTSTAMP:20260425T101438
CREATED:20250720T011910Z
LAST-MODIFIED:20251101T152257Z
UID:10003056-1884765600-1884790800@av8maps.com
SUMMARY:Annual Wings over the Westside (C80)
DESCRIPTION:Wings Over the Westside – 9-27-2025! Hope to see everyone out at the Coalinga Airport in September! For Sponsorship Opportunities contact info@coalinga.com \nHigh Energy Aerobatics\, Military Paratroopers\, Flyovers\, and Comedic Pilot Acts and Guaranteed fun for all ages. \nFor more information contact:  Info@Coalinga.com
URL:https://av8maps.com/event/1st-annual-wings-over-the-westside-c80/2029-09-22/
LOCATION:Coalinga Airport\, W Durian Ave\, Coalinga\, CA 93210
ATTACH;FMTTYPE=image/jpeg:https://av8maps.com/wp-content/uploads/2025/07/Wings-over-Westside-e1752974333453.jpg
GEO:36.1390972;-120.3626168
X-APPLE-STRUCTURED-LOCATION;VALUE=URI;X-ADDRESS=Coalinga Airport W Durian Ave Coalinga CA 93210;X-APPLE-RADIUS=500;X-TITLE=W Durian Ave\, Coalinga\, CA 93210:geo:-120.3626168,36.1390972
END:VEVENT
BEGIN:VEVENT
DTSTART;TZID=America/New_York:20300928T100000
DTEND;TZID=America/New_York:20300928T170000
DTSTAMP:20260425T101438
CREATED:20250720T011910Z
LAST-MODIFIED:20251101T152257Z
UID:10003057-1916820000-1916845200@av8maps.com
SUMMARY:Annual Wings over the Westside (C80)
DESCRIPTION:Wings Over the Westside – 9-27-2025! Hope to see everyone out at the Coalinga Airport in September! For Sponsorship Opportunities contact info@coalinga.com \nHigh Energy Aerobatics\, Military Paratroopers\, Flyovers\, and Comedic Pilot Acts and Guaranteed fun for all ages. \nFor more information contact:  Info@Coalinga.com
URL:https://av8maps.com/event/1st-annual-wings-over-the-westside-c80/2030-09-28/
LOCATION:Coalinga Airport\, W Durian Ave\, Coalinga\, CA 93210
ATTACH;FMTTYPE=image/jpeg:https://av8maps.com/wp-content/uploads/2025/07/Wings-over-Westside-e1752974333453.jpg
GEO:36.1390972;-120.3626168
X-APPLE-STRUCTURED-LOCATION;VALUE=URI;X-ADDRESS=Coalinga Airport W Durian Ave Coalinga CA 93210;X-APPLE-RADIUS=500;X-TITLE=W Durian Ave\, Coalinga\, CA 93210:geo:-120.3626168,36.1390972
END:VEVENT
END:VCALENDAR