BEGIN:VCALENDAR
VERSION:2.0
PRODID:-//AV8MAPS.COM - ECPv6.15.20//NONSGML v1.0//EN
CALSCALE:GREGORIAN
METHOD:PUBLISH
X-WR-CALNAME:AV8MAPS.COM
X-ORIGINAL-URL:https://av8maps.com
X-WR-CALDESC:Events for AV8MAPS.COM
REFRESH-INTERVAL;VALUE=DURATION:PT1H
X-Robots-Tag:noindex
X-PUBLISHED-TTL:PT1H
BEGIN:VTIMEZONE
TZID:America/New_York
BEGIN:DAYLIGHT
TZOFFSETFROM:-0500
TZOFFSETTO:-0400
TZNAME:EDT
DTSTART:20250309T070000
END:DAYLIGHT
BEGIN:STANDARD
TZOFFSETFROM:-0400
TZOFFSETTO:-0500
TZNAME:EST
DTSTART:20251102T060000
END:STANDARD
BEGIN:DAYLIGHT
TZOFFSETFROM:-0500
TZOFFSETTO:-0400
TZNAME:EDT
DTSTART:20260308T070000
END:DAYLIGHT
BEGIN:STANDARD
TZOFFSETFROM:-0400
TZOFFSETTO:-0500
TZNAME:EST
DTSTART:20261101T060000
END:STANDARD
BEGIN:DAYLIGHT
TZOFFSETFROM:-0500
TZOFFSETTO:-0400
TZNAME:EDT
DTSTART:20270314T070000
END:DAYLIGHT
BEGIN:STANDARD
TZOFFSETFROM:-0400
TZOFFSETTO:-0500
TZNAME:EST
DTSTART:20271107T060000
END:STANDARD
BEGIN:DAYLIGHT
TZOFFSETFROM:-0500
TZOFFSETTO:-0400
TZNAME:EDT
DTSTART:20280312T070000
END:DAYLIGHT
BEGIN:STANDARD
TZOFFSETFROM:-0400
TZOFFSETTO:-0500
TZNAME:EST
DTSTART:20281105T060000
END:STANDARD
BEGIN:DAYLIGHT
TZOFFSETFROM:-0500
TZOFFSETTO:-0400
TZNAME:EDT
DTSTART:20290311T070000
END:DAYLIGHT
BEGIN:STANDARD
TZOFFSETFROM:-0400
TZOFFSETTO:-0500
TZNAME:EST
DTSTART:20291104T060000
END:STANDARD
BEGIN:DAYLIGHT
TZOFFSETFROM:-0500
TZOFFSETTO:-0400
TZNAME:EDT
DTSTART:20300310T070000
END:DAYLIGHT
BEGIN:STANDARD
TZOFFSETFROM:-0400
TZOFFSETTO:-0500
TZNAME:EST
DTSTART:20301103T060000
END:STANDARD
BEGIN:DAYLIGHT
TZOFFSETFROM:-0500
TZOFFSETTO:-0400
TZNAME:EDT
DTSTART:20310309T070000
END:DAYLIGHT
BEGIN:STANDARD
TZOFFSETFROM:-0400
TZOFFSETTO:-0500
TZNAME:EST
DTSTART:20311102T060000
END:STANDARD
END:VTIMEZONE
BEGIN:VEVENT
DTSTART;TZID=America/New_York:20260912T110000
DTEND;TZID=America/New_York:20260912T150000
DTSTAMP:20260423T164757
CREATED:20250720T185450Z
LAST-MODIFIED:20251101T152333Z
UID:10003058-1789210800-1789225200@av8maps.com
SUMMARY:Annual Seafood Chowder Fly-In (CCS3)
DESCRIPTION:Please ShareThis is the first announcement for our annual Seafood Chowder fly-in. Last year we had great success and since then we’ve been busy behind the scenes planning new and exciting events. Admission to this event is free\, seafood and drinks will set you back a small fee of $25. We will have live music and a 50/50 draw to raise money for our young eagles program as well as a rafflle for a helicopter ride with Flying 2C Helicopter Tours. We are also offering our club price for 100LL to all who fly in to attend. More details will come as the day creeps closer so keep an eye out on our page and please share!
URL:https://av8maps.com/event/annual-seafood-chowder-fly-in-ccs3/2026-09-12/
LOCATION:Giddens Memorial Airport\, Dufferin\, NB E3L 3X3\, Canada
ATTACH;FMTTYPE=image/jpeg:https://av8maps.com/wp-content/uploads/2025/07/St-Croix-Valley-e1753037682993.jpg
GEO:45.2041039;-67.2602866
X-APPLE-STRUCTURED-LOCATION;VALUE=URI;X-ADDRESS=Giddens Memorial Airport Dufferin NB E3L 3X3 Canada;X-APPLE-RADIUS=500;X-TITLE=Dufferin\, NB E3L 3X3\, Canada:geo:-67.2602866,45.2041039
END:VEVENT
BEGIN:VEVENT
DTSTART;TZID=America/New_York:20270911T110000
DTEND;TZID=America/New_York:20270911T150000
DTSTAMP:20260423T164757
CREATED:20250720T185450Z
LAST-MODIFIED:20251101T152333Z
UID:10003059-1820660400-1820674800@av8maps.com
SUMMARY:Annual Seafood Chowder Fly-In (CCS3)
DESCRIPTION:Please ShareThis is the first announcement for our annual Seafood Chowder fly-in. Last year we had great success and since then we’ve been busy behind the scenes planning new and exciting events. Admission to this event is free\, seafood and drinks will set you back a small fee of $25. We will have live music and a 50/50 draw to raise money for our young eagles program as well as a rafflle for a helicopter ride with Flying 2C Helicopter Tours. We are also offering our club price for 100LL to all who fly in to attend. More details will come as the day creeps closer so keep an eye out on our page and please share!
URL:https://av8maps.com/event/annual-seafood-chowder-fly-in-ccs3/2027-09-11/
LOCATION:Giddens Memorial Airport\, Dufferin\, NB E3L 3X3\, Canada
ATTACH;FMTTYPE=image/jpeg:https://av8maps.com/wp-content/uploads/2025/07/St-Croix-Valley-e1753037682993.jpg
GEO:45.2041039;-67.2602866
X-APPLE-STRUCTURED-LOCATION;VALUE=URI;X-ADDRESS=Giddens Memorial Airport Dufferin NB E3L 3X3 Canada;X-APPLE-RADIUS=500;X-TITLE=Dufferin\, NB E3L 3X3\, Canada:geo:-67.2602866,45.2041039
END:VEVENT
BEGIN:VEVENT
DTSTART;TZID=America/New_York:20280909T110000
DTEND;TZID=America/New_York:20280909T150000
DTSTAMP:20260423T164757
CREATED:20250720T185450Z
LAST-MODIFIED:20251101T152333Z
UID:10003060-1852110000-1852124400@av8maps.com
SUMMARY:Annual Seafood Chowder Fly-In (CCS3)
DESCRIPTION:Please ShareThis is the first announcement for our annual Seafood Chowder fly-in. Last year we had great success and since then we’ve been busy behind the scenes planning new and exciting events. Admission to this event is free\, seafood and drinks will set you back a small fee of $25. We will have live music and a 50/50 draw to raise money for our young eagles program as well as a rafflle for a helicopter ride with Flying 2C Helicopter Tours. We are also offering our club price for 100LL to all who fly in to attend. More details will come as the day creeps closer so keep an eye out on our page and please share!
URL:https://av8maps.com/event/annual-seafood-chowder-fly-in-ccs3/2028-09-09/
LOCATION:Giddens Memorial Airport\, Dufferin\, NB E3L 3X3\, Canada
ATTACH;FMTTYPE=image/jpeg:https://av8maps.com/wp-content/uploads/2025/07/St-Croix-Valley-e1753037682993.jpg
GEO:45.2041039;-67.2602866
X-APPLE-STRUCTURED-LOCATION;VALUE=URI;X-ADDRESS=Giddens Memorial Airport Dufferin NB E3L 3X3 Canada;X-APPLE-RADIUS=500;X-TITLE=Dufferin\, NB E3L 3X3\, Canada:geo:-67.2602866,45.2041039
END:VEVENT
BEGIN:VEVENT
DTSTART;TZID=America/New_York:20290908T110000
DTEND;TZID=America/New_York:20290908T150000
DTSTAMP:20260423T164757
CREATED:20250720T185450Z
LAST-MODIFIED:20251101T152333Z
UID:10003061-1883559600-1883574000@av8maps.com
SUMMARY:Annual Seafood Chowder Fly-In (CCS3)
DESCRIPTION:Please ShareThis is the first announcement for our annual Seafood Chowder fly-in. Last year we had great success and since then we’ve been busy behind the scenes planning new and exciting events. Admission to this event is free\, seafood and drinks will set you back a small fee of $25. We will have live music and a 50/50 draw to raise money for our young eagles program as well as a rafflle for a helicopter ride with Flying 2C Helicopter Tours. We are also offering our club price for 100LL to all who fly in to attend. More details will come as the day creeps closer so keep an eye out on our page and please share!
URL:https://av8maps.com/event/annual-seafood-chowder-fly-in-ccs3/2029-09-08/
LOCATION:Giddens Memorial Airport\, Dufferin\, NB E3L 3X3\, Canada
ATTACH;FMTTYPE=image/jpeg:https://av8maps.com/wp-content/uploads/2025/07/St-Croix-Valley-e1753037682993.jpg
GEO:45.2041039;-67.2602866
X-APPLE-STRUCTURED-LOCATION;VALUE=URI;X-ADDRESS=Giddens Memorial Airport Dufferin NB E3L 3X3 Canada;X-APPLE-RADIUS=500;X-TITLE=Dufferin\, NB E3L 3X3\, Canada:geo:-67.2602866,45.2041039
END:VEVENT
BEGIN:VEVENT
DTSTART;TZID=America/New_York:20300914T110000
DTEND;TZID=America/New_York:20300914T150000
DTSTAMP:20260423T164757
CREATED:20250720T185450Z
LAST-MODIFIED:20251101T152333Z
UID:10003062-1915614000-1915628400@av8maps.com
SUMMARY:Annual Seafood Chowder Fly-In (CCS3)
DESCRIPTION:Please ShareThis is the first announcement for our annual Seafood Chowder fly-in. Last year we had great success and since then we’ve been busy behind the scenes planning new and exciting events. Admission to this event is free\, seafood and drinks will set you back a small fee of $25. We will have live music and a 50/50 draw to raise money for our young eagles program as well as a rafflle for a helicopter ride with Flying 2C Helicopter Tours. We are also offering our club price for 100LL to all who fly in to attend. More details will come as the day creeps closer so keep an eye out on our page and please share!
URL:https://av8maps.com/event/annual-seafood-chowder-fly-in-ccs3/2030-09-14/
LOCATION:Giddens Memorial Airport\, Dufferin\, NB E3L 3X3\, Canada
ATTACH;FMTTYPE=image/jpeg:https://av8maps.com/wp-content/uploads/2025/07/St-Croix-Valley-e1753037682993.jpg
GEO:45.2041039;-67.2602866
X-APPLE-STRUCTURED-LOCATION;VALUE=URI;X-ADDRESS=Giddens Memorial Airport Dufferin NB E3L 3X3 Canada;X-APPLE-RADIUS=500;X-TITLE=Dufferin\, NB E3L 3X3\, Canada:geo:-67.2602866,45.2041039
END:VEVENT
END:VCALENDAR