BEGIN:VCALENDAR
VERSION:2.0
PRODID:-//AV8MAPS.COM - ECPv6.15.20//NONSGML v1.0//EN
CALSCALE:GREGORIAN
METHOD:PUBLISH
X-WR-CALNAME:AV8MAPS.COM
X-ORIGINAL-URL:https://av8maps.com
X-WR-CALDESC:Events for AV8MAPS.COM
REFRESH-INTERVAL;VALUE=DURATION:PT1H
X-Robots-Tag:noindex
X-PUBLISHED-TTL:PT1H
BEGIN:VTIMEZONE
TZID:America/New_York
BEGIN:DAYLIGHT
TZOFFSETFROM:-0500
TZOFFSETTO:-0400
TZNAME:EDT
DTSTART:20250309T070000
END:DAYLIGHT
BEGIN:STANDARD
TZOFFSETFROM:-0400
TZOFFSETTO:-0500
TZNAME:EST
DTSTART:20251102T060000
END:STANDARD
BEGIN:DAYLIGHT
TZOFFSETFROM:-0500
TZOFFSETTO:-0400
TZNAME:EDT
DTSTART:20260308T070000
END:DAYLIGHT
BEGIN:STANDARD
TZOFFSETFROM:-0400
TZOFFSETTO:-0500
TZNAME:EST
DTSTART:20261101T060000
END:STANDARD
BEGIN:DAYLIGHT
TZOFFSETFROM:-0500
TZOFFSETTO:-0400
TZNAME:EDT
DTSTART:20270314T070000
END:DAYLIGHT
BEGIN:STANDARD
TZOFFSETFROM:-0400
TZOFFSETTO:-0500
TZNAME:EST
DTSTART:20271107T060000
END:STANDARD
BEGIN:DAYLIGHT
TZOFFSETFROM:-0500
TZOFFSETTO:-0400
TZNAME:EDT
DTSTART:20280312T070000
END:DAYLIGHT
BEGIN:STANDARD
TZOFFSETFROM:-0400
TZOFFSETTO:-0500
TZNAME:EST
DTSTART:20281105T060000
END:STANDARD
BEGIN:DAYLIGHT
TZOFFSETFROM:-0500
TZOFFSETTO:-0400
TZNAME:EDT
DTSTART:20290311T070000
END:DAYLIGHT
BEGIN:STANDARD
TZOFFSETFROM:-0400
TZOFFSETTO:-0500
TZNAME:EST
DTSTART:20291104T060000
END:STANDARD
BEGIN:DAYLIGHT
TZOFFSETFROM:-0500
TZOFFSETTO:-0400
TZNAME:EDT
DTSTART:20300310T070000
END:DAYLIGHT
BEGIN:STANDARD
TZOFFSETFROM:-0400
TZOFFSETTO:-0500
TZNAME:EST
DTSTART:20301103T060000
END:STANDARD
BEGIN:DAYLIGHT
TZOFFSETFROM:-0500
TZOFFSETTO:-0400
TZNAME:EDT
DTSTART:20310309T070000
END:DAYLIGHT
BEGIN:STANDARD
TZOFFSETFROM:-0400
TZOFFSETTO:-0500
TZNAME:EST
DTSTART:20311102T060000
END:STANDARD
END:VTIMEZONE
BEGIN:VEVENT
DTSTART;TZID=America/New_York:20261003T080000
DTEND;TZID=America/New_York:20261004T170000
DTSTAMP:20260423T164800
CREATED:20250720T190651Z
LAST-MODIFIED:20251101T152411Z
UID:10003063-1791014400-1791133200@av8maps.com
SUMMARY:BowmanFest (KLOU)
DESCRIPTION:Save the date.  More info to come.
URL:https://av8maps.com/event/bowmanfest-klou/2026-10-03/
LOCATION:Bowman Field\, 3345 Roger E Schupp St\, Louisville\, KY 40205
ATTACH;FMTTYPE=image/jpeg:https://av8maps.com/wp-content/uploads/2025/07/Bowmanfest-e1753038394200.jpg
GEO:38.2244606;-85.6578032
X-APPLE-STRUCTURED-LOCATION;VALUE=URI;X-ADDRESS=Bowman Field 3345 Roger E Schupp St Louisville KY 40205;X-APPLE-RADIUS=500;X-TITLE=3345 Roger E Schupp St\, Louisville\, KY 40205:geo:-85.6578032,38.2244606
END:VEVENT
BEGIN:VEVENT
DTSTART;TZID=America/New_York:20271002T080000
DTEND;TZID=America/New_York:20271003T170000
DTSTAMP:20260423T164800
CREATED:20250720T190651Z
LAST-MODIFIED:20251101T152411Z
UID:10003064-1822464000-1822582800@av8maps.com
SUMMARY:BowmanFest (KLOU)
DESCRIPTION:Save the date.  More info to come.
URL:https://av8maps.com/event/bowmanfest-klou/2027-10-02/
LOCATION:Bowman Field\, 3345 Roger E Schupp St\, Louisville\, KY 40205
ATTACH;FMTTYPE=image/jpeg:https://av8maps.com/wp-content/uploads/2025/07/Bowmanfest-e1753038394200.jpg
GEO:38.2244606;-85.6578032
X-APPLE-STRUCTURED-LOCATION;VALUE=URI;X-ADDRESS=Bowman Field 3345 Roger E Schupp St Louisville KY 40205;X-APPLE-RADIUS=500;X-TITLE=3345 Roger E Schupp St\, Louisville\, KY 40205:geo:-85.6578032,38.2244606
END:VEVENT
BEGIN:VEVENT
DTSTART;TZID=America/New_York:20281007T080000
DTEND;TZID=America/New_York:20281008T170000
DTSTAMP:20260423T164800
CREATED:20250720T190651Z
LAST-MODIFIED:20251101T152411Z
UID:10003065-1854518400-1854637200@av8maps.com
SUMMARY:BowmanFest (KLOU)
DESCRIPTION:Save the date.  More info to come.
URL:https://av8maps.com/event/bowmanfest-klou/2028-10-07/
LOCATION:Bowman Field\, 3345 Roger E Schupp St\, Louisville\, KY 40205
ATTACH;FMTTYPE=image/jpeg:https://av8maps.com/wp-content/uploads/2025/07/Bowmanfest-e1753038394200.jpg
GEO:38.2244606;-85.6578032
X-APPLE-STRUCTURED-LOCATION;VALUE=URI;X-ADDRESS=Bowman Field 3345 Roger E Schupp St Louisville KY 40205;X-APPLE-RADIUS=500;X-TITLE=3345 Roger E Schupp St\, Louisville\, KY 40205:geo:-85.6578032,38.2244606
END:VEVENT
BEGIN:VEVENT
DTSTART;TZID=America/New_York:20291006T080000
DTEND;TZID=America/New_York:20291007T170000
DTSTAMP:20260423T164800
CREATED:20250720T190651Z
LAST-MODIFIED:20251101T152411Z
UID:10003066-1885968000-1886086800@av8maps.com
SUMMARY:BowmanFest (KLOU)
DESCRIPTION:Save the date.  More info to come.
URL:https://av8maps.com/event/bowmanfest-klou/2029-10-06/
LOCATION:Bowman Field\, 3345 Roger E Schupp St\, Louisville\, KY 40205
ATTACH;FMTTYPE=image/jpeg:https://av8maps.com/wp-content/uploads/2025/07/Bowmanfest-e1753038394200.jpg
GEO:38.2244606;-85.6578032
X-APPLE-STRUCTURED-LOCATION;VALUE=URI;X-ADDRESS=Bowman Field 3345 Roger E Schupp St Louisville KY 40205;X-APPLE-RADIUS=500;X-TITLE=3345 Roger E Schupp St\, Louisville\, KY 40205:geo:-85.6578032,38.2244606
END:VEVENT
BEGIN:VEVENT
DTSTART;TZID=America/New_York:20301005T080000
DTEND;TZID=America/New_York:20301006T170000
DTSTAMP:20260423T164800
CREATED:20250720T190651Z
LAST-MODIFIED:20251101T152411Z
UID:10003067-1917417600-1917536400@av8maps.com
SUMMARY:BowmanFest (KLOU)
DESCRIPTION:Save the date.  More info to come.
URL:https://av8maps.com/event/bowmanfest-klou/2030-10-05/
LOCATION:Bowman Field\, 3345 Roger E Schupp St\, Louisville\, KY 40205
ATTACH;FMTTYPE=image/jpeg:https://av8maps.com/wp-content/uploads/2025/07/Bowmanfest-e1753038394200.jpg
GEO:38.2244606;-85.6578032
X-APPLE-STRUCTURED-LOCATION;VALUE=URI;X-ADDRESS=Bowman Field 3345 Roger E Schupp St Louisville KY 40205;X-APPLE-RADIUS=500;X-TITLE=3345 Roger E Schupp St\, Louisville\, KY 40205:geo:-85.6578032,38.2244606
END:VEVENT
END:VCALENDAR