BEGIN:VCALENDAR
VERSION:2.0
PRODID:-//AV8MAPS.COM - ECPv6.15.20//NONSGML v1.0//EN
CALSCALE:GREGORIAN
METHOD:PUBLISH
X-WR-CALNAME:AV8MAPS.COM
X-ORIGINAL-URL:https://av8maps.com
X-WR-CALDESC:Events for AV8MAPS.COM
REFRESH-INTERVAL;VALUE=DURATION:PT1H
X-Robots-Tag:noindex
X-PUBLISHED-TTL:PT1H
BEGIN:VTIMEZONE
TZID:America/New_York
BEGIN:DAYLIGHT
TZOFFSETFROM:-0500
TZOFFSETTO:-0400
TZNAME:EDT
DTSTART:20250309T070000
END:DAYLIGHT
BEGIN:STANDARD
TZOFFSETFROM:-0400
TZOFFSETTO:-0500
TZNAME:EST
DTSTART:20251102T060000
END:STANDARD
BEGIN:DAYLIGHT
TZOFFSETFROM:-0500
TZOFFSETTO:-0400
TZNAME:EDT
DTSTART:20260308T070000
END:DAYLIGHT
BEGIN:STANDARD
TZOFFSETFROM:-0400
TZOFFSETTO:-0500
TZNAME:EST
DTSTART:20261101T060000
END:STANDARD
BEGIN:DAYLIGHT
TZOFFSETFROM:-0500
TZOFFSETTO:-0400
TZNAME:EDT
DTSTART:20270314T070000
END:DAYLIGHT
BEGIN:STANDARD
TZOFFSETFROM:-0400
TZOFFSETTO:-0500
TZNAME:EST
DTSTART:20271107T060000
END:STANDARD
BEGIN:DAYLIGHT
TZOFFSETFROM:-0500
TZOFFSETTO:-0400
TZNAME:EDT
DTSTART:20280312T070000
END:DAYLIGHT
BEGIN:STANDARD
TZOFFSETFROM:-0400
TZOFFSETTO:-0500
TZNAME:EST
DTSTART:20281105T060000
END:STANDARD
BEGIN:DAYLIGHT
TZOFFSETFROM:-0500
TZOFFSETTO:-0400
TZNAME:EDT
DTSTART:20290311T070000
END:DAYLIGHT
BEGIN:STANDARD
TZOFFSETFROM:-0400
TZOFFSETTO:-0500
TZNAME:EST
DTSTART:20291104T060000
END:STANDARD
BEGIN:DAYLIGHT
TZOFFSETFROM:-0500
TZOFFSETTO:-0400
TZNAME:EDT
DTSTART:20300310T070000
END:DAYLIGHT
BEGIN:STANDARD
TZOFFSETFROM:-0400
TZOFFSETTO:-0500
TZNAME:EST
DTSTART:20301103T060000
END:STANDARD
BEGIN:DAYLIGHT
TZOFFSETFROM:-0500
TZOFFSETTO:-0400
TZNAME:EDT
DTSTART:20310309T070000
END:DAYLIGHT
BEGIN:STANDARD
TZOFFSETFROM:-0400
TZOFFSETTO:-0500
TZNAME:EST
DTSTART:20311102T060000
END:STANDARD
END:VTIMEZONE
BEGIN:VEVENT
DTSTART;TZID=America/New_York:20261001T070000
DTEND;TZID=America/New_York:20261003T193000
DTSTAMP:20260423T051521
CREATED:20250720T193203Z
LAST-MODIFIED:20251101T152502Z
UID:10000614-1790838000-1791055800@av8maps.com
SUMMARY:Hodges Field Ultralight Fly-in (4GA0)
DESCRIPTION:Monitor 122.800. Bring tiedowns if needed.\nWe will have concessions for lunch both days
URL:https://av8maps.com/event/hodges-field-ultralight-fly-in-4ga0/2026-10-01/
LOCATION:Hodges Field\, Old Stage Rd\, Andersonville\, GA 31711
ATTACH;FMTTYPE=image/jpeg:https://av8maps.com/wp-content/uploads/2025/07/Hodges-Field-e1753039898563.jpg
GEO:32.12508,;-84.12897
X-APPLE-STRUCTURED-LOCATION;VALUE=URI;X-ADDRESS=Hodges Field Old Stage Rd Andersonville GA 31711;X-APPLE-RADIUS=500;X-TITLE=Old Stage Rd\, Andersonville\, GA 31711:geo:-84.12897,32.12508,
END:VEVENT
BEGIN:VEVENT
DTSTART;TZID=America/New_York:20271007T070000
DTEND;TZID=America/New_York:20271009T193000
DTSTAMP:20260423T051521
CREATED:20250720T193203Z
LAST-MODIFIED:20251101T152502Z
UID:10003068-1822892400-1823110200@av8maps.com
SUMMARY:Hodges Field Ultralight Fly-in (4GA0)
DESCRIPTION:Monitor 122.800. Bring tiedowns if needed.\nWe will have concessions for lunch both days
URL:https://av8maps.com/event/hodges-field-ultralight-fly-in-4ga0/2027-10-07/
LOCATION:Hodges Field\, Old Stage Rd\, Andersonville\, GA 31711
ATTACH;FMTTYPE=image/jpeg:https://av8maps.com/wp-content/uploads/2025/07/Hodges-Field-e1753039898563.jpg
GEO:32.12508,;-84.12897
X-APPLE-STRUCTURED-LOCATION;VALUE=URI;X-ADDRESS=Hodges Field Old Stage Rd Andersonville GA 31711;X-APPLE-RADIUS=500;X-TITLE=Old Stage Rd\, Andersonville\, GA 31711:geo:-84.12897,32.12508,
END:VEVENT
BEGIN:VEVENT
DTSTART;TZID=America/New_York:20281005T070000
DTEND;TZID=America/New_York:20281007T193000
DTSTAMP:20260423T051521
CREATED:20250720T193203Z
LAST-MODIFIED:20251101T152502Z
UID:10003069-1854342000-1854559800@av8maps.com
SUMMARY:Hodges Field Ultralight Fly-in (4GA0)
DESCRIPTION:Monitor 122.800. Bring tiedowns if needed.\nWe will have concessions for lunch both days
URL:https://av8maps.com/event/hodges-field-ultralight-fly-in-4ga0/2028-10-05/
LOCATION:Hodges Field\, Old Stage Rd\, Andersonville\, GA 31711
ATTACH;FMTTYPE=image/jpeg:https://av8maps.com/wp-content/uploads/2025/07/Hodges-Field-e1753039898563.jpg
GEO:32.12508,;-84.12897
X-APPLE-STRUCTURED-LOCATION;VALUE=URI;X-ADDRESS=Hodges Field Old Stage Rd Andersonville GA 31711;X-APPLE-RADIUS=500;X-TITLE=Old Stage Rd\, Andersonville\, GA 31711:geo:-84.12897,32.12508,
END:VEVENT
BEGIN:VEVENT
DTSTART;TZID=America/New_York:20291004T070000
DTEND;TZID=America/New_York:20291006T193000
DTSTAMP:20260423T051522
CREATED:20250720T193203Z
LAST-MODIFIED:20251101T152502Z
UID:10003070-1885791600-1886009400@av8maps.com
SUMMARY:Hodges Field Ultralight Fly-in (4GA0)
DESCRIPTION:Monitor 122.800. Bring tiedowns if needed.\nWe will have concessions for lunch both days
URL:https://av8maps.com/event/hodges-field-ultralight-fly-in-4ga0/2029-10-04/
LOCATION:Hodges Field\, Old Stage Rd\, Andersonville\, GA 31711
ATTACH;FMTTYPE=image/jpeg:https://av8maps.com/wp-content/uploads/2025/07/Hodges-Field-e1753039898563.jpg
GEO:32.12508,;-84.12897
X-APPLE-STRUCTURED-LOCATION;VALUE=URI;X-ADDRESS=Hodges Field Old Stage Rd Andersonville GA 31711;X-APPLE-RADIUS=500;X-TITLE=Old Stage Rd\, Andersonville\, GA 31711:geo:-84.12897,32.12508,
END:VEVENT
BEGIN:VEVENT
DTSTART;TZID=America/New_York:20301003T070000
DTEND;TZID=America/New_York:20301005T193000
DTSTAMP:20260423T051522
CREATED:20250720T193203Z
LAST-MODIFIED:20251101T152502Z
UID:10003071-1917241200-1917459000@av8maps.com
SUMMARY:Hodges Field Ultralight Fly-in (4GA0)
DESCRIPTION:Monitor 122.800. Bring tiedowns if needed.\nWe will have concessions for lunch both days
URL:https://av8maps.com/event/hodges-field-ultralight-fly-in-4ga0/2030-10-03/
LOCATION:Hodges Field\, Old Stage Rd\, Andersonville\, GA 31711
ATTACH;FMTTYPE=image/jpeg:https://av8maps.com/wp-content/uploads/2025/07/Hodges-Field-e1753039898563.jpg
GEO:32.12508,;-84.12897
X-APPLE-STRUCTURED-LOCATION;VALUE=URI;X-ADDRESS=Hodges Field Old Stage Rd Andersonville GA 31711;X-APPLE-RADIUS=500;X-TITLE=Old Stage Rd\, Andersonville\, GA 31711:geo:-84.12897,32.12508,
END:VEVENT
END:VCALENDAR