BEGIN:VCALENDAR
VERSION:2.0
PRODID:-//AV8MAPS.COM - ECPv6.15.20//NONSGML v1.0//EN
CALSCALE:GREGORIAN
METHOD:PUBLISH
X-WR-CALNAME:AV8MAPS.COM
X-ORIGINAL-URL:https://av8maps.com
X-WR-CALDESC:Events for AV8MAPS.COM
REFRESH-INTERVAL;VALUE=DURATION:PT1H
X-Robots-Tag:noindex
X-PUBLISHED-TTL:PT1H
BEGIN:VTIMEZONE
TZID:America/New_York
BEGIN:DAYLIGHT
TZOFFSETFROM:-0500
TZOFFSETTO:-0400
TZNAME:EDT
DTSTART:20250309T070000
END:DAYLIGHT
BEGIN:STANDARD
TZOFFSETFROM:-0400
TZOFFSETTO:-0500
TZNAME:EST
DTSTART:20251102T060000
END:STANDARD
BEGIN:DAYLIGHT
TZOFFSETFROM:-0500
TZOFFSETTO:-0400
TZNAME:EDT
DTSTART:20260308T070000
END:DAYLIGHT
BEGIN:STANDARD
TZOFFSETFROM:-0400
TZOFFSETTO:-0500
TZNAME:EST
DTSTART:20261101T060000
END:STANDARD
BEGIN:DAYLIGHT
TZOFFSETFROM:-0500
TZOFFSETTO:-0400
TZNAME:EDT
DTSTART:20270314T070000
END:DAYLIGHT
BEGIN:STANDARD
TZOFFSETFROM:-0400
TZOFFSETTO:-0500
TZNAME:EST
DTSTART:20271107T060000
END:STANDARD
END:VTIMEZONE
BEGIN:VEVENT
DTSTART;TZID=America/New_York:20260530T080000
DTEND;TZID=America/New_York:20260530T100000
DTSTAMP:20260423T010910
CREATED:20250528T145051Z
LAST-MODIFIED:20251101T155154Z
UID:10000294-1780128000-1780135200@av8maps.com
SUMMARY:Huckleberry Pancake Breakfast (65S)
DESCRIPTION:All you can eat for a suggested donation of $10 per person.\nProceeds go towards flight scholarships.\nFly-in or Walk-in everyone is welcome!\nIf you would like to help\, as this is a volunteer operation\, please come before 8:00 am or for clean-up after 10:00 am.\nAirport ident (65S)\nOrganizer EAA CHAPTER 757
URL:https://av8maps.com/event/huckleberry-pancake-breakfast-bonners-ferry/2026-05-30/
LOCATION:Boundary County Airport\, 64602 US-2\, Bonners Ferry\, ID 83805
ATTACH;FMTTYPE=image/jpeg:https://av8maps.com/wp-content/uploads/2025/05/Huckleberry-Pancake-Breakfast-65S-2-e1758892194399.jpg
GEO:48.730755;-116.293207
X-APPLE-STRUCTURED-LOCATION;VALUE=URI;X-ADDRESS=Boundary County Airport 64602 US-2 Bonners Ferry ID 83805;X-APPLE-RADIUS=500;X-TITLE=64602 US-2\, Bonners Ferry\, ID 83805:geo:-116.293207,48.730755
END:VEVENT
BEGIN:VEVENT
DTSTART;TZID=America/New_York:20260627T080000
DTEND;TZID=America/New_York:20260627T100000
DTSTAMP:20260423T010910
CREATED:20250528T145051Z
LAST-MODIFIED:20251101T155154Z
UID:10003087-1782547200-1782554400@av8maps.com
SUMMARY:Huckleberry Pancake Breakfast (65S)
DESCRIPTION:All you can eat for a suggested donation of $10 per person.\nProceeds go towards flight scholarships.\nFly-in or Walk-in everyone is welcome!\nIf you would like to help\, as this is a volunteer operation\, please come before 8:00 am or for clean-up after 10:00 am.\nAirport ident (65S)\nOrganizer EAA CHAPTER 757
URL:https://av8maps.com/event/huckleberry-pancake-breakfast-bonners-ferry/2026-06-27/
LOCATION:Boundary County Airport\, 64602 US-2\, Bonners Ferry\, ID 83805
ATTACH;FMTTYPE=image/jpeg:https://av8maps.com/wp-content/uploads/2025/05/Huckleberry-Pancake-Breakfast-65S-2-e1758892194399.jpg
GEO:48.730755;-116.293207
X-APPLE-STRUCTURED-LOCATION;VALUE=URI;X-ADDRESS=Boundary County Airport 64602 US-2 Bonners Ferry ID 83805;X-APPLE-RADIUS=500;X-TITLE=64602 US-2\, Bonners Ferry\, ID 83805:geo:-116.293207,48.730755
END:VEVENT
BEGIN:VEVENT
DTSTART;TZID=America/New_York:20260725T080000
DTEND;TZID=America/New_York:20260725T100000
DTSTAMP:20260423T010910
CREATED:20250528T145051Z
LAST-MODIFIED:20251101T155154Z
UID:10003088-1784966400-1784973600@av8maps.com
SUMMARY:Huckleberry Pancake Breakfast (65S)
DESCRIPTION:All you can eat for a suggested donation of $10 per person.\nProceeds go towards flight scholarships.\nFly-in or Walk-in everyone is welcome!\nIf you would like to help\, as this is a volunteer operation\, please come before 8:00 am or for clean-up after 10:00 am.\nAirport ident (65S)\nOrganizer EAA CHAPTER 757
URL:https://av8maps.com/event/huckleberry-pancake-breakfast-bonners-ferry/2026-07-25/
LOCATION:Boundary County Airport\, 64602 US-2\, Bonners Ferry\, ID 83805
ATTACH;FMTTYPE=image/jpeg:https://av8maps.com/wp-content/uploads/2025/05/Huckleberry-Pancake-Breakfast-65S-2-e1758892194399.jpg
GEO:48.730755;-116.293207
X-APPLE-STRUCTURED-LOCATION;VALUE=URI;X-ADDRESS=Boundary County Airport 64602 US-2 Bonners Ferry ID 83805;X-APPLE-RADIUS=500;X-TITLE=64602 US-2\, Bonners Ferry\, ID 83805:geo:-116.293207,48.730755
END:VEVENT
BEGIN:VEVENT
DTSTART;TZID=America/New_York:20260829T080000
DTEND;TZID=America/New_York:20260829T100000
DTSTAMP:20260423T010910
CREATED:20250528T145051Z
LAST-MODIFIED:20251101T155154Z
UID:10003089-1787990400-1787997600@av8maps.com
SUMMARY:Huckleberry Pancake Breakfast (65S)
DESCRIPTION:All you can eat for a suggested donation of $10 per person.\nProceeds go towards flight scholarships.\nFly-in or Walk-in everyone is welcome!\nIf you would like to help\, as this is a volunteer operation\, please come before 8:00 am or for clean-up after 10:00 am.\nAirport ident (65S)\nOrganizer EAA CHAPTER 757
URL:https://av8maps.com/event/huckleberry-pancake-breakfast-bonners-ferry/2026-08-29/
LOCATION:Boundary County Airport\, 64602 US-2\, Bonners Ferry\, ID 83805
ATTACH;FMTTYPE=image/jpeg:https://av8maps.com/wp-content/uploads/2025/05/Huckleberry-Pancake-Breakfast-65S-2-e1758892194399.jpg
GEO:48.730755;-116.293207
X-APPLE-STRUCTURED-LOCATION;VALUE=URI;X-ADDRESS=Boundary County Airport 64602 US-2 Bonners Ferry ID 83805;X-APPLE-RADIUS=500;X-TITLE=64602 US-2\, Bonners Ferry\, ID 83805:geo:-116.293207,48.730755
END:VEVENT
BEGIN:VEVENT
DTSTART;TZID=America/New_York:20260926T080000
DTEND;TZID=America/New_York:20260926T100000
DTSTAMP:20260423T010910
CREATED:20250528T145051Z
LAST-MODIFIED:20251101T155154Z
UID:10003090-1790409600-1790416800@av8maps.com
SUMMARY:Huckleberry Pancake Breakfast (65S)
DESCRIPTION:All you can eat for a suggested donation of $10 per person.\nProceeds go towards flight scholarships.\nFly-in or Walk-in everyone is welcome!\nIf you would like to help\, as this is a volunteer operation\, please come before 8:00 am or for clean-up after 10:00 am.\nAirport ident (65S)\nOrganizer EAA CHAPTER 757
URL:https://av8maps.com/event/huckleberry-pancake-breakfast-bonners-ferry/2026-09-26/
LOCATION:Boundary County Airport\, 64602 US-2\, Bonners Ferry\, ID 83805
ATTACH;FMTTYPE=image/jpeg:https://av8maps.com/wp-content/uploads/2025/05/Huckleberry-Pancake-Breakfast-65S-2-e1758892194399.jpg
GEO:48.730755;-116.293207
X-APPLE-STRUCTURED-LOCATION;VALUE=URI;X-ADDRESS=Boundary County Airport 64602 US-2 Bonners Ferry ID 83805;X-APPLE-RADIUS=500;X-TITLE=64602 US-2\, Bonners Ferry\, ID 83805:geo:-116.293207,48.730755
END:VEVENT
END:VCALENDAR