BEGIN:VCALENDAR
VERSION:2.0
PRODID:-//AV8MAPS.COM - ECPv6.15.20//NONSGML v1.0//EN
CALSCALE:GREGORIAN
METHOD:PUBLISH
X-WR-CALNAME:AV8MAPS.COM
X-ORIGINAL-URL:https://av8maps.com
X-WR-CALDESC:Events for AV8MAPS.COM
REFRESH-INTERVAL;VALUE=DURATION:PT1H
X-Robots-Tag:noindex
X-PUBLISHED-TTL:PT1H
BEGIN:VTIMEZONE
TZID:America/New_York
BEGIN:DAYLIGHT
TZOFFSETFROM:-0500
TZOFFSETTO:-0400
TZNAME:EDT
DTSTART:20250309T070000
END:DAYLIGHT
BEGIN:STANDARD
TZOFFSETFROM:-0400
TZOFFSETTO:-0500
TZNAME:EST
DTSTART:20251102T060000
END:STANDARD
BEGIN:DAYLIGHT
TZOFFSETFROM:-0500
TZOFFSETTO:-0400
TZNAME:EDT
DTSTART:20260308T070000
END:DAYLIGHT
BEGIN:STANDARD
TZOFFSETFROM:-0400
TZOFFSETTO:-0500
TZNAME:EST
DTSTART:20261101T060000
END:STANDARD
BEGIN:DAYLIGHT
TZOFFSETFROM:-0500
TZOFFSETTO:-0400
TZNAME:EDT
DTSTART:20270314T070000
END:DAYLIGHT
BEGIN:STANDARD
TZOFFSETFROM:-0400
TZOFFSETTO:-0500
TZNAME:EST
DTSTART:20271107T060000
END:STANDARD
BEGIN:DAYLIGHT
TZOFFSETFROM:-0500
TZOFFSETTO:-0400
TZNAME:EDT
DTSTART:20280312T070000
END:DAYLIGHT
BEGIN:STANDARD
TZOFFSETFROM:-0400
TZOFFSETTO:-0500
TZNAME:EST
DTSTART:20281105T060000
END:STANDARD
BEGIN:DAYLIGHT
TZOFFSETFROM:-0500
TZOFFSETTO:-0400
TZNAME:EDT
DTSTART:20290311T070000
END:DAYLIGHT
BEGIN:STANDARD
TZOFFSETFROM:-0400
TZOFFSETTO:-0500
TZNAME:EST
DTSTART:20291104T060000
END:STANDARD
BEGIN:DAYLIGHT
TZOFFSETFROM:-0500
TZOFFSETTO:-0400
TZNAME:EDT
DTSTART:20300310T070000
END:DAYLIGHT
BEGIN:STANDARD
TZOFFSETFROM:-0400
TZOFFSETTO:-0500
TZNAME:EST
DTSTART:20301103T060000
END:STANDARD
BEGIN:DAYLIGHT
TZOFFSETFROM:-0500
TZOFFSETTO:-0400
TZNAME:EDT
DTSTART:20310309T070000
END:DAYLIGHT
BEGIN:STANDARD
TZOFFSETFROM:-0400
TZOFFSETTO:-0500
TZNAME:EST
DTSTART:20311102T060000
END:STANDARD
END:VTIMEZONE
BEGIN:VEVENT
DTSTART;TZID=America/New_York:20260801T080000
DTEND;TZID=America/New_York:20260801T140000
DTSTAMP:20260423T010908
CREATED:20250529T004911Z
LAST-MODIFIED:20260319T185316Z
UID:10006499-1785571200-1785592800@av8maps.com
SUMMARY:Annual Mansfield Airport Day (KMFD)
DESCRIPTION:Join us for our annual Mansfield Airport Day! This year’s event will take place Saturday\, August 1st from 8am-2pm.  All vendor inquiries please contact Jeff Angelini at 419-295-2478.\n**Please be aware of bots and fake accounts that message about vendor space. We will not reach out from any account\, but will respond to inquiries from this account only in messenger.
URL:https://av8maps.com/event/mansfield-airport-day-2025/2026-08-01/
LOCATION:Mansfield Lahm Airport\, 2000 Harrington Memorial Rd\, Mansfield\, OH\, 44903
ATTACH;FMTTYPE=image/jpeg:https://av8maps.com/wp-content/uploads/2025/05/IMG_0496.jpeg
GEO:40.8108682;-82.5101807
X-APPLE-STRUCTURED-LOCATION;VALUE=URI;X-ADDRESS=Mansfield Lahm Airport 2000 Harrington Memorial Rd Mansfield OH 44903;X-APPLE-RADIUS=500;X-TITLE=2000 Harrington Memorial Rd:geo:-82.5101807,40.8108682
END:VEVENT
BEGIN:VEVENT
DTSTART;TZID=America/New_York:20270807T080000
DTEND;TZID=America/New_York:20270807T140000
DTSTAMP:20260423T010908
CREATED:20250529T004911Z
LAST-MODIFIED:20260319T185316Z
UID:10006500-1817625600-1817647200@av8maps.com
SUMMARY:Annual Mansfield Airport Day (KMFD)
DESCRIPTION:Join us for our annual Mansfield Airport Day! This year’s event will take place Saturday\, August 1st from 8am-2pm.  All vendor inquiries please contact Jeff Angelini at 419-295-2478.\n**Please be aware of bots and fake accounts that message about vendor space. We will not reach out from any account\, but will respond to inquiries from this account only in messenger.
URL:https://av8maps.com/event/mansfield-airport-day-2025/2027-08-07/
LOCATION:Mansfield Lahm Airport\, 2000 Harrington Memorial Rd\, Mansfield\, OH\, 44903
ATTACH;FMTTYPE=image/jpeg:https://av8maps.com/wp-content/uploads/2025/05/IMG_0496.jpeg
GEO:40.8108682;-82.5101807
X-APPLE-STRUCTURED-LOCATION;VALUE=URI;X-ADDRESS=Mansfield Lahm Airport 2000 Harrington Memorial Rd Mansfield OH 44903;X-APPLE-RADIUS=500;X-TITLE=2000 Harrington Memorial Rd:geo:-82.5101807,40.8108682
END:VEVENT
BEGIN:VEVENT
DTSTART;TZID=America/New_York:20280805T080000
DTEND;TZID=America/New_York:20280805T140000
DTSTAMP:20260423T010908
CREATED:20250529T004911Z
LAST-MODIFIED:20260319T185316Z
UID:10006501-1849075200-1849096800@av8maps.com
SUMMARY:Annual Mansfield Airport Day (KMFD)
DESCRIPTION:Join us for our annual Mansfield Airport Day! This year’s event will take place Saturday\, August 1st from 8am-2pm.  All vendor inquiries please contact Jeff Angelini at 419-295-2478.\n**Please be aware of bots and fake accounts that message about vendor space. We will not reach out from any account\, but will respond to inquiries from this account only in messenger.
URL:https://av8maps.com/event/mansfield-airport-day-2025/2028-08-05/
LOCATION:Mansfield Lahm Airport\, 2000 Harrington Memorial Rd\, Mansfield\, OH\, 44903
ATTACH;FMTTYPE=image/jpeg:https://av8maps.com/wp-content/uploads/2025/05/IMG_0496.jpeg
GEO:40.8108682;-82.5101807
X-APPLE-STRUCTURED-LOCATION;VALUE=URI;X-ADDRESS=Mansfield Lahm Airport 2000 Harrington Memorial Rd Mansfield OH 44903;X-APPLE-RADIUS=500;X-TITLE=2000 Harrington Memorial Rd:geo:-82.5101807,40.8108682
END:VEVENT
BEGIN:VEVENT
DTSTART;TZID=America/New_York:20290804T080000
DTEND;TZID=America/New_York:20290804T140000
DTSTAMP:20260423T010908
CREATED:20250529T004911Z
LAST-MODIFIED:20260319T185316Z
UID:10006502-1880524800-1880546400@av8maps.com
SUMMARY:Annual Mansfield Airport Day (KMFD)
DESCRIPTION:Join us for our annual Mansfield Airport Day! This year’s event will take place Saturday\, August 1st from 8am-2pm.  All vendor inquiries please contact Jeff Angelini at 419-295-2478.\n**Please be aware of bots and fake accounts that message about vendor space. We will not reach out from any account\, but will respond to inquiries from this account only in messenger.
URL:https://av8maps.com/event/mansfield-airport-day-2025/2029-08-04/
LOCATION:Mansfield Lahm Airport\, 2000 Harrington Memorial Rd\, Mansfield\, OH\, 44903
ATTACH;FMTTYPE=image/jpeg:https://av8maps.com/wp-content/uploads/2025/05/IMG_0496.jpeg
GEO:40.8108682;-82.5101807
X-APPLE-STRUCTURED-LOCATION;VALUE=URI;X-ADDRESS=Mansfield Lahm Airport 2000 Harrington Memorial Rd Mansfield OH 44903;X-APPLE-RADIUS=500;X-TITLE=2000 Harrington Memorial Rd:geo:-82.5101807,40.8108682
END:VEVENT
BEGIN:VEVENT
DTSTART;TZID=America/New_York:20300803T080000
DTEND;TZID=America/New_York:20300803T140000
DTSTAMP:20260423T010908
CREATED:20250529T004911Z
LAST-MODIFIED:20260319T185316Z
UID:10006503-1911974400-1911996000@av8maps.com
SUMMARY:Annual Mansfield Airport Day (KMFD)
DESCRIPTION:Join us for our annual Mansfield Airport Day! This year’s event will take place Saturday\, August 1st from 8am-2pm.  All vendor inquiries please contact Jeff Angelini at 419-295-2478.\n**Please be aware of bots and fake accounts that message about vendor space. We will not reach out from any account\, but will respond to inquiries from this account only in messenger.
URL:https://av8maps.com/event/mansfield-airport-day-2025/2030-08-03/
LOCATION:Mansfield Lahm Airport\, 2000 Harrington Memorial Rd\, Mansfield\, OH\, 44903
ATTACH;FMTTYPE=image/jpeg:https://av8maps.com/wp-content/uploads/2025/05/IMG_0496.jpeg
GEO:40.8108682;-82.5101807
X-APPLE-STRUCTURED-LOCATION;VALUE=URI;X-ADDRESS=Mansfield Lahm Airport 2000 Harrington Memorial Rd Mansfield OH 44903;X-APPLE-RADIUS=500;X-TITLE=2000 Harrington Memorial Rd:geo:-82.5101807,40.8108682
END:VEVENT
END:VCALENDAR