BEGIN:VCALENDAR
VERSION:2.0
PRODID:-//AV8MAPS.COM - ECPv6.15.20//NONSGML v1.0//EN
CALSCALE:GREGORIAN
METHOD:PUBLISH
X-WR-CALNAME:AV8MAPS.COM
X-ORIGINAL-URL:https://av8maps.com
X-WR-CALDESC:Events for AV8MAPS.COM
REFRESH-INTERVAL;VALUE=DURATION:PT1H
X-Robots-Tag:noindex
X-PUBLISHED-TTL:PT1H
BEGIN:VTIMEZONE
TZID:America/North_Dakota/New_Salem
BEGIN:DAYLIGHT
TZOFFSETFROM:-0600
TZOFFSETTO:-0500
TZNAME:CDT
DTSTART:20250309T080000
END:DAYLIGHT
BEGIN:STANDARD
TZOFFSETFROM:-0500
TZOFFSETTO:-0600
TZNAME:CST
DTSTART:20251102T070000
END:STANDARD
BEGIN:DAYLIGHT
TZOFFSETFROM:-0600
TZOFFSETTO:-0500
TZNAME:CDT
DTSTART:20260308T080000
END:DAYLIGHT
BEGIN:STANDARD
TZOFFSETFROM:-0500
TZOFFSETTO:-0600
TZNAME:CST
DTSTART:20261101T070000
END:STANDARD
BEGIN:DAYLIGHT
TZOFFSETFROM:-0600
TZOFFSETTO:-0500
TZNAME:CDT
DTSTART:20270314T080000
END:DAYLIGHT
BEGIN:STANDARD
TZOFFSETFROM:-0500
TZOFFSETTO:-0600
TZNAME:CST
DTSTART:20271107T070000
END:STANDARD
BEGIN:DAYLIGHT
TZOFFSETFROM:-0600
TZOFFSETTO:-0500
TZNAME:CDT
DTSTART:20280312T080000
END:DAYLIGHT
BEGIN:STANDARD
TZOFFSETFROM:-0500
TZOFFSETTO:-0600
TZNAME:CST
DTSTART:20281105T070000
END:STANDARD
BEGIN:DAYLIGHT
TZOFFSETFROM:-0600
TZOFFSETTO:-0500
TZNAME:CDT
DTSTART:20290311T080000
END:DAYLIGHT
BEGIN:STANDARD
TZOFFSETFROM:-0500
TZOFFSETTO:-0600
TZNAME:CST
DTSTART:20291104T070000
END:STANDARD
BEGIN:DAYLIGHT
TZOFFSETFROM:-0600
TZOFFSETTO:-0500
TZNAME:CDT
DTSTART:20300310T080000
END:DAYLIGHT
BEGIN:STANDARD
TZOFFSETFROM:-0500
TZOFFSETTO:-0600
TZNAME:CST
DTSTART:20301103T070000
END:STANDARD
BEGIN:DAYLIGHT
TZOFFSETFROM:-0600
TZOFFSETTO:-0500
TZNAME:CDT
DTSTART:20310309T080000
END:DAYLIGHT
BEGIN:STANDARD
TZOFFSETFROM:-0500
TZOFFSETTO:-0600
TZNAME:CST
DTSTART:20311102T070000
END:STANDARD
END:VTIMEZONE
BEGIN:VEVENT
DTSTART;TZID=America/North_Dakota/New_Salem:20260802T083000
DTEND;TZID=America/North_Dakota/New_Salem:20260802T113000
DTSTAMP:20260422T234619
CREATED:20250709T161655Z
LAST-MODIFIED:20251101T170454Z
UID:10003238-1785659400-1785670200@av8maps.com
SUMMARY:Covered Wagon Days Fly In (KRCV)
DESCRIPTION:Our second event of the summer! Come join us for the Covered Wagon Days Fly In Aug 3rd @KRCV
URL:https://av8maps.com/event/covered-wagon-days-fly-in/2026-08-02/
LOCATION:Kent Rominger Airport\, 1 Bravo Taxiway\, Del Norte\, CO 81132
ATTACH;FMTTYPE=image/jpeg:https://av8maps.com/wp-content/uploads/2025/07/Covered-Wagon-Days-e1753834871850.jpg
GEO:37.6786462;-106.3519088
X-APPLE-STRUCTURED-LOCATION;VALUE=URI;X-ADDRESS=Kent Rominger Airport 1 Bravo Taxiway Del Norte CO 81132;X-APPLE-RADIUS=500;X-TITLE=1 Bravo Taxiway\, Del Norte\, CO 81132:geo:-106.3519088,37.6786462
END:VEVENT
BEGIN:VEVENT
DTSTART;TZID=America/North_Dakota/New_Salem:20270801T083000
DTEND;TZID=America/North_Dakota/New_Salem:20270801T113000
DTSTAMP:20260422T234619
CREATED:20250709T161655Z
LAST-MODIFIED:20251101T170454Z
UID:10003239-1817109000-1817119800@av8maps.com
SUMMARY:Covered Wagon Days Fly In (KRCV)
DESCRIPTION:Our second event of the summer! Come join us for the Covered Wagon Days Fly In Aug 3rd @KRCV
URL:https://av8maps.com/event/covered-wagon-days-fly-in/2027-08-01/
LOCATION:Kent Rominger Airport\, 1 Bravo Taxiway\, Del Norte\, CO 81132
ATTACH;FMTTYPE=image/jpeg:https://av8maps.com/wp-content/uploads/2025/07/Covered-Wagon-Days-e1753834871850.jpg
GEO:37.6786462;-106.3519088
X-APPLE-STRUCTURED-LOCATION;VALUE=URI;X-ADDRESS=Kent Rominger Airport 1 Bravo Taxiway Del Norte CO 81132;X-APPLE-RADIUS=500;X-TITLE=1 Bravo Taxiway\, Del Norte\, CO 81132:geo:-106.3519088,37.6786462
END:VEVENT
BEGIN:VEVENT
DTSTART;TZID=America/North_Dakota/New_Salem:20280806T083000
DTEND;TZID=America/North_Dakota/New_Salem:20280806T113000
DTSTAMP:20260422T234619
CREATED:20250709T161655Z
LAST-MODIFIED:20251101T170454Z
UID:10003240-1849163400-1849174200@av8maps.com
SUMMARY:Covered Wagon Days Fly In (KRCV)
DESCRIPTION:Our second event of the summer! Come join us for the Covered Wagon Days Fly In Aug 3rd @KRCV
URL:https://av8maps.com/event/covered-wagon-days-fly-in/2028-08-06/
LOCATION:Kent Rominger Airport\, 1 Bravo Taxiway\, Del Norte\, CO 81132
ATTACH;FMTTYPE=image/jpeg:https://av8maps.com/wp-content/uploads/2025/07/Covered-Wagon-Days-e1753834871850.jpg
GEO:37.6786462;-106.3519088
X-APPLE-STRUCTURED-LOCATION;VALUE=URI;X-ADDRESS=Kent Rominger Airport 1 Bravo Taxiway Del Norte CO 81132;X-APPLE-RADIUS=500;X-TITLE=1 Bravo Taxiway\, Del Norte\, CO 81132:geo:-106.3519088,37.6786462
END:VEVENT
BEGIN:VEVENT
DTSTART;TZID=America/North_Dakota/New_Salem:20290805T083000
DTEND;TZID=America/North_Dakota/New_Salem:20290805T113000
DTSTAMP:20260422T234619
CREATED:20250709T161655Z
LAST-MODIFIED:20251101T170454Z
UID:10003241-1880613000-1880623800@av8maps.com
SUMMARY:Covered Wagon Days Fly In (KRCV)
DESCRIPTION:Our second event of the summer! Come join us for the Covered Wagon Days Fly In Aug 3rd @KRCV
URL:https://av8maps.com/event/covered-wagon-days-fly-in/2029-08-05/
LOCATION:Kent Rominger Airport\, 1 Bravo Taxiway\, Del Norte\, CO 81132
ATTACH;FMTTYPE=image/jpeg:https://av8maps.com/wp-content/uploads/2025/07/Covered-Wagon-Days-e1753834871850.jpg
GEO:37.6786462;-106.3519088
X-APPLE-STRUCTURED-LOCATION;VALUE=URI;X-ADDRESS=Kent Rominger Airport 1 Bravo Taxiway Del Norte CO 81132;X-APPLE-RADIUS=500;X-TITLE=1 Bravo Taxiway\, Del Norte\, CO 81132:geo:-106.3519088,37.6786462
END:VEVENT
BEGIN:VEVENT
DTSTART;TZID=America/North_Dakota/New_Salem:20300804T083000
DTEND;TZID=America/North_Dakota/New_Salem:20300804T113000
DTSTAMP:20260422T234619
CREATED:20250709T161655Z
LAST-MODIFIED:20251101T170454Z
UID:10003242-1912062600-1912073400@av8maps.com
SUMMARY:Covered Wagon Days Fly In (KRCV)
DESCRIPTION:Our second event of the summer! Come join us for the Covered Wagon Days Fly In Aug 3rd @KRCV
URL:https://av8maps.com/event/covered-wagon-days-fly-in/2030-08-04/
LOCATION:Kent Rominger Airport\, 1 Bravo Taxiway\, Del Norte\, CO 81132
ATTACH;FMTTYPE=image/jpeg:https://av8maps.com/wp-content/uploads/2025/07/Covered-Wagon-Days-e1753834871850.jpg
GEO:37.6786462;-106.3519088
X-APPLE-STRUCTURED-LOCATION;VALUE=URI;X-ADDRESS=Kent Rominger Airport 1 Bravo Taxiway Del Norte CO 81132;X-APPLE-RADIUS=500;X-TITLE=1 Bravo Taxiway\, Del Norte\, CO 81132:geo:-106.3519088,37.6786462
END:VEVENT
END:VCALENDAR