BEGIN:VCALENDAR
VERSION:2.0
PRODID:-//AV8MAPS.COM - ECPv6.15.20//NONSGML v1.0//EN
CALSCALE:GREGORIAN
METHOD:PUBLISH
X-WR-CALNAME:AV8MAPS.COM
X-ORIGINAL-URL:https://av8maps.com
X-WR-CALDESC:Events for AV8MAPS.COM
REFRESH-INTERVAL;VALUE=DURATION:PT1H
X-Robots-Tag:noindex
X-PUBLISHED-TTL:PT1H
BEGIN:VTIMEZONE
TZID:America/New_York
BEGIN:DAYLIGHT
TZOFFSETFROM:-0500
TZOFFSETTO:-0400
TZNAME:EDT
DTSTART:20250309T070000
END:DAYLIGHT
BEGIN:STANDARD
TZOFFSETFROM:-0400
TZOFFSETTO:-0500
TZNAME:EST
DTSTART:20251102T060000
END:STANDARD
BEGIN:DAYLIGHT
TZOFFSETFROM:-0500
TZOFFSETTO:-0400
TZNAME:EDT
DTSTART:20260308T070000
END:DAYLIGHT
BEGIN:STANDARD
TZOFFSETFROM:-0400
TZOFFSETTO:-0500
TZNAME:EST
DTSTART:20261101T060000
END:STANDARD
BEGIN:DAYLIGHT
TZOFFSETFROM:-0500
TZOFFSETTO:-0400
TZNAME:EDT
DTSTART:20270314T070000
END:DAYLIGHT
BEGIN:STANDARD
TZOFFSETFROM:-0400
TZOFFSETTO:-0500
TZNAME:EST
DTSTART:20271107T060000
END:STANDARD
BEGIN:DAYLIGHT
TZOFFSETFROM:-0500
TZOFFSETTO:-0400
TZNAME:EDT
DTSTART:20280312T070000
END:DAYLIGHT
BEGIN:STANDARD
TZOFFSETFROM:-0400
TZOFFSETTO:-0500
TZNAME:EST
DTSTART:20281105T060000
END:STANDARD
BEGIN:DAYLIGHT
TZOFFSETFROM:-0500
TZOFFSETTO:-0400
TZNAME:EDT
DTSTART:20290311T070000
END:DAYLIGHT
BEGIN:STANDARD
TZOFFSETFROM:-0400
TZOFFSETTO:-0500
TZNAME:EST
DTSTART:20291104T060000
END:STANDARD
BEGIN:DAYLIGHT
TZOFFSETFROM:-0500
TZOFFSETTO:-0400
TZNAME:EDT
DTSTART:20300310T070000
END:DAYLIGHT
BEGIN:STANDARD
TZOFFSETFROM:-0400
TZOFFSETTO:-0500
TZNAME:EST
DTSTART:20301103T060000
END:STANDARD
BEGIN:DAYLIGHT
TZOFFSETFROM:-0500
TZOFFSETTO:-0400
TZNAME:EDT
DTSTART:20310309T070000
END:DAYLIGHT
BEGIN:STANDARD
TZOFFSETFROM:-0400
TZOFFSETTO:-0500
TZNAME:EST
DTSTART:20311102T060000
END:STANDARD
END:VTIMEZONE
BEGIN:VEVENT
DTSTART;TZID=America/New_York:20260805T070000
DTEND;TZID=America/New_York:20260810T000000
DTSTAMP:20260423T005047
CREATED:20250725T164736Z
LAST-MODIFIED:20251101T170723Z
UID:10003248-1785913200-1786320000@av8maps.com
SUMMARY:Fly-In At The Falls\, Rough River State Resort Park (2i3)
DESCRIPTION:PPG Pilots of all skill levels are invited to join us for the Annual Fly-In at the Falls of Rough River Lake! The airport at Rough River State Park is the perfect location for a family fun event featuring amenities like mini-golf\, disk golf\, lodge with diner\, pontoon/kayak rentals\, and beach swimming area all within walking distance of the airstrip. Falls of Rough Resort is only 3.5 miles away that hosts an 18 hole golf course (discounts available to us)\, swimming pool\, and historic mansion. Nightly rentals available as low as $30 p/p for day rooms (bed/dresser room with communal bathroom/shower). Restrooms and climate controlled planning office are located adjacent to the runway and parking lot.\nAdmission = $40 per pilot\nCampers/Busses/Tent Camp =$ FREE $ – Limited Spots Available\nEthanol free “Rec Gas” is available across the street!\nFood is available at the State Park Diner (walking distance) or Falls of Rough Resort (3.5 miles).\nLodging is available at the State Park\, motels across the street\, or at Falls of Rough Resort (contact Brennan for special rates).\nFly to the north to discover picturesque farmland and open crop fields.\nHead east and fly Rough River Lake – the lake will turn into a river that is deep between hillsides for thrill seeking aviators.\nSouth leads pilots through wide valleys between 400 foot high hills.\nWest will take seasoned pilots through dense forests with pockets of open homesteads. Following Rough River this way offers some of the best low-level precision flying experiences as you meander through river bottom fields seeing more deer than you can count.\nCamping and camper spots are FCFS upon arrival. Power is not available\, common area plugs are located in the FBO. Generators are welcome.\nAll pilots must register at ( www.FreedomFlightAcademy.com/Fly-in_at_the_falls ) and attend a flight brief before flying.\nAll proceeds will be donated to “Friends of Rough River Lake” non-profit that helps take care of the airstrip.\nSunrise= 5:54 am CST\nSunset= 7:49 pm CST\nAvg Temp: 88/63
URL:https://av8maps.com/event/fly-in-at-the-falls-rough-river-state-resort-park-kentucky/2026-08-05/
LOCATION:Rough River Lake State Resort Park\, 450 Ic-1003\, Falls of Rough\, KY 40119
ATTACH;FMTTYPE=image/jpeg:https://av8maps.com/wp-content/uploads/2025/07/Fly-in-at-the-falls-e1753838955153.jpg
GEO:37.6104819;-86.5025627
X-APPLE-STRUCTURED-LOCATION;VALUE=URI;X-ADDRESS=Rough River Lake State Resort Park 450 Ic-1003 Falls of Rough KY 40119;X-APPLE-RADIUS=500;X-TITLE=450 Ic-1003\, Falls of Rough\, KY 40119:geo:-86.5025627,37.6104819
END:VEVENT
BEGIN:VEVENT
DTSTART;TZID=America/New_York:20270804T070000
DTEND;TZID=America/New_York:20270809T000000
DTSTAMP:20260423T005047
CREATED:20250725T164736Z
LAST-MODIFIED:20251101T170723Z
UID:10003249-1817362800-1817769600@av8maps.com
SUMMARY:Fly-In At The Falls\, Rough River State Resort Park (2i3)
DESCRIPTION:PPG Pilots of all skill levels are invited to join us for the Annual Fly-In at the Falls of Rough River Lake! The airport at Rough River State Park is the perfect location for a family fun event featuring amenities like mini-golf\, disk golf\, lodge with diner\, pontoon/kayak rentals\, and beach swimming area all within walking distance of the airstrip. Falls of Rough Resort is only 3.5 miles away that hosts an 18 hole golf course (discounts available to us)\, swimming pool\, and historic mansion. Nightly rentals available as low as $30 p/p for day rooms (bed/dresser room with communal bathroom/shower). Restrooms and climate controlled planning office are located adjacent to the runway and parking lot.\nAdmission = $40 per pilot\nCampers/Busses/Tent Camp =$ FREE $ – Limited Spots Available\nEthanol free “Rec Gas” is available across the street!\nFood is available at the State Park Diner (walking distance) or Falls of Rough Resort (3.5 miles).\nLodging is available at the State Park\, motels across the street\, or at Falls of Rough Resort (contact Brennan for special rates).\nFly to the north to discover picturesque farmland and open crop fields.\nHead east and fly Rough River Lake – the lake will turn into a river that is deep between hillsides for thrill seeking aviators.\nSouth leads pilots through wide valleys between 400 foot high hills.\nWest will take seasoned pilots through dense forests with pockets of open homesteads. Following Rough River this way offers some of the best low-level precision flying experiences as you meander through river bottom fields seeing more deer than you can count.\nCamping and camper spots are FCFS upon arrival. Power is not available\, common area plugs are located in the FBO. Generators are welcome.\nAll pilots must register at ( www.FreedomFlightAcademy.com/Fly-in_at_the_falls ) and attend a flight brief before flying.\nAll proceeds will be donated to “Friends of Rough River Lake” non-profit that helps take care of the airstrip.\nSunrise= 5:54 am CST\nSunset= 7:49 pm CST\nAvg Temp: 88/63
URL:https://av8maps.com/event/fly-in-at-the-falls-rough-river-state-resort-park-kentucky/2027-08-04/
LOCATION:Rough River Lake State Resort Park\, 450 Ic-1003\, Falls of Rough\, KY 40119
ATTACH;FMTTYPE=image/jpeg:https://av8maps.com/wp-content/uploads/2025/07/Fly-in-at-the-falls-e1753838955153.jpg
GEO:37.6104819;-86.5025627
X-APPLE-STRUCTURED-LOCATION;VALUE=URI;X-ADDRESS=Rough River Lake State Resort Park 450 Ic-1003 Falls of Rough KY 40119;X-APPLE-RADIUS=500;X-TITLE=450 Ic-1003\, Falls of Rough\, KY 40119:geo:-86.5025627,37.6104819
END:VEVENT
BEGIN:VEVENT
DTSTART;TZID=America/New_York:20280802T070000
DTEND;TZID=America/New_York:20280807T000000
DTSTAMP:20260423T005047
CREATED:20250725T164736Z
LAST-MODIFIED:20251101T170723Z
UID:10003250-1848812400-1849219200@av8maps.com
SUMMARY:Fly-In At The Falls\, Rough River State Resort Park (2i3)
DESCRIPTION:PPG Pilots of all skill levels are invited to join us for the Annual Fly-In at the Falls of Rough River Lake! The airport at Rough River State Park is the perfect location for a family fun event featuring amenities like mini-golf\, disk golf\, lodge with diner\, pontoon/kayak rentals\, and beach swimming area all within walking distance of the airstrip. Falls of Rough Resort is only 3.5 miles away that hosts an 18 hole golf course (discounts available to us)\, swimming pool\, and historic mansion. Nightly rentals available as low as $30 p/p for day rooms (bed/dresser room with communal bathroom/shower). Restrooms and climate controlled planning office are located adjacent to the runway and parking lot.\nAdmission = $40 per pilot\nCampers/Busses/Tent Camp =$ FREE $ – Limited Spots Available\nEthanol free “Rec Gas” is available across the street!\nFood is available at the State Park Diner (walking distance) or Falls of Rough Resort (3.5 miles).\nLodging is available at the State Park\, motels across the street\, or at Falls of Rough Resort (contact Brennan for special rates).\nFly to the north to discover picturesque farmland and open crop fields.\nHead east and fly Rough River Lake – the lake will turn into a river that is deep between hillsides for thrill seeking aviators.\nSouth leads pilots through wide valleys between 400 foot high hills.\nWest will take seasoned pilots through dense forests with pockets of open homesteads. Following Rough River this way offers some of the best low-level precision flying experiences as you meander through river bottom fields seeing more deer than you can count.\nCamping and camper spots are FCFS upon arrival. Power is not available\, common area plugs are located in the FBO. Generators are welcome.\nAll pilots must register at ( www.FreedomFlightAcademy.com/Fly-in_at_the_falls ) and attend a flight brief before flying.\nAll proceeds will be donated to “Friends of Rough River Lake” non-profit that helps take care of the airstrip.\nSunrise= 5:54 am CST\nSunset= 7:49 pm CST\nAvg Temp: 88/63
URL:https://av8maps.com/event/fly-in-at-the-falls-rough-river-state-resort-park-kentucky/2028-08-02/
LOCATION:Rough River Lake State Resort Park\, 450 Ic-1003\, Falls of Rough\, KY 40119
ATTACH;FMTTYPE=image/jpeg:https://av8maps.com/wp-content/uploads/2025/07/Fly-in-at-the-falls-e1753838955153.jpg
GEO:37.6104819;-86.5025627
X-APPLE-STRUCTURED-LOCATION;VALUE=URI;X-ADDRESS=Rough River Lake State Resort Park 450 Ic-1003 Falls of Rough KY 40119;X-APPLE-RADIUS=500;X-TITLE=450 Ic-1003\, Falls of Rough\, KY 40119:geo:-86.5025627,37.6104819
END:VEVENT
BEGIN:VEVENT
DTSTART;TZID=America/New_York:20290801T070000
DTEND;TZID=America/New_York:20290806T000000
DTSTAMP:20260423T005047
CREATED:20250725T164736Z
LAST-MODIFIED:20251101T170723Z
UID:10003251-1880262000-1880668800@av8maps.com
SUMMARY:Fly-In At The Falls\, Rough River State Resort Park (2i3)
DESCRIPTION:PPG Pilots of all skill levels are invited to join us for the Annual Fly-In at the Falls of Rough River Lake! The airport at Rough River State Park is the perfect location for a family fun event featuring amenities like mini-golf\, disk golf\, lodge with diner\, pontoon/kayak rentals\, and beach swimming area all within walking distance of the airstrip. Falls of Rough Resort is only 3.5 miles away that hosts an 18 hole golf course (discounts available to us)\, swimming pool\, and historic mansion. Nightly rentals available as low as $30 p/p for day rooms (bed/dresser room with communal bathroom/shower). Restrooms and climate controlled planning office are located adjacent to the runway and parking lot.\nAdmission = $40 per pilot\nCampers/Busses/Tent Camp =$ FREE $ – Limited Spots Available\nEthanol free “Rec Gas” is available across the street!\nFood is available at the State Park Diner (walking distance) or Falls of Rough Resort (3.5 miles).\nLodging is available at the State Park\, motels across the street\, or at Falls of Rough Resort (contact Brennan for special rates).\nFly to the north to discover picturesque farmland and open crop fields.\nHead east and fly Rough River Lake – the lake will turn into a river that is deep between hillsides for thrill seeking aviators.\nSouth leads pilots through wide valleys between 400 foot high hills.\nWest will take seasoned pilots through dense forests with pockets of open homesteads. Following Rough River this way offers some of the best low-level precision flying experiences as you meander through river bottom fields seeing more deer than you can count.\nCamping and camper spots are FCFS upon arrival. Power is not available\, common area plugs are located in the FBO. Generators are welcome.\nAll pilots must register at ( www.FreedomFlightAcademy.com/Fly-in_at_the_falls ) and attend a flight brief before flying.\nAll proceeds will be donated to “Friends of Rough River Lake” non-profit that helps take care of the airstrip.\nSunrise= 5:54 am CST\nSunset= 7:49 pm CST\nAvg Temp: 88/63
URL:https://av8maps.com/event/fly-in-at-the-falls-rough-river-state-resort-park-kentucky/2029-08-01/
LOCATION:Rough River Lake State Resort Park\, 450 Ic-1003\, Falls of Rough\, KY 40119
ATTACH;FMTTYPE=image/jpeg:https://av8maps.com/wp-content/uploads/2025/07/Fly-in-at-the-falls-e1753838955153.jpg
GEO:37.6104819;-86.5025627
X-APPLE-STRUCTURED-LOCATION;VALUE=URI;X-ADDRESS=Rough River Lake State Resort Park 450 Ic-1003 Falls of Rough KY 40119;X-APPLE-RADIUS=500;X-TITLE=450 Ic-1003\, Falls of Rough\, KY 40119:geo:-86.5025627,37.6104819
END:VEVENT
BEGIN:VEVENT
DTSTART;TZID=America/New_York:20300807T070000
DTEND;TZID=America/New_York:20300812T000000
DTSTAMP:20260423T005047
CREATED:20250725T164736Z
LAST-MODIFIED:20251101T170723Z
UID:10003252-1912316400-1912723200@av8maps.com
SUMMARY:Fly-In At The Falls\, Rough River State Resort Park (2i3)
DESCRIPTION:PPG Pilots of all skill levels are invited to join us for the Annual Fly-In at the Falls of Rough River Lake! The airport at Rough River State Park is the perfect location for a family fun event featuring amenities like mini-golf\, disk golf\, lodge with diner\, pontoon/kayak rentals\, and beach swimming area all within walking distance of the airstrip. Falls of Rough Resort is only 3.5 miles away that hosts an 18 hole golf course (discounts available to us)\, swimming pool\, and historic mansion. Nightly rentals available as low as $30 p/p for day rooms (bed/dresser room with communal bathroom/shower). Restrooms and climate controlled planning office are located adjacent to the runway and parking lot.\nAdmission = $40 per pilot\nCampers/Busses/Tent Camp =$ FREE $ – Limited Spots Available\nEthanol free “Rec Gas” is available across the street!\nFood is available at the State Park Diner (walking distance) or Falls of Rough Resort (3.5 miles).\nLodging is available at the State Park\, motels across the street\, or at Falls of Rough Resort (contact Brennan for special rates).\nFly to the north to discover picturesque farmland and open crop fields.\nHead east and fly Rough River Lake – the lake will turn into a river that is deep between hillsides for thrill seeking aviators.\nSouth leads pilots through wide valleys between 400 foot high hills.\nWest will take seasoned pilots through dense forests with pockets of open homesteads. Following Rough River this way offers some of the best low-level precision flying experiences as you meander through river bottom fields seeing more deer than you can count.\nCamping and camper spots are FCFS upon arrival. Power is not available\, common area plugs are located in the FBO. Generators are welcome.\nAll pilots must register at ( www.FreedomFlightAcademy.com/Fly-in_at_the_falls ) and attend a flight brief before flying.\nAll proceeds will be donated to “Friends of Rough River Lake” non-profit that helps take care of the airstrip.\nSunrise= 5:54 am CST\nSunset= 7:49 pm CST\nAvg Temp: 88/63
URL:https://av8maps.com/event/fly-in-at-the-falls-rough-river-state-resort-park-kentucky/2030-08-07/
LOCATION:Rough River Lake State Resort Park\, 450 Ic-1003\, Falls of Rough\, KY 40119
ATTACH;FMTTYPE=image/jpeg:https://av8maps.com/wp-content/uploads/2025/07/Fly-in-at-the-falls-e1753838955153.jpg
GEO:37.6104819;-86.5025627
X-APPLE-STRUCTURED-LOCATION;VALUE=URI;X-ADDRESS=Rough River Lake State Resort Park 450 Ic-1003 Falls of Rough KY 40119;X-APPLE-RADIUS=500;X-TITLE=450 Ic-1003\, Falls of Rough\, KY 40119:geo:-86.5025627,37.6104819
END:VEVENT
END:VCALENDAR