BEGIN:VCALENDAR
VERSION:2.0
PRODID:-//AV8MAPS.COM - ECPv6.15.20//NONSGML v1.0//EN
CALSCALE:GREGORIAN
METHOD:PUBLISH
X-WR-CALNAME:AV8MAPS.COM
X-ORIGINAL-URL:https://av8maps.com
X-WR-CALDESC:Events for AV8MAPS.COM
REFRESH-INTERVAL;VALUE=DURATION:PT1H
X-Robots-Tag:noindex
X-PUBLISHED-TTL:PT1H
BEGIN:VTIMEZONE
TZID:America/New_York
BEGIN:DAYLIGHT
TZOFFSETFROM:-0500
TZOFFSETTO:-0400
TZNAME:EDT
DTSTART:20250309T070000
END:DAYLIGHT
BEGIN:STANDARD
TZOFFSETFROM:-0400
TZOFFSETTO:-0500
TZNAME:EST
DTSTART:20251102T060000
END:STANDARD
BEGIN:DAYLIGHT
TZOFFSETFROM:-0500
TZOFFSETTO:-0400
TZNAME:EDT
DTSTART:20260308T070000
END:DAYLIGHT
BEGIN:STANDARD
TZOFFSETFROM:-0400
TZOFFSETTO:-0500
TZNAME:EST
DTSTART:20261101T060000
END:STANDARD
BEGIN:DAYLIGHT
TZOFFSETFROM:-0500
TZOFFSETTO:-0400
TZNAME:EDT
DTSTART:20270314T070000
END:DAYLIGHT
BEGIN:STANDARD
TZOFFSETFROM:-0400
TZOFFSETTO:-0500
TZNAME:EST
DTSTART:20271107T060000
END:STANDARD
BEGIN:DAYLIGHT
TZOFFSETFROM:-0500
TZOFFSETTO:-0400
TZNAME:EDT
DTSTART:20280312T070000
END:DAYLIGHT
BEGIN:STANDARD
TZOFFSETFROM:-0400
TZOFFSETTO:-0500
TZNAME:EST
DTSTART:20281105T060000
END:STANDARD
BEGIN:DAYLIGHT
TZOFFSETFROM:-0500
TZOFFSETTO:-0400
TZNAME:EDT
DTSTART:20290311T070000
END:DAYLIGHT
BEGIN:STANDARD
TZOFFSETFROM:-0400
TZOFFSETTO:-0500
TZNAME:EST
DTSTART:20291104T060000
END:STANDARD
BEGIN:DAYLIGHT
TZOFFSETFROM:-0500
TZOFFSETTO:-0400
TZNAME:EDT
DTSTART:20300310T070000
END:DAYLIGHT
BEGIN:STANDARD
TZOFFSETFROM:-0400
TZOFFSETTO:-0500
TZNAME:EST
DTSTART:20301103T060000
END:STANDARD
BEGIN:DAYLIGHT
TZOFFSETFROM:-0500
TZOFFSETTO:-0400
TZNAME:EDT
DTSTART:20310309T070000
END:DAYLIGHT
BEGIN:STANDARD
TZOFFSETFROM:-0400
TZOFFSETTO:-0500
TZNAME:EST
DTSTART:20311102T060000
END:STANDARD
END:VTIMEZONE
BEGIN:VEVENT
DTSTART;TZID=America/New_York:20260814T080000
DTEND;TZID=America/New_York:20260815T120000
DTSTAMP:20260423T063743
CREATED:20250730T232312Z
LAST-MODIFIED:20251101T171158Z
UID:10003312-1786694400-1786795200@av8maps.com
SUMMARY:Sparta Fly-in and Community Breakfast (8D4)
DESCRIPTION:Join us for the 12th annual Sparta Airport Fly-in & Pancake Breakfast hosted by EAA Chapter 704 “The Peach Ridge Air Force” on Saturday morning August 9. \nLooking forward to having a great breakfast and sharing stories with our aviator friends and local community at this fun event!
URL:https://av8maps.com/event/sparta-fly-in-and-community-breakfast-8d4/2026-08-14/
LOCATION:Sparta Miller Airport\, 9100 Vinton Ave NW\, Sparta\, MI 49345
ATTACH;FMTTYPE=image/jpeg:https://av8maps.com/wp-content/uploads/2025/07/EAA-Chapter-704-Sparta-Fly-in-e1753917772164.jpg
GEO:43.1290373;-85.6788015
X-APPLE-STRUCTURED-LOCATION;VALUE=URI;X-ADDRESS=Sparta Miller Airport 9100 Vinton Ave NW Sparta MI 49345;X-APPLE-RADIUS=500;X-TITLE=9100 Vinton Ave NW\, Sparta\, MI 49345:geo:-85.6788015,43.1290373
END:VEVENT
BEGIN:VEVENT
DTSTART;TZID=America/New_York:20270813T080000
DTEND;TZID=America/New_York:20270814T120000
DTSTAMP:20260423T063743
CREATED:20250730T232312Z
LAST-MODIFIED:20251101T171158Z
UID:10003313-1818144000-1818244800@av8maps.com
SUMMARY:Sparta Fly-in and Community Breakfast (8D4)
DESCRIPTION:Join us for the 12th annual Sparta Airport Fly-in & Pancake Breakfast hosted by EAA Chapter 704 “The Peach Ridge Air Force” on Saturday morning August 9. \nLooking forward to having a great breakfast and sharing stories with our aviator friends and local community at this fun event!
URL:https://av8maps.com/event/sparta-fly-in-and-community-breakfast-8d4/2027-08-13/
LOCATION:Sparta Miller Airport\, 9100 Vinton Ave NW\, Sparta\, MI 49345
ATTACH;FMTTYPE=image/jpeg:https://av8maps.com/wp-content/uploads/2025/07/EAA-Chapter-704-Sparta-Fly-in-e1753917772164.jpg
GEO:43.1290373;-85.6788015
X-APPLE-STRUCTURED-LOCATION;VALUE=URI;X-ADDRESS=Sparta Miller Airport 9100 Vinton Ave NW Sparta MI 49345;X-APPLE-RADIUS=500;X-TITLE=9100 Vinton Ave NW\, Sparta\, MI 49345:geo:-85.6788015,43.1290373
END:VEVENT
BEGIN:VEVENT
DTSTART;TZID=America/New_York:20280811T080000
DTEND;TZID=America/New_York:20280812T120000
DTSTAMP:20260423T063743
CREATED:20250730T232312Z
LAST-MODIFIED:20251101T171158Z
UID:10003314-1849593600-1849694400@av8maps.com
SUMMARY:Sparta Fly-in and Community Breakfast (8D4)
DESCRIPTION:Join us for the 12th annual Sparta Airport Fly-in & Pancake Breakfast hosted by EAA Chapter 704 “The Peach Ridge Air Force” on Saturday morning August 9. \nLooking forward to having a great breakfast and sharing stories with our aviator friends and local community at this fun event!
URL:https://av8maps.com/event/sparta-fly-in-and-community-breakfast-8d4/2028-08-11/
LOCATION:Sparta Miller Airport\, 9100 Vinton Ave NW\, Sparta\, MI 49345
ATTACH;FMTTYPE=image/jpeg:https://av8maps.com/wp-content/uploads/2025/07/EAA-Chapter-704-Sparta-Fly-in-e1753917772164.jpg
GEO:43.1290373;-85.6788015
X-APPLE-STRUCTURED-LOCATION;VALUE=URI;X-ADDRESS=Sparta Miller Airport 9100 Vinton Ave NW Sparta MI 49345;X-APPLE-RADIUS=500;X-TITLE=9100 Vinton Ave NW\, Sparta\, MI 49345:geo:-85.6788015,43.1290373
END:VEVENT
BEGIN:VEVENT
DTSTART;TZID=America/New_York:20290810T080000
DTEND;TZID=America/New_York:20290811T120000
DTSTAMP:20260423T063743
CREATED:20250730T232312Z
LAST-MODIFIED:20251101T171158Z
UID:10003315-1881043200-1881144000@av8maps.com
SUMMARY:Sparta Fly-in and Community Breakfast (8D4)
DESCRIPTION:Join us for the 12th annual Sparta Airport Fly-in & Pancake Breakfast hosted by EAA Chapter 704 “The Peach Ridge Air Force” on Saturday morning August 9. \nLooking forward to having a great breakfast and sharing stories with our aviator friends and local community at this fun event!
URL:https://av8maps.com/event/sparta-fly-in-and-community-breakfast-8d4/2029-08-10/
LOCATION:Sparta Miller Airport\, 9100 Vinton Ave NW\, Sparta\, MI 49345
ATTACH;FMTTYPE=image/jpeg:https://av8maps.com/wp-content/uploads/2025/07/EAA-Chapter-704-Sparta-Fly-in-e1753917772164.jpg
GEO:43.1290373;-85.6788015
X-APPLE-STRUCTURED-LOCATION;VALUE=URI;X-ADDRESS=Sparta Miller Airport 9100 Vinton Ave NW Sparta MI 49345;X-APPLE-RADIUS=500;X-TITLE=9100 Vinton Ave NW\, Sparta\, MI 49345:geo:-85.6788015,43.1290373
END:VEVENT
BEGIN:VEVENT
DTSTART;TZID=America/New_York:20300809T080000
DTEND;TZID=America/New_York:20300810T120000
DTSTAMP:20260423T063743
CREATED:20250730T232312Z
LAST-MODIFIED:20251101T171158Z
UID:10003316-1912492800-1912593600@av8maps.com
SUMMARY:Sparta Fly-in and Community Breakfast (8D4)
DESCRIPTION:Join us for the 12th annual Sparta Airport Fly-in & Pancake Breakfast hosted by EAA Chapter 704 “The Peach Ridge Air Force” on Saturday morning August 9. \nLooking forward to having a great breakfast and sharing stories with our aviator friends and local community at this fun event!
URL:https://av8maps.com/event/sparta-fly-in-and-community-breakfast-8d4/2030-08-09/
LOCATION:Sparta Miller Airport\, 9100 Vinton Ave NW\, Sparta\, MI 49345
ATTACH;FMTTYPE=image/jpeg:https://av8maps.com/wp-content/uploads/2025/07/EAA-Chapter-704-Sparta-Fly-in-e1753917772164.jpg
GEO:43.1290373;-85.6788015
X-APPLE-STRUCTURED-LOCATION;VALUE=URI;X-ADDRESS=Sparta Miller Airport 9100 Vinton Ave NW Sparta MI 49345;X-APPLE-RADIUS=500;X-TITLE=9100 Vinton Ave NW\, Sparta\, MI 49345:geo:-85.6788015,43.1290373
END:VEVENT
END:VCALENDAR