BEGIN:VCALENDAR
VERSION:2.0
PRODID:-//AV8MAPS.COM - ECPv6.15.20//NONSGML v1.0//EN
CALSCALE:GREGORIAN
METHOD:PUBLISH
X-WR-CALNAME:AV8MAPS.COM
X-ORIGINAL-URL:https://av8maps.com
X-WR-CALDESC:Events for AV8MAPS.COM
REFRESH-INTERVAL;VALUE=DURATION:PT1H
X-Robots-Tag:noindex
X-PUBLISHED-TTL:PT1H
BEGIN:VTIMEZONE
TZID:America/New_York
BEGIN:DAYLIGHT
TZOFFSETFROM:-0500
TZOFFSETTO:-0400
TZNAME:EDT
DTSTART:20250309T070000
END:DAYLIGHT
BEGIN:STANDARD
TZOFFSETFROM:-0400
TZOFFSETTO:-0500
TZNAME:EST
DTSTART:20251102T060000
END:STANDARD
BEGIN:DAYLIGHT
TZOFFSETFROM:-0500
TZOFFSETTO:-0400
TZNAME:EDT
DTSTART:20260308T070000
END:DAYLIGHT
BEGIN:STANDARD
TZOFFSETFROM:-0400
TZOFFSETTO:-0500
TZNAME:EST
DTSTART:20261101T060000
END:STANDARD
BEGIN:DAYLIGHT
TZOFFSETFROM:-0500
TZOFFSETTO:-0400
TZNAME:EDT
DTSTART:20270314T070000
END:DAYLIGHT
BEGIN:STANDARD
TZOFFSETFROM:-0400
TZOFFSETTO:-0500
TZNAME:EST
DTSTART:20271107T060000
END:STANDARD
BEGIN:DAYLIGHT
TZOFFSETFROM:-0500
TZOFFSETTO:-0400
TZNAME:EDT
DTSTART:20280312T070000
END:DAYLIGHT
BEGIN:STANDARD
TZOFFSETFROM:-0400
TZOFFSETTO:-0500
TZNAME:EST
DTSTART:20281105T060000
END:STANDARD
BEGIN:DAYLIGHT
TZOFFSETFROM:-0500
TZOFFSETTO:-0400
TZNAME:EDT
DTSTART:20290311T070000
END:DAYLIGHT
BEGIN:STANDARD
TZOFFSETFROM:-0400
TZOFFSETTO:-0500
TZNAME:EST
DTSTART:20291104T060000
END:STANDARD
BEGIN:DAYLIGHT
TZOFFSETFROM:-0500
TZOFFSETTO:-0400
TZNAME:EDT
DTSTART:20300310T070000
END:DAYLIGHT
BEGIN:STANDARD
TZOFFSETFROM:-0400
TZOFFSETTO:-0500
TZNAME:EST
DTSTART:20301103T060000
END:STANDARD
BEGIN:DAYLIGHT
TZOFFSETFROM:-0500
TZOFFSETTO:-0400
TZNAME:EDT
DTSTART:20310309T070000
END:DAYLIGHT
BEGIN:STANDARD
TZOFFSETFROM:-0400
TZOFFSETTO:-0500
TZNAME:EST
DTSTART:20311102T060000
END:STANDARD
END:VTIMEZONE
BEGIN:VEVENT
DTSTART;TZID=America/New_York:20260814T100000
DTEND;TZID=America/New_York:20260814T160000
DTSTAMP:20260423T094225
CREATED:20250705T160157Z
LAST-MODIFIED:20251101T171604Z
UID:10003578-1786701600-1786723200@av8maps.com
SUMMARY:Annual Carl Hopkins WV Youth Aviation Expo (KCKB)
DESCRIPTION:Two-day event. Rain or Shine.\nCome to a FREE fun and educational event.\nHands-on model aviation activities\, professional demonstrations\, NASA rocket build and launch\, Kite Club\, Drones\, and so much more! Everybody is welcome.
URL:https://av8maps.com/event/5th-annual-carl-hopkins-wv-youth-aviation-expo/2026-08-14/
LOCATION:The Bridge Sports Complex\, 400 Forrester Boulevard\, Bridgeport\, WV 26330
ATTACH;FMTTYPE=image/jpeg:https://av8maps.com/wp-content/uploads/2025/07/Carl-Hopkins-WV-Youth-e1754062072178.jpg
GEO:39.3088133;-80.2316603
X-APPLE-STRUCTURED-LOCATION;VALUE=URI;X-ADDRESS=The Bridge Sports Complex 400 Forrester Boulevard Bridgeport WV 26330;X-APPLE-RADIUS=500;X-TITLE=400 Forrester Boulevard\, Bridgeport\, WV 26330:geo:-80.2316603,39.3088133
END:VEVENT
BEGIN:VEVENT
DTSTART;TZID=America/New_York:20270813T100000
DTEND;TZID=America/New_York:20270813T160000
DTSTAMP:20260423T094225
CREATED:20250705T160157Z
LAST-MODIFIED:20251101T171604Z
UID:10003579-1818151200-1818172800@av8maps.com
SUMMARY:Annual Carl Hopkins WV Youth Aviation Expo (KCKB)
DESCRIPTION:Two-day event. Rain or Shine.\nCome to a FREE fun and educational event.\nHands-on model aviation activities\, professional demonstrations\, NASA rocket build and launch\, Kite Club\, Drones\, and so much more! Everybody is welcome.
URL:https://av8maps.com/event/5th-annual-carl-hopkins-wv-youth-aviation-expo/2027-08-13/
LOCATION:The Bridge Sports Complex\, 400 Forrester Boulevard\, Bridgeport\, WV 26330
ATTACH;FMTTYPE=image/jpeg:https://av8maps.com/wp-content/uploads/2025/07/Carl-Hopkins-WV-Youth-e1754062072178.jpg
GEO:39.3088133;-80.2316603
X-APPLE-STRUCTURED-LOCATION;VALUE=URI;X-ADDRESS=The Bridge Sports Complex 400 Forrester Boulevard Bridgeport WV 26330;X-APPLE-RADIUS=500;X-TITLE=400 Forrester Boulevard\, Bridgeport\, WV 26330:geo:-80.2316603,39.3088133
END:VEVENT
BEGIN:VEVENT
DTSTART;TZID=America/New_York:20280811T100000
DTEND;TZID=America/New_York:20280811T160000
DTSTAMP:20260423T094225
CREATED:20250705T160157Z
LAST-MODIFIED:20251101T171604Z
UID:10003580-1849600800-1849622400@av8maps.com
SUMMARY:Annual Carl Hopkins WV Youth Aviation Expo (KCKB)
DESCRIPTION:Two-day event. Rain or Shine.\nCome to a FREE fun and educational event.\nHands-on model aviation activities\, professional demonstrations\, NASA rocket build and launch\, Kite Club\, Drones\, and so much more! Everybody is welcome.
URL:https://av8maps.com/event/5th-annual-carl-hopkins-wv-youth-aviation-expo/2028-08-11/
LOCATION:The Bridge Sports Complex\, 400 Forrester Boulevard\, Bridgeport\, WV 26330
ATTACH;FMTTYPE=image/jpeg:https://av8maps.com/wp-content/uploads/2025/07/Carl-Hopkins-WV-Youth-e1754062072178.jpg
GEO:39.3088133;-80.2316603
X-APPLE-STRUCTURED-LOCATION;VALUE=URI;X-ADDRESS=The Bridge Sports Complex 400 Forrester Boulevard Bridgeport WV 26330;X-APPLE-RADIUS=500;X-TITLE=400 Forrester Boulevard\, Bridgeport\, WV 26330:geo:-80.2316603,39.3088133
END:VEVENT
BEGIN:VEVENT
DTSTART;TZID=America/New_York:20290810T100000
DTEND;TZID=America/New_York:20290810T160000
DTSTAMP:20260423T094225
CREATED:20250705T160157Z
LAST-MODIFIED:20251101T171604Z
UID:10003581-1881050400-1881072000@av8maps.com
SUMMARY:Annual Carl Hopkins WV Youth Aviation Expo (KCKB)
DESCRIPTION:Two-day event. Rain or Shine.\nCome to a FREE fun and educational event.\nHands-on model aviation activities\, professional demonstrations\, NASA rocket build and launch\, Kite Club\, Drones\, and so much more! Everybody is welcome.
URL:https://av8maps.com/event/5th-annual-carl-hopkins-wv-youth-aviation-expo/2029-08-10/
LOCATION:The Bridge Sports Complex\, 400 Forrester Boulevard\, Bridgeport\, WV 26330
ATTACH;FMTTYPE=image/jpeg:https://av8maps.com/wp-content/uploads/2025/07/Carl-Hopkins-WV-Youth-e1754062072178.jpg
GEO:39.3088133;-80.2316603
X-APPLE-STRUCTURED-LOCATION;VALUE=URI;X-ADDRESS=The Bridge Sports Complex 400 Forrester Boulevard Bridgeport WV 26330;X-APPLE-RADIUS=500;X-TITLE=400 Forrester Boulevard\, Bridgeport\, WV 26330:geo:-80.2316603,39.3088133
END:VEVENT
BEGIN:VEVENT
DTSTART;TZID=America/New_York:20300809T100000
DTEND;TZID=America/New_York:20300809T160000
DTSTAMP:20260423T094225
CREATED:20250705T160157Z
LAST-MODIFIED:20251101T171604Z
UID:10003582-1912500000-1912521600@av8maps.com
SUMMARY:Annual Carl Hopkins WV Youth Aviation Expo (KCKB)
DESCRIPTION:Two-day event. Rain or Shine.\nCome to a FREE fun and educational event.\nHands-on model aviation activities\, professional demonstrations\, NASA rocket build and launch\, Kite Club\, Drones\, and so much more! Everybody is welcome.
URL:https://av8maps.com/event/5th-annual-carl-hopkins-wv-youth-aviation-expo/2030-08-09/
LOCATION:The Bridge Sports Complex\, 400 Forrester Boulevard\, Bridgeport\, WV 26330
ATTACH;FMTTYPE=image/jpeg:https://av8maps.com/wp-content/uploads/2025/07/Carl-Hopkins-WV-Youth-e1754062072178.jpg
GEO:39.3088133;-80.2316603
X-APPLE-STRUCTURED-LOCATION;VALUE=URI;X-ADDRESS=The Bridge Sports Complex 400 Forrester Boulevard Bridgeport WV 26330;X-APPLE-RADIUS=500;X-TITLE=400 Forrester Boulevard\, Bridgeport\, WV 26330:geo:-80.2316603,39.3088133
END:VEVENT
END:VCALENDAR