BEGIN:VCALENDAR
VERSION:2.0
PRODID:-//AV8MAPS.COM - ECPv6.15.20//NONSGML v1.0//EN
CALSCALE:GREGORIAN
METHOD:PUBLISH
X-WR-CALNAME:AV8MAPS.COM
X-ORIGINAL-URL:https://av8maps.com
X-WR-CALDESC:Events for AV8MAPS.COM
REFRESH-INTERVAL;VALUE=DURATION:PT1H
X-Robots-Tag:noindex
X-PUBLISHED-TTL:PT1H
BEGIN:VTIMEZONE
TZID:America/New_York
BEGIN:DAYLIGHT
TZOFFSETFROM:-0500
TZOFFSETTO:-0400
TZNAME:EDT
DTSTART:20250309T070000
END:DAYLIGHT
BEGIN:STANDARD
TZOFFSETFROM:-0400
TZOFFSETTO:-0500
TZNAME:EST
DTSTART:20251102T060000
END:STANDARD
BEGIN:DAYLIGHT
TZOFFSETFROM:-0500
TZOFFSETTO:-0400
TZNAME:EDT
DTSTART:20260308T070000
END:DAYLIGHT
BEGIN:STANDARD
TZOFFSETFROM:-0400
TZOFFSETTO:-0500
TZNAME:EST
DTSTART:20261101T060000
END:STANDARD
BEGIN:DAYLIGHT
TZOFFSETFROM:-0500
TZOFFSETTO:-0400
TZNAME:EDT
DTSTART:20270314T070000
END:DAYLIGHT
BEGIN:STANDARD
TZOFFSETFROM:-0400
TZOFFSETTO:-0500
TZNAME:EST
DTSTART:20271107T060000
END:STANDARD
BEGIN:DAYLIGHT
TZOFFSETFROM:-0500
TZOFFSETTO:-0400
TZNAME:EDT
DTSTART:20280312T070000
END:DAYLIGHT
BEGIN:STANDARD
TZOFFSETFROM:-0400
TZOFFSETTO:-0500
TZNAME:EST
DTSTART:20281105T060000
END:STANDARD
BEGIN:DAYLIGHT
TZOFFSETFROM:-0500
TZOFFSETTO:-0400
TZNAME:EDT
DTSTART:20290311T070000
END:DAYLIGHT
BEGIN:STANDARD
TZOFFSETFROM:-0400
TZOFFSETTO:-0500
TZNAME:EST
DTSTART:20291104T060000
END:STANDARD
BEGIN:DAYLIGHT
TZOFFSETFROM:-0500
TZOFFSETTO:-0400
TZNAME:EDT
DTSTART:20300310T070000
END:DAYLIGHT
BEGIN:STANDARD
TZOFFSETFROM:-0400
TZOFFSETTO:-0500
TZNAME:EST
DTSTART:20301103T060000
END:STANDARD
BEGIN:DAYLIGHT
TZOFFSETFROM:-0500
TZOFFSETTO:-0400
TZNAME:EDT
DTSTART:20310309T070000
END:DAYLIGHT
BEGIN:STANDARD
TZOFFSETFROM:-0400
TZOFFSETTO:-0500
TZNAME:EST
DTSTART:20311102T060000
END:STANDARD
END:VTIMEZONE
BEGIN:VEVENT
DTSTART;TZID=America/New_York:20260815T080000
DTEND;TZID=America/New_York:20260815T120000
DTSTAMP:20260424T204414
CREATED:20250723T164815Z
LAST-MODIFIED:20251101T172652Z
UID:10003590-1786780800-1786795200@av8maps.com
SUMMARY:Annual Forest Lake Airport Fly-In Pancake Breakfast (25D)
DESCRIPTION:Follow and check back for updates. More to come soon.\n-Serving breakfast from 8am – 12pm\n-Fun and Games for the whole family\n-Pedal Planes\n-PIC (pilots in command) eat free\n-First Responders eat free\n-Volunteers eat free and are served at 7:30am\n-Sign your kids (8-17) up for Young Eagles day 2025 (free airplane rides)\n2025 Supporters\nLakes United Futbol Club – lakesunitedfc.org
URL:https://av8maps.com/event/annual-forest-lake-airport-fly-in-pancake-breakfast/2026-08-15/
LOCATION:Forest Lake Airport\, 20500 Forest Rd N\, Forest Lake\, MN 55025\, MN
ATTACH;FMTTYPE=image/jpeg:https://av8maps.com/wp-content/uploads/2025/07/Forest-Lake-Fly-in-e1754069539445.jpg
GEO:45.2462073;-92.9886679
X-APPLE-STRUCTURED-LOCATION;VALUE=URI;X-ADDRESS=Forest Lake Airport 20500 Forest Rd N Forest Lake MN 55025 MN;X-APPLE-RADIUS=500;X-TITLE=20500 Forest Rd N\, Forest Lake\, MN 55025:geo:-92.9886679,45.2462073
END:VEVENT
BEGIN:VEVENT
DTSTART;TZID=America/New_York:20270821T080000
DTEND;TZID=America/New_York:20270821T120000
DTSTAMP:20260424T204414
CREATED:20250723T164815Z
LAST-MODIFIED:20251101T172652Z
UID:10003591-1818835200-1818849600@av8maps.com
SUMMARY:Annual Forest Lake Airport Fly-In Pancake Breakfast (25D)
DESCRIPTION:Follow and check back for updates. More to come soon.\n-Serving breakfast from 8am – 12pm\n-Fun and Games for the whole family\n-Pedal Planes\n-PIC (pilots in command) eat free\n-First Responders eat free\n-Volunteers eat free and are served at 7:30am\n-Sign your kids (8-17) up for Young Eagles day 2025 (free airplane rides)\n2025 Supporters\nLakes United Futbol Club – lakesunitedfc.org
URL:https://av8maps.com/event/annual-forest-lake-airport-fly-in-pancake-breakfast/2027-08-21/
LOCATION:Forest Lake Airport\, 20500 Forest Rd N\, Forest Lake\, MN 55025\, MN
ATTACH;FMTTYPE=image/jpeg:https://av8maps.com/wp-content/uploads/2025/07/Forest-Lake-Fly-in-e1754069539445.jpg
GEO:45.2462073;-92.9886679
X-APPLE-STRUCTURED-LOCATION;VALUE=URI;X-ADDRESS=Forest Lake Airport 20500 Forest Rd N Forest Lake MN 55025 MN;X-APPLE-RADIUS=500;X-TITLE=20500 Forest Rd N\, Forest Lake\, MN 55025:geo:-92.9886679,45.2462073
END:VEVENT
BEGIN:VEVENT
DTSTART;TZID=America/New_York:20280819T080000
DTEND;TZID=America/New_York:20280819T120000
DTSTAMP:20260424T204414
CREATED:20250723T164815Z
LAST-MODIFIED:20251101T172652Z
UID:10003592-1850284800-1850299200@av8maps.com
SUMMARY:Annual Forest Lake Airport Fly-In Pancake Breakfast (25D)
DESCRIPTION:Follow and check back for updates. More to come soon.\n-Serving breakfast from 8am – 12pm\n-Fun and Games for the whole family\n-Pedal Planes\n-PIC (pilots in command) eat free\n-First Responders eat free\n-Volunteers eat free and are served at 7:30am\n-Sign your kids (8-17) up for Young Eagles day 2025 (free airplane rides)\n2025 Supporters\nLakes United Futbol Club – lakesunitedfc.org
URL:https://av8maps.com/event/annual-forest-lake-airport-fly-in-pancake-breakfast/2028-08-19/
LOCATION:Forest Lake Airport\, 20500 Forest Rd N\, Forest Lake\, MN 55025\, MN
ATTACH;FMTTYPE=image/jpeg:https://av8maps.com/wp-content/uploads/2025/07/Forest-Lake-Fly-in-e1754069539445.jpg
GEO:45.2462073;-92.9886679
X-APPLE-STRUCTURED-LOCATION;VALUE=URI;X-ADDRESS=Forest Lake Airport 20500 Forest Rd N Forest Lake MN 55025 MN;X-APPLE-RADIUS=500;X-TITLE=20500 Forest Rd N\, Forest Lake\, MN 55025:geo:-92.9886679,45.2462073
END:VEVENT
BEGIN:VEVENT
DTSTART;TZID=America/New_York:20290818T080000
DTEND;TZID=America/New_York:20290818T120000
DTSTAMP:20260424T204414
CREATED:20250723T164815Z
LAST-MODIFIED:20251101T172652Z
UID:10003593-1881734400-1881748800@av8maps.com
SUMMARY:Annual Forest Lake Airport Fly-In Pancake Breakfast (25D)
DESCRIPTION:Follow and check back for updates. More to come soon.\n-Serving breakfast from 8am – 12pm\n-Fun and Games for the whole family\n-Pedal Planes\n-PIC (pilots in command) eat free\n-First Responders eat free\n-Volunteers eat free and are served at 7:30am\n-Sign your kids (8-17) up for Young Eagles day 2025 (free airplane rides)\n2025 Supporters\nLakes United Futbol Club – lakesunitedfc.org
URL:https://av8maps.com/event/annual-forest-lake-airport-fly-in-pancake-breakfast/2029-08-18/
LOCATION:Forest Lake Airport\, 20500 Forest Rd N\, Forest Lake\, MN 55025\, MN
ATTACH;FMTTYPE=image/jpeg:https://av8maps.com/wp-content/uploads/2025/07/Forest-Lake-Fly-in-e1754069539445.jpg
GEO:45.2462073;-92.9886679
X-APPLE-STRUCTURED-LOCATION;VALUE=URI;X-ADDRESS=Forest Lake Airport 20500 Forest Rd N Forest Lake MN 55025 MN;X-APPLE-RADIUS=500;X-TITLE=20500 Forest Rd N\, Forest Lake\, MN 55025:geo:-92.9886679,45.2462073
END:VEVENT
BEGIN:VEVENT
DTSTART;TZID=America/New_York:20300817T080000
DTEND;TZID=America/New_York:20300817T120000
DTSTAMP:20260424T204414
CREATED:20250723T164815Z
LAST-MODIFIED:20251101T172652Z
UID:10003594-1913184000-1913198400@av8maps.com
SUMMARY:Annual Forest Lake Airport Fly-In Pancake Breakfast (25D)
DESCRIPTION:Follow and check back for updates. More to come soon.\n-Serving breakfast from 8am – 12pm\n-Fun and Games for the whole family\n-Pedal Planes\n-PIC (pilots in command) eat free\n-First Responders eat free\n-Volunteers eat free and are served at 7:30am\n-Sign your kids (8-17) up for Young Eagles day 2025 (free airplane rides)\n2025 Supporters\nLakes United Futbol Club – lakesunitedfc.org
URL:https://av8maps.com/event/annual-forest-lake-airport-fly-in-pancake-breakfast/2030-08-17/
LOCATION:Forest Lake Airport\, 20500 Forest Rd N\, Forest Lake\, MN 55025\, MN
ATTACH;FMTTYPE=image/jpeg:https://av8maps.com/wp-content/uploads/2025/07/Forest-Lake-Fly-in-e1754069539445.jpg
GEO:45.2462073;-92.9886679
X-APPLE-STRUCTURED-LOCATION;VALUE=URI;X-ADDRESS=Forest Lake Airport 20500 Forest Rd N Forest Lake MN 55025 MN;X-APPLE-RADIUS=500;X-TITLE=20500 Forest Rd N\, Forest Lake\, MN 55025:geo:-92.9886679,45.2462073
END:VEVENT
END:VCALENDAR