BEGIN:VCALENDAR
VERSION:2.0
PRODID:-//AV8MAPS.COM - ECPv6.15.20//NONSGML v1.0//EN
CALSCALE:GREGORIAN
METHOD:PUBLISH
X-WR-CALNAME:AV8MAPS.COM
X-ORIGINAL-URL:https://av8maps.com
X-WR-CALDESC:Events for AV8MAPS.COM
REFRESH-INTERVAL;VALUE=DURATION:PT1H
X-Robots-Tag:noindex
X-PUBLISHED-TTL:PT1H
BEGIN:VTIMEZONE
TZID:America/New_York
BEGIN:DAYLIGHT
TZOFFSETFROM:-0500
TZOFFSETTO:-0400
TZNAME:EDT
DTSTART:20250309T070000
END:DAYLIGHT
BEGIN:STANDARD
TZOFFSETFROM:-0400
TZOFFSETTO:-0500
TZNAME:EST
DTSTART:20251102T060000
END:STANDARD
BEGIN:DAYLIGHT
TZOFFSETFROM:-0500
TZOFFSETTO:-0400
TZNAME:EDT
DTSTART:20260308T070000
END:DAYLIGHT
BEGIN:STANDARD
TZOFFSETFROM:-0400
TZOFFSETTO:-0500
TZNAME:EST
DTSTART:20261101T060000
END:STANDARD
BEGIN:DAYLIGHT
TZOFFSETFROM:-0500
TZOFFSETTO:-0400
TZNAME:EDT
DTSTART:20270314T070000
END:DAYLIGHT
BEGIN:STANDARD
TZOFFSETFROM:-0400
TZOFFSETTO:-0500
TZNAME:EST
DTSTART:20271107T060000
END:STANDARD
BEGIN:DAYLIGHT
TZOFFSETFROM:-0500
TZOFFSETTO:-0400
TZNAME:EDT
DTSTART:20280312T070000
END:DAYLIGHT
BEGIN:STANDARD
TZOFFSETFROM:-0400
TZOFFSETTO:-0500
TZNAME:EST
DTSTART:20281105T060000
END:STANDARD
BEGIN:DAYLIGHT
TZOFFSETFROM:-0500
TZOFFSETTO:-0400
TZNAME:EDT
DTSTART:20290311T070000
END:DAYLIGHT
BEGIN:STANDARD
TZOFFSETFROM:-0400
TZOFFSETTO:-0500
TZNAME:EST
DTSTART:20291104T060000
END:STANDARD
BEGIN:DAYLIGHT
TZOFFSETFROM:-0500
TZOFFSETTO:-0400
TZNAME:EDT
DTSTART:20300310T070000
END:DAYLIGHT
BEGIN:STANDARD
TZOFFSETFROM:-0400
TZOFFSETTO:-0500
TZNAME:EST
DTSTART:20301103T060000
END:STANDARD
BEGIN:DAYLIGHT
TZOFFSETFROM:-0500
TZOFFSETTO:-0400
TZNAME:EDT
DTSTART:20310309T070000
END:DAYLIGHT
BEGIN:STANDARD
TZOFFSETFROM:-0400
TZOFFSETTO:-0500
TZNAME:EST
DTSTART:20311102T060000
END:STANDARD
END:VTIMEZONE
BEGIN:VEVENT
DTSTART;TZID=America/New_York:20260921T080000
DTEND;TZID=America/New_York:20260927T170000
DTSTAMP:20260423T092235
CREATED:20250802T181120Z
LAST-MODIFIED:20251101T173100Z
UID:10000680-1789977600-1790528400@av8maps.com
SUMMARY:Annual Triple Tree Fly-in (SC00)
DESCRIPTION:Get ready for an unforgettable aviation experience at the Triple Tree Fly-In! This must-attend event has become a highlight on every aviator’s calendar\, drawing enthusiasts from around the globe to our pristine 7\,000-foot grass runway. \nJoin us this fall as we welcome aviators from all corners of the world.   Whether you’re a seasoned pilot or a passionate aviation fan\, the Triple Tree Fly-In offers something for everyone.  Don’t miss out on one of the fastest-growing general aviation events in the country. Be part of the magic\, where Fun\, Fellowship\, and Hospitality take flight! \nExperience something special and unique – The Triple Tree Fly-In!
URL:https://av8maps.com/event/18th-annual-triple-tree-fly-in-sc00/2026-09-21/
LOCATION:Triple Tree Aerodrome\, 330 Mary Hanna Rd\, Woodruff\, SC\, 29388
ATTACH;FMTTYPE=image/jpeg:https://av8maps.com/wp-content/uploads/2025/08/Triple-Tree-Aerodrome-.jpg
GEO:34.675241;-81.9979099
X-APPLE-STRUCTURED-LOCATION;VALUE=URI;X-ADDRESS=Triple Tree Aerodrome 330 Mary Hanna Rd Woodruff SC 29388;X-APPLE-RADIUS=500;X-TITLE=330 Mary Hanna Rd:geo:-81.9979099,34.675241
END:VEVENT
BEGIN:VEVENT
DTSTART;TZID=America/New_York:20270920T080000
DTEND;TZID=America/New_York:20270926T170000
DTSTAMP:20260423T092235
CREATED:20250802T181120Z
LAST-MODIFIED:20251101T173100Z
UID:10003605-1821427200-1821978000@av8maps.com
SUMMARY:Annual Triple Tree Fly-in (SC00)
DESCRIPTION:Get ready for an unforgettable aviation experience at the Triple Tree Fly-In! This must-attend event has become a highlight on every aviator’s calendar\, drawing enthusiasts from around the globe to our pristine 7\,000-foot grass runway. \nJoin us this fall as we welcome aviators from all corners of the world.   Whether you’re a seasoned pilot or a passionate aviation fan\, the Triple Tree Fly-In offers something for everyone.  Don’t miss out on one of the fastest-growing general aviation events in the country. Be part of the magic\, where Fun\, Fellowship\, and Hospitality take flight! \nExperience something special and unique – The Triple Tree Fly-In!
URL:https://av8maps.com/event/18th-annual-triple-tree-fly-in-sc00/2027-09-20/
LOCATION:Triple Tree Aerodrome\, 330 Mary Hanna Rd\, Woodruff\, SC\, 29388
ATTACH;FMTTYPE=image/jpeg:https://av8maps.com/wp-content/uploads/2025/08/Triple-Tree-Aerodrome-.jpg
GEO:34.675241;-81.9979099
X-APPLE-STRUCTURED-LOCATION;VALUE=URI;X-ADDRESS=Triple Tree Aerodrome 330 Mary Hanna Rd Woodruff SC 29388;X-APPLE-RADIUS=500;X-TITLE=330 Mary Hanna Rd:geo:-81.9979099,34.675241
END:VEVENT
BEGIN:VEVENT
DTSTART;TZID=America/New_York:20280918T080000
DTEND;TZID=America/New_York:20280924T170000
DTSTAMP:20260423T092235
CREATED:20250802T181120Z
LAST-MODIFIED:20251101T173100Z
UID:10003606-1852876800-1853427600@av8maps.com
SUMMARY:Annual Triple Tree Fly-in (SC00)
DESCRIPTION:Get ready for an unforgettable aviation experience at the Triple Tree Fly-In! This must-attend event has become a highlight on every aviator’s calendar\, drawing enthusiasts from around the globe to our pristine 7\,000-foot grass runway. \nJoin us this fall as we welcome aviators from all corners of the world.   Whether you’re a seasoned pilot or a passionate aviation fan\, the Triple Tree Fly-In offers something for everyone.  Don’t miss out on one of the fastest-growing general aviation events in the country. Be part of the magic\, where Fun\, Fellowship\, and Hospitality take flight! \nExperience something special and unique – The Triple Tree Fly-In!
URL:https://av8maps.com/event/18th-annual-triple-tree-fly-in-sc00/2028-09-18/
LOCATION:Triple Tree Aerodrome\, 330 Mary Hanna Rd\, Woodruff\, SC\, 29388
ATTACH;FMTTYPE=image/jpeg:https://av8maps.com/wp-content/uploads/2025/08/Triple-Tree-Aerodrome-.jpg
GEO:34.675241;-81.9979099
X-APPLE-STRUCTURED-LOCATION;VALUE=URI;X-ADDRESS=Triple Tree Aerodrome 330 Mary Hanna Rd Woodruff SC 29388;X-APPLE-RADIUS=500;X-TITLE=330 Mary Hanna Rd:geo:-81.9979099,34.675241
END:VEVENT
BEGIN:VEVENT
DTSTART;TZID=America/New_York:20290917T080000
DTEND;TZID=America/New_York:20290923T170000
DTSTAMP:20260423T092235
CREATED:20250802T181120Z
LAST-MODIFIED:20251101T173100Z
UID:10003607-1884326400-1884877200@av8maps.com
SUMMARY:Annual Triple Tree Fly-in (SC00)
DESCRIPTION:Get ready for an unforgettable aviation experience at the Triple Tree Fly-In! This must-attend event has become a highlight on every aviator’s calendar\, drawing enthusiasts from around the globe to our pristine 7\,000-foot grass runway. \nJoin us this fall as we welcome aviators from all corners of the world.   Whether you’re a seasoned pilot or a passionate aviation fan\, the Triple Tree Fly-In offers something for everyone.  Don’t miss out on one of the fastest-growing general aviation events in the country. Be part of the magic\, where Fun\, Fellowship\, and Hospitality take flight! \nExperience something special and unique – The Triple Tree Fly-In!
URL:https://av8maps.com/event/18th-annual-triple-tree-fly-in-sc00/2029-09-17/
LOCATION:Triple Tree Aerodrome\, 330 Mary Hanna Rd\, Woodruff\, SC\, 29388
ATTACH;FMTTYPE=image/jpeg:https://av8maps.com/wp-content/uploads/2025/08/Triple-Tree-Aerodrome-.jpg
GEO:34.675241;-81.9979099
X-APPLE-STRUCTURED-LOCATION;VALUE=URI;X-ADDRESS=Triple Tree Aerodrome 330 Mary Hanna Rd Woodruff SC 29388;X-APPLE-RADIUS=500;X-TITLE=330 Mary Hanna Rd:geo:-81.9979099,34.675241
END:VEVENT
BEGIN:VEVENT
DTSTART;TZID=America/New_York:20300916T080000
DTEND;TZID=America/New_York:20300922T170000
DTSTAMP:20260423T092235
CREATED:20250802T181120Z
LAST-MODIFIED:20251101T173100Z
UID:10003608-1915776000-1916326800@av8maps.com
SUMMARY:Annual Triple Tree Fly-in (SC00)
DESCRIPTION:Get ready for an unforgettable aviation experience at the Triple Tree Fly-In! This must-attend event has become a highlight on every aviator’s calendar\, drawing enthusiasts from around the globe to our pristine 7\,000-foot grass runway. \nJoin us this fall as we welcome aviators from all corners of the world.   Whether you’re a seasoned pilot or a passionate aviation fan\, the Triple Tree Fly-In offers something for everyone.  Don’t miss out on one of the fastest-growing general aviation events in the country. Be part of the magic\, where Fun\, Fellowship\, and Hospitality take flight! \nExperience something special and unique – The Triple Tree Fly-In!
URL:https://av8maps.com/event/18th-annual-triple-tree-fly-in-sc00/2030-09-16/
LOCATION:Triple Tree Aerodrome\, 330 Mary Hanna Rd\, Woodruff\, SC\, 29388
ATTACH;FMTTYPE=image/jpeg:https://av8maps.com/wp-content/uploads/2025/08/Triple-Tree-Aerodrome-.jpg
GEO:34.675241;-81.9979099
X-APPLE-STRUCTURED-LOCATION;VALUE=URI;X-ADDRESS=Triple Tree Aerodrome 330 Mary Hanna Rd Woodruff SC 29388;X-APPLE-RADIUS=500;X-TITLE=330 Mary Hanna Rd:geo:-81.9979099,34.675241
END:VEVENT
END:VCALENDAR