BEGIN:VCALENDAR
VERSION:2.0
PRODID:-//AV8MAPS.COM - ECPv6.15.20//NONSGML v1.0//EN
CALSCALE:GREGORIAN
METHOD:PUBLISH
X-WR-CALNAME:AV8MAPS.COM
X-ORIGINAL-URL:https://av8maps.com
X-WR-CALDESC:Events for AV8MAPS.COM
REFRESH-INTERVAL;VALUE=DURATION:PT1H
X-Robots-Tag:noindex
X-PUBLISHED-TTL:PT1H
BEGIN:VTIMEZONE
TZID:America/New_York
BEGIN:DAYLIGHT
TZOFFSETFROM:-0500
TZOFFSETTO:-0400
TZNAME:EDT
DTSTART:20250309T070000
END:DAYLIGHT
BEGIN:STANDARD
TZOFFSETFROM:-0400
TZOFFSETTO:-0500
TZNAME:EST
DTSTART:20251102T060000
END:STANDARD
BEGIN:DAYLIGHT
TZOFFSETFROM:-0500
TZOFFSETTO:-0400
TZNAME:EDT
DTSTART:20260308T070000
END:DAYLIGHT
BEGIN:STANDARD
TZOFFSETFROM:-0400
TZOFFSETTO:-0500
TZNAME:EST
DTSTART:20261101T060000
END:STANDARD
BEGIN:DAYLIGHT
TZOFFSETFROM:-0500
TZOFFSETTO:-0400
TZNAME:EDT
DTSTART:20270314T070000
END:DAYLIGHT
BEGIN:STANDARD
TZOFFSETFROM:-0400
TZOFFSETTO:-0500
TZNAME:EST
DTSTART:20271107T060000
END:STANDARD
BEGIN:DAYLIGHT
TZOFFSETFROM:-0500
TZOFFSETTO:-0400
TZNAME:EDT
DTSTART:20280312T070000
END:DAYLIGHT
BEGIN:STANDARD
TZOFFSETFROM:-0400
TZOFFSETTO:-0500
TZNAME:EST
DTSTART:20281105T060000
END:STANDARD
BEGIN:DAYLIGHT
TZOFFSETFROM:-0500
TZOFFSETTO:-0400
TZNAME:EDT
DTSTART:20290311T070000
END:DAYLIGHT
BEGIN:STANDARD
TZOFFSETFROM:-0400
TZOFFSETTO:-0500
TZNAME:EST
DTSTART:20291104T060000
END:STANDARD
BEGIN:DAYLIGHT
TZOFFSETFROM:-0500
TZOFFSETTO:-0400
TZNAME:EDT
DTSTART:20300310T070000
END:DAYLIGHT
BEGIN:STANDARD
TZOFFSETFROM:-0400
TZOFFSETTO:-0500
TZNAME:EST
DTSTART:20301103T060000
END:STANDARD
BEGIN:DAYLIGHT
TZOFFSETFROM:-0500
TZOFFSETTO:-0400
TZNAME:EDT
DTSTART:20310309T070000
END:DAYLIGHT
BEGIN:STANDARD
TZOFFSETFROM:-0400
TZOFFSETTO:-0500
TZNAME:EST
DTSTART:20311102T060000
END:STANDARD
END:VTIMEZONE
BEGIN:VEVENT
DTSTART;TZID=America/New_York:20261003T110000
DTEND;TZID=America/New_York:20261003T150000
DTSTAMP:20260425T070158
CREATED:20250802T183101Z
LAST-MODIFIED:20251101T173309Z
UID:10003613-1791025200-1791039600@av8maps.com
SUMMARY:Flying Aggies Annual Fly-in (KSWO)
DESCRIPTION:We hope everyone is having a great summer!\n\n\nWe are excited to announce that our annual Flying Aggies Fly-in is officially scheduled for October 4th\, 2025! From 11:00am-3:00pm at the OSU Flight Center at KSWO. We hope you mark your calendar because we will be having aircraft rides\, vendors\, food trucks\, and of course aircraft!\n\n\nWe hope to see ya’ll there!
URL:https://av8maps.com/event/flying-aggies-annual-fly-in-kswo/2026-10-03/
LOCATION:Stillwater Regional Airport @ OSU Flight Center\, 3020 Hargis Rd\, Stillwater\, OK 74075
ATTACH;FMTTYPE=image/jpeg:https://av8maps.com/wp-content/uploads/2025/08/Flying-Aggies-Fly-in-e1754159412959.jpg
GEO:36.1156071;-97.0583681
X-APPLE-STRUCTURED-LOCATION;VALUE=URI;X-ADDRESS=Stillwater Regional Airport @ OSU Flight Center 3020 Hargis Rd Stillwater OK 74075;X-APPLE-RADIUS=500;X-TITLE=3020 Hargis Rd\, Stillwater\, OK 74075:geo:-97.0583681,36.1156071
END:VEVENT
BEGIN:VEVENT
DTSTART;TZID=America/New_York:20271002T110000
DTEND;TZID=America/New_York:20271002T150000
DTSTAMP:20260425T070158
CREATED:20250802T183101Z
LAST-MODIFIED:20251101T173309Z
UID:10003614-1822474800-1822489200@av8maps.com
SUMMARY:Flying Aggies Annual Fly-in (KSWO)
DESCRIPTION:We hope everyone is having a great summer!\n\n\nWe are excited to announce that our annual Flying Aggies Fly-in is officially scheduled for October 4th\, 2025! From 11:00am-3:00pm at the OSU Flight Center at KSWO. We hope you mark your calendar because we will be having aircraft rides\, vendors\, food trucks\, and of course aircraft!\n\n\nWe hope to see ya’ll there!
URL:https://av8maps.com/event/flying-aggies-annual-fly-in-kswo/2027-10-02/
LOCATION:Stillwater Regional Airport @ OSU Flight Center\, 3020 Hargis Rd\, Stillwater\, OK 74075
ATTACH;FMTTYPE=image/jpeg:https://av8maps.com/wp-content/uploads/2025/08/Flying-Aggies-Fly-in-e1754159412959.jpg
GEO:36.1156071;-97.0583681
X-APPLE-STRUCTURED-LOCATION;VALUE=URI;X-ADDRESS=Stillwater Regional Airport @ OSU Flight Center 3020 Hargis Rd Stillwater OK 74075;X-APPLE-RADIUS=500;X-TITLE=3020 Hargis Rd\, Stillwater\, OK 74075:geo:-97.0583681,36.1156071
END:VEVENT
BEGIN:VEVENT
DTSTART;TZID=America/New_York:20281007T110000
DTEND;TZID=America/New_York:20281007T150000
DTSTAMP:20260425T070158
CREATED:20250802T183101Z
LAST-MODIFIED:20251101T173309Z
UID:10003615-1854529200-1854543600@av8maps.com
SUMMARY:Flying Aggies Annual Fly-in (KSWO)
DESCRIPTION:We hope everyone is having a great summer!\n\n\nWe are excited to announce that our annual Flying Aggies Fly-in is officially scheduled for October 4th\, 2025! From 11:00am-3:00pm at the OSU Flight Center at KSWO. We hope you mark your calendar because we will be having aircraft rides\, vendors\, food trucks\, and of course aircraft!\n\n\nWe hope to see ya’ll there!
URL:https://av8maps.com/event/flying-aggies-annual-fly-in-kswo/2028-10-07/
LOCATION:Stillwater Regional Airport @ OSU Flight Center\, 3020 Hargis Rd\, Stillwater\, OK 74075
ATTACH;FMTTYPE=image/jpeg:https://av8maps.com/wp-content/uploads/2025/08/Flying-Aggies-Fly-in-e1754159412959.jpg
GEO:36.1156071;-97.0583681
X-APPLE-STRUCTURED-LOCATION;VALUE=URI;X-ADDRESS=Stillwater Regional Airport @ OSU Flight Center 3020 Hargis Rd Stillwater OK 74075;X-APPLE-RADIUS=500;X-TITLE=3020 Hargis Rd\, Stillwater\, OK 74075:geo:-97.0583681,36.1156071
END:VEVENT
BEGIN:VEVENT
DTSTART;TZID=America/New_York:20291006T110000
DTEND;TZID=America/New_York:20291006T150000
DTSTAMP:20260425T070158
CREATED:20250802T183101Z
LAST-MODIFIED:20251101T173309Z
UID:10003616-1885978800-1885993200@av8maps.com
SUMMARY:Flying Aggies Annual Fly-in (KSWO)
DESCRIPTION:We hope everyone is having a great summer!\n\n\nWe are excited to announce that our annual Flying Aggies Fly-in is officially scheduled for October 4th\, 2025! From 11:00am-3:00pm at the OSU Flight Center at KSWO. We hope you mark your calendar because we will be having aircraft rides\, vendors\, food trucks\, and of course aircraft!\n\n\nWe hope to see ya’ll there!
URL:https://av8maps.com/event/flying-aggies-annual-fly-in-kswo/2029-10-06/
LOCATION:Stillwater Regional Airport @ OSU Flight Center\, 3020 Hargis Rd\, Stillwater\, OK 74075
ATTACH;FMTTYPE=image/jpeg:https://av8maps.com/wp-content/uploads/2025/08/Flying-Aggies-Fly-in-e1754159412959.jpg
GEO:36.1156071;-97.0583681
X-APPLE-STRUCTURED-LOCATION;VALUE=URI;X-ADDRESS=Stillwater Regional Airport @ OSU Flight Center 3020 Hargis Rd Stillwater OK 74075;X-APPLE-RADIUS=500;X-TITLE=3020 Hargis Rd\, Stillwater\, OK 74075:geo:-97.0583681,36.1156071
END:VEVENT
BEGIN:VEVENT
DTSTART;TZID=America/New_York:20301005T110000
DTEND;TZID=America/New_York:20301005T150000
DTSTAMP:20260425T070158
CREATED:20250802T183101Z
LAST-MODIFIED:20251101T173309Z
UID:10003617-1917428400-1917442800@av8maps.com
SUMMARY:Flying Aggies Annual Fly-in (KSWO)
DESCRIPTION:We hope everyone is having a great summer!\n\n\nWe are excited to announce that our annual Flying Aggies Fly-in is officially scheduled for October 4th\, 2025! From 11:00am-3:00pm at the OSU Flight Center at KSWO. We hope you mark your calendar because we will be having aircraft rides\, vendors\, food trucks\, and of course aircraft!\n\n\nWe hope to see ya’ll there!
URL:https://av8maps.com/event/flying-aggies-annual-fly-in-kswo/2030-10-05/
LOCATION:Stillwater Regional Airport @ OSU Flight Center\, 3020 Hargis Rd\, Stillwater\, OK 74075
ATTACH;FMTTYPE=image/jpeg:https://av8maps.com/wp-content/uploads/2025/08/Flying-Aggies-Fly-in-e1754159412959.jpg
GEO:36.1156071;-97.0583681
X-APPLE-STRUCTURED-LOCATION;VALUE=URI;X-ADDRESS=Stillwater Regional Airport @ OSU Flight Center 3020 Hargis Rd Stillwater OK 74075;X-APPLE-RADIUS=500;X-TITLE=3020 Hargis Rd\, Stillwater\, OK 74075:geo:-97.0583681,36.1156071
END:VEVENT
END:VCALENDAR