BEGIN:VCALENDAR
VERSION:2.0
PRODID:-//AV8MAPS.COM - ECPv6.15.20//NONSGML v1.0//EN
CALSCALE:GREGORIAN
METHOD:PUBLISH
X-WR-CALNAME:AV8MAPS.COM
X-ORIGINAL-URL:https://av8maps.com
X-WR-CALDESC:Events for AV8MAPS.COM
REFRESH-INTERVAL;VALUE=DURATION:PT1H
X-Robots-Tag:noindex
X-PUBLISHED-TTL:PT1H
BEGIN:VTIMEZONE
TZID:America/New_York
BEGIN:DAYLIGHT
TZOFFSETFROM:-0500
TZOFFSETTO:-0400
TZNAME:EDT
DTSTART:20250309T070000
END:DAYLIGHT
BEGIN:STANDARD
TZOFFSETFROM:-0400
TZOFFSETTO:-0500
TZNAME:EST
DTSTART:20251102T060000
END:STANDARD
BEGIN:DAYLIGHT
TZOFFSETFROM:-0500
TZOFFSETTO:-0400
TZNAME:EDT
DTSTART:20260308T070000
END:DAYLIGHT
BEGIN:STANDARD
TZOFFSETFROM:-0400
TZOFFSETTO:-0500
TZNAME:EST
DTSTART:20261101T060000
END:STANDARD
BEGIN:DAYLIGHT
TZOFFSETFROM:-0500
TZOFFSETTO:-0400
TZNAME:EDT
DTSTART:20270314T070000
END:DAYLIGHT
BEGIN:STANDARD
TZOFFSETFROM:-0400
TZOFFSETTO:-0500
TZNAME:EST
DTSTART:20271107T060000
END:STANDARD
BEGIN:DAYLIGHT
TZOFFSETFROM:-0500
TZOFFSETTO:-0400
TZNAME:EDT
DTSTART:20280312T070000
END:DAYLIGHT
BEGIN:STANDARD
TZOFFSETFROM:-0400
TZOFFSETTO:-0500
TZNAME:EST
DTSTART:20281105T060000
END:STANDARD
BEGIN:DAYLIGHT
TZOFFSETFROM:-0500
TZOFFSETTO:-0400
TZNAME:EDT
DTSTART:20290311T070000
END:DAYLIGHT
BEGIN:STANDARD
TZOFFSETFROM:-0400
TZOFFSETTO:-0500
TZNAME:EST
DTSTART:20291104T060000
END:STANDARD
BEGIN:DAYLIGHT
TZOFFSETFROM:-0500
TZOFFSETTO:-0400
TZNAME:EDT
DTSTART:20300310T070000
END:DAYLIGHT
BEGIN:STANDARD
TZOFFSETFROM:-0400
TZOFFSETTO:-0500
TZNAME:EST
DTSTART:20301103T060000
END:STANDARD
BEGIN:DAYLIGHT
TZOFFSETFROM:-0500
TZOFFSETTO:-0400
TZNAME:EDT
DTSTART:20310309T070000
END:DAYLIGHT
BEGIN:STANDARD
TZOFFSETFROM:-0400
TZOFFSETTO:-0500
TZNAME:EST
DTSTART:20311102T060000
END:STANDARD
END:VTIMEZONE
BEGIN:VEVENT
DTSTART;TZID=America/New_York:20260808T073000
DTEND;TZID=America/New_York:20260808T110000
DTSTAMP:20260423T092126
CREATED:20250803T153237Z
LAST-MODIFIED:20251101T173406Z
UID:10003618-1786174200-1786186800@av8maps.com
SUMMARY:Annual Fly-in Breakfast (E01)
DESCRIPTION:Take to the skies—and your appetite!\nJoin us for the Annual Fly-In Breakfast at Roy Hurd Memorial Airport.\n\nEnjoy a hearty breakfast of bacon\, eggs\, biscuits & gravy\, coffee and juice—just $5 for the public and free for fly-in guests!\n\n\n Classic Cars & First Responder Vehicles on Display\n Prizes awarded throughout the morning!\n\n\nCome hungry\, bring the whole family\, and let’s soar into a fun-filled morning in Monahans!
URL:https://av8maps.com/event/24th-annual-fly-in-breakfast-e01/2026-08-08/
LOCATION:Roy Hurd Memorial Airport\, 801 S Mabel St\, Monahans\, TX 79756
ATTACH;FMTTYPE=image/jpeg:https://av8maps.com/wp-content/uploads/2025/08/24th-Annual-Fly-in-Breakfast-Roy-Hurd-e1754235149575.jpg
GEO:31.5833056;-102.9075804
X-APPLE-STRUCTURED-LOCATION;VALUE=URI;X-ADDRESS=Roy Hurd Memorial Airport 801 S Mabel St Monahans TX 79756;X-APPLE-RADIUS=500;X-TITLE=801 S Mabel St\, Monahans\, TX 79756:geo:-102.9075804,31.5833056
END:VEVENT
BEGIN:VEVENT
DTSTART;TZID=America/New_York:20270814T073000
DTEND;TZID=America/New_York:20270814T110000
DTSTAMP:20260423T092126
CREATED:20250803T153237Z
LAST-MODIFIED:20251101T173406Z
UID:10003619-1818228600-1818241200@av8maps.com
SUMMARY:Annual Fly-in Breakfast (E01)
DESCRIPTION:Take to the skies—and your appetite!\nJoin us for the Annual Fly-In Breakfast at Roy Hurd Memorial Airport.\n\nEnjoy a hearty breakfast of bacon\, eggs\, biscuits & gravy\, coffee and juice—just $5 for the public and free for fly-in guests!\n\n\n Classic Cars & First Responder Vehicles on Display\n Prizes awarded throughout the morning!\n\n\nCome hungry\, bring the whole family\, and let’s soar into a fun-filled morning in Monahans!
URL:https://av8maps.com/event/24th-annual-fly-in-breakfast-e01/2027-08-14/
LOCATION:Roy Hurd Memorial Airport\, 801 S Mabel St\, Monahans\, TX 79756
ATTACH;FMTTYPE=image/jpeg:https://av8maps.com/wp-content/uploads/2025/08/24th-Annual-Fly-in-Breakfast-Roy-Hurd-e1754235149575.jpg
GEO:31.5833056;-102.9075804
X-APPLE-STRUCTURED-LOCATION;VALUE=URI;X-ADDRESS=Roy Hurd Memorial Airport 801 S Mabel St Monahans TX 79756;X-APPLE-RADIUS=500;X-TITLE=801 S Mabel St\, Monahans\, TX 79756:geo:-102.9075804,31.5833056
END:VEVENT
BEGIN:VEVENT
DTSTART;TZID=America/New_York:20280812T073000
DTEND;TZID=America/New_York:20280812T110000
DTSTAMP:20260423T092126
CREATED:20250803T153237Z
LAST-MODIFIED:20251101T173406Z
UID:10003620-1849678200-1849690800@av8maps.com
SUMMARY:Annual Fly-in Breakfast (E01)
DESCRIPTION:Take to the skies—and your appetite!\nJoin us for the Annual Fly-In Breakfast at Roy Hurd Memorial Airport.\n\nEnjoy a hearty breakfast of bacon\, eggs\, biscuits & gravy\, coffee and juice—just $5 for the public and free for fly-in guests!\n\n\n Classic Cars & First Responder Vehicles on Display\n Prizes awarded throughout the morning!\n\n\nCome hungry\, bring the whole family\, and let’s soar into a fun-filled morning in Monahans!
URL:https://av8maps.com/event/24th-annual-fly-in-breakfast-e01/2028-08-12/
LOCATION:Roy Hurd Memorial Airport\, 801 S Mabel St\, Monahans\, TX 79756
ATTACH;FMTTYPE=image/jpeg:https://av8maps.com/wp-content/uploads/2025/08/24th-Annual-Fly-in-Breakfast-Roy-Hurd-e1754235149575.jpg
GEO:31.5833056;-102.9075804
X-APPLE-STRUCTURED-LOCATION;VALUE=URI;X-ADDRESS=Roy Hurd Memorial Airport 801 S Mabel St Monahans TX 79756;X-APPLE-RADIUS=500;X-TITLE=801 S Mabel St\, Monahans\, TX 79756:geo:-102.9075804,31.5833056
END:VEVENT
BEGIN:VEVENT
DTSTART;TZID=America/New_York:20290811T073000
DTEND;TZID=America/New_York:20290811T110000
DTSTAMP:20260423T092126
CREATED:20250803T153237Z
LAST-MODIFIED:20251101T173406Z
UID:10003621-1881127800-1881140400@av8maps.com
SUMMARY:Annual Fly-in Breakfast (E01)
DESCRIPTION:Take to the skies—and your appetite!\nJoin us for the Annual Fly-In Breakfast at Roy Hurd Memorial Airport.\n\nEnjoy a hearty breakfast of bacon\, eggs\, biscuits & gravy\, coffee and juice—just $5 for the public and free for fly-in guests!\n\n\n Classic Cars & First Responder Vehicles on Display\n Prizes awarded throughout the morning!\n\n\nCome hungry\, bring the whole family\, and let’s soar into a fun-filled morning in Monahans!
URL:https://av8maps.com/event/24th-annual-fly-in-breakfast-e01/2029-08-11/
LOCATION:Roy Hurd Memorial Airport\, 801 S Mabel St\, Monahans\, TX 79756
ATTACH;FMTTYPE=image/jpeg:https://av8maps.com/wp-content/uploads/2025/08/24th-Annual-Fly-in-Breakfast-Roy-Hurd-e1754235149575.jpg
GEO:31.5833056;-102.9075804
X-APPLE-STRUCTURED-LOCATION;VALUE=URI;X-ADDRESS=Roy Hurd Memorial Airport 801 S Mabel St Monahans TX 79756;X-APPLE-RADIUS=500;X-TITLE=801 S Mabel St\, Monahans\, TX 79756:geo:-102.9075804,31.5833056
END:VEVENT
BEGIN:VEVENT
DTSTART;TZID=America/New_York:20300810T073000
DTEND;TZID=America/New_York:20300810T110000
DTSTAMP:20260423T092126
CREATED:20250803T153237Z
LAST-MODIFIED:20251101T173406Z
UID:10003622-1912577400-1912590000@av8maps.com
SUMMARY:Annual Fly-in Breakfast (E01)
DESCRIPTION:Take to the skies—and your appetite!\nJoin us for the Annual Fly-In Breakfast at Roy Hurd Memorial Airport.\n\nEnjoy a hearty breakfast of bacon\, eggs\, biscuits & gravy\, coffee and juice—just $5 for the public and free for fly-in guests!\n\n\n Classic Cars & First Responder Vehicles on Display\n Prizes awarded throughout the morning!\n\n\nCome hungry\, bring the whole family\, and let’s soar into a fun-filled morning in Monahans!
URL:https://av8maps.com/event/24th-annual-fly-in-breakfast-e01/2030-08-10/
LOCATION:Roy Hurd Memorial Airport\, 801 S Mabel St\, Monahans\, TX 79756
ATTACH;FMTTYPE=image/jpeg:https://av8maps.com/wp-content/uploads/2025/08/24th-Annual-Fly-in-Breakfast-Roy-Hurd-e1754235149575.jpg
GEO:31.5833056;-102.9075804
X-APPLE-STRUCTURED-LOCATION;VALUE=URI;X-ADDRESS=Roy Hurd Memorial Airport 801 S Mabel St Monahans TX 79756;X-APPLE-RADIUS=500;X-TITLE=801 S Mabel St\, Monahans\, TX 79756:geo:-102.9075804,31.5833056
END:VEVENT
END:VCALENDAR