BEGIN:VCALENDAR
VERSION:2.0
PRODID:-//AV8MAPS.COM - ECPv6.15.20//NONSGML v1.0//EN
CALSCALE:GREGORIAN
METHOD:PUBLISH
X-WR-CALNAME:AV8MAPS.COM
X-ORIGINAL-URL:https://av8maps.com
X-WR-CALDESC:Events for AV8MAPS.COM
REFRESH-INTERVAL;VALUE=DURATION:PT1H
X-Robots-Tag:noindex
X-PUBLISHED-TTL:PT1H
BEGIN:VTIMEZONE
TZID:America/New_York
BEGIN:DAYLIGHT
TZOFFSETFROM:-0500
TZOFFSETTO:-0400
TZNAME:EDT
DTSTART:20250309T070000
END:DAYLIGHT
BEGIN:STANDARD
TZOFFSETFROM:-0400
TZOFFSETTO:-0500
TZNAME:EST
DTSTART:20251102T060000
END:STANDARD
BEGIN:DAYLIGHT
TZOFFSETFROM:-0500
TZOFFSETTO:-0400
TZNAME:EDT
DTSTART:20260308T070000
END:DAYLIGHT
BEGIN:STANDARD
TZOFFSETFROM:-0400
TZOFFSETTO:-0500
TZNAME:EST
DTSTART:20261101T060000
END:STANDARD
BEGIN:DAYLIGHT
TZOFFSETFROM:-0500
TZOFFSETTO:-0400
TZNAME:EDT
DTSTART:20270314T070000
END:DAYLIGHT
BEGIN:STANDARD
TZOFFSETFROM:-0400
TZOFFSETTO:-0500
TZNAME:EST
DTSTART:20271107T060000
END:STANDARD
BEGIN:DAYLIGHT
TZOFFSETFROM:-0500
TZOFFSETTO:-0400
TZNAME:EDT
DTSTART:20280312T070000
END:DAYLIGHT
BEGIN:STANDARD
TZOFFSETFROM:-0400
TZOFFSETTO:-0500
TZNAME:EST
DTSTART:20281105T060000
END:STANDARD
BEGIN:DAYLIGHT
TZOFFSETFROM:-0500
TZOFFSETTO:-0400
TZNAME:EDT
DTSTART:20290311T070000
END:DAYLIGHT
BEGIN:STANDARD
TZOFFSETFROM:-0400
TZOFFSETTO:-0500
TZNAME:EST
DTSTART:20291104T060000
END:STANDARD
BEGIN:DAYLIGHT
TZOFFSETFROM:-0500
TZOFFSETTO:-0400
TZNAME:EDT
DTSTART:20300310T070000
END:DAYLIGHT
BEGIN:STANDARD
TZOFFSETFROM:-0400
TZOFFSETTO:-0500
TZNAME:EST
DTSTART:20301103T060000
END:STANDARD
BEGIN:DAYLIGHT
TZOFFSETFROM:-0500
TZOFFSETTO:-0400
TZNAME:EDT
DTSTART:20310309T070000
END:DAYLIGHT
BEGIN:STANDARD
TZOFFSETFROM:-0400
TZOFFSETTO:-0500
TZNAME:EST
DTSTART:20311102T060000
END:STANDARD
END:VTIMEZONE
BEGIN:VEVENT
DTSTART;TZID=America/New_York:20260926T090000
DTEND;TZID=America/New_York:20260926T150000
DTSTAMP:20260425T113759
CREATED:20250805T005532Z
LAST-MODIFIED:20251101T180028Z
UID:10003641-1790413200-1790434800@av8maps.com
SUMMARY:Fitzgerald Fall Festival Hamburger Fly-in (KZFG)
DESCRIPTION:After having to cancel the movie fly-in\, hamburger fly-in and Fall Festival last year due to hurricane Helene\, We’re looking forward to this year’s Fitzgerald Fly-in! It is only a short time away!\n\n\nThis is a fly-in experience that the whole family can enjoy! Bring your spouse\, bring your kids\, there is something for everyone in the family to enjoy. Fitzgerald fly-in is held in conjunction with the Fitzgerald Fall Festival. In addition to good hamburgers and great pilot fellowship\, there is live entertainment\, arts and crafts vendors\, festival food vendors\, kids’ activities and even an antique tractor show and more.\nThe Hamburger fly-in takes place on September 27th at 12:00\, the festival starts at 9:00 am. Come early\, enjoy the festival then join us for a great burger meal at the Fitzgerald Fly-in.\n\n\n\n\n\nWe hope to see you then!!!\nPS: Don’t forget about our movie fly-in on Friday night!!!
URL:https://av8maps.com/event/fitzgerald-fall-festival-hamburger-fly-in-kzfg/2026-09-26/
LOCATION:Fitzgerald Municipal Airport\, 125 Terminal Dr\, Fitzgerald\, GA 31750
ATTACH;FMTTYPE=image/jpeg:https://av8maps.com/wp-content/uploads/2025/08/Fitzgerald-Fall-Festival-Hamburger-Fly-in-e1754355286557.jpg
GEO:31.6824654;-83.2708706
X-APPLE-STRUCTURED-LOCATION;VALUE=URI;X-ADDRESS=Fitzgerald Municipal Airport 125 Terminal Dr Fitzgerald GA 31750;X-APPLE-RADIUS=500;X-TITLE=125 Terminal Dr\, Fitzgerald\, GA 31750:geo:-83.2708706,31.6824654
END:VEVENT
BEGIN:VEVENT
DTSTART;TZID=America/New_York:20270925T090000
DTEND;TZID=America/New_York:20270925T150000
DTSTAMP:20260425T113759
CREATED:20250805T005532Z
LAST-MODIFIED:20251101T180028Z
UID:10003642-1821862800-1821884400@av8maps.com
SUMMARY:Fitzgerald Fall Festival Hamburger Fly-in (KZFG)
DESCRIPTION:After having to cancel the movie fly-in\, hamburger fly-in and Fall Festival last year due to hurricane Helene\, We’re looking forward to this year’s Fitzgerald Fly-in! It is only a short time away!\n\n\nThis is a fly-in experience that the whole family can enjoy! Bring your spouse\, bring your kids\, there is something for everyone in the family to enjoy. Fitzgerald fly-in is held in conjunction with the Fitzgerald Fall Festival. In addition to good hamburgers and great pilot fellowship\, there is live entertainment\, arts and crafts vendors\, festival food vendors\, kids’ activities and even an antique tractor show and more.\nThe Hamburger fly-in takes place on September 27th at 12:00\, the festival starts at 9:00 am. Come early\, enjoy the festival then join us for a great burger meal at the Fitzgerald Fly-in.\n\n\n\n\n\nWe hope to see you then!!!\nPS: Don’t forget about our movie fly-in on Friday night!!!
URL:https://av8maps.com/event/fitzgerald-fall-festival-hamburger-fly-in-kzfg/2027-09-25/
LOCATION:Fitzgerald Municipal Airport\, 125 Terminal Dr\, Fitzgerald\, GA 31750
ATTACH;FMTTYPE=image/jpeg:https://av8maps.com/wp-content/uploads/2025/08/Fitzgerald-Fall-Festival-Hamburger-Fly-in-e1754355286557.jpg
GEO:31.6824654;-83.2708706
X-APPLE-STRUCTURED-LOCATION;VALUE=URI;X-ADDRESS=Fitzgerald Municipal Airport 125 Terminal Dr Fitzgerald GA 31750;X-APPLE-RADIUS=500;X-TITLE=125 Terminal Dr\, Fitzgerald\, GA 31750:geo:-83.2708706,31.6824654
END:VEVENT
BEGIN:VEVENT
DTSTART;TZID=America/New_York:20280923T090000
DTEND;TZID=America/New_York:20280923T150000
DTSTAMP:20260425T113759
CREATED:20250805T005532Z
LAST-MODIFIED:20251101T180028Z
UID:10003643-1853312400-1853334000@av8maps.com
SUMMARY:Fitzgerald Fall Festival Hamburger Fly-in (KZFG)
DESCRIPTION:After having to cancel the movie fly-in\, hamburger fly-in and Fall Festival last year due to hurricane Helene\, We’re looking forward to this year’s Fitzgerald Fly-in! It is only a short time away!\n\n\nThis is a fly-in experience that the whole family can enjoy! Bring your spouse\, bring your kids\, there is something for everyone in the family to enjoy. Fitzgerald fly-in is held in conjunction with the Fitzgerald Fall Festival. In addition to good hamburgers and great pilot fellowship\, there is live entertainment\, arts and crafts vendors\, festival food vendors\, kids’ activities and even an antique tractor show and more.\nThe Hamburger fly-in takes place on September 27th at 12:00\, the festival starts at 9:00 am. Come early\, enjoy the festival then join us for a great burger meal at the Fitzgerald Fly-in.\n\n\n\n\n\nWe hope to see you then!!!\nPS: Don’t forget about our movie fly-in on Friday night!!!
URL:https://av8maps.com/event/fitzgerald-fall-festival-hamburger-fly-in-kzfg/2028-09-23/
LOCATION:Fitzgerald Municipal Airport\, 125 Terminal Dr\, Fitzgerald\, GA 31750
ATTACH;FMTTYPE=image/jpeg:https://av8maps.com/wp-content/uploads/2025/08/Fitzgerald-Fall-Festival-Hamburger-Fly-in-e1754355286557.jpg
GEO:31.6824654;-83.2708706
X-APPLE-STRUCTURED-LOCATION;VALUE=URI;X-ADDRESS=Fitzgerald Municipal Airport 125 Terminal Dr Fitzgerald GA 31750;X-APPLE-RADIUS=500;X-TITLE=125 Terminal Dr\, Fitzgerald\, GA 31750:geo:-83.2708706,31.6824654
END:VEVENT
BEGIN:VEVENT
DTSTART;TZID=America/New_York:20290922T090000
DTEND;TZID=America/New_York:20290922T150000
DTSTAMP:20260425T113759
CREATED:20250805T005532Z
LAST-MODIFIED:20251101T180028Z
UID:10003644-1884762000-1884783600@av8maps.com
SUMMARY:Fitzgerald Fall Festival Hamburger Fly-in (KZFG)
DESCRIPTION:After having to cancel the movie fly-in\, hamburger fly-in and Fall Festival last year due to hurricane Helene\, We’re looking forward to this year’s Fitzgerald Fly-in! It is only a short time away!\n\n\nThis is a fly-in experience that the whole family can enjoy! Bring your spouse\, bring your kids\, there is something for everyone in the family to enjoy. Fitzgerald fly-in is held in conjunction with the Fitzgerald Fall Festival. In addition to good hamburgers and great pilot fellowship\, there is live entertainment\, arts and crafts vendors\, festival food vendors\, kids’ activities and even an antique tractor show and more.\nThe Hamburger fly-in takes place on September 27th at 12:00\, the festival starts at 9:00 am. Come early\, enjoy the festival then join us for a great burger meal at the Fitzgerald Fly-in.\n\n\n\n\n\nWe hope to see you then!!!\nPS: Don’t forget about our movie fly-in on Friday night!!!
URL:https://av8maps.com/event/fitzgerald-fall-festival-hamburger-fly-in-kzfg/2029-09-22/
LOCATION:Fitzgerald Municipal Airport\, 125 Terminal Dr\, Fitzgerald\, GA 31750
ATTACH;FMTTYPE=image/jpeg:https://av8maps.com/wp-content/uploads/2025/08/Fitzgerald-Fall-Festival-Hamburger-Fly-in-e1754355286557.jpg
GEO:31.6824654;-83.2708706
X-APPLE-STRUCTURED-LOCATION;VALUE=URI;X-ADDRESS=Fitzgerald Municipal Airport 125 Terminal Dr Fitzgerald GA 31750;X-APPLE-RADIUS=500;X-TITLE=125 Terminal Dr\, Fitzgerald\, GA 31750:geo:-83.2708706,31.6824654
END:VEVENT
BEGIN:VEVENT
DTSTART;TZID=America/New_York:20300928T090000
DTEND;TZID=America/New_York:20300928T150000
DTSTAMP:20260425T113759
CREATED:20250805T005532Z
LAST-MODIFIED:20251101T180028Z
UID:10003645-1916816400-1916838000@av8maps.com
SUMMARY:Fitzgerald Fall Festival Hamburger Fly-in (KZFG)
DESCRIPTION:After having to cancel the movie fly-in\, hamburger fly-in and Fall Festival last year due to hurricane Helene\, We’re looking forward to this year’s Fitzgerald Fly-in! It is only a short time away!\n\n\nThis is a fly-in experience that the whole family can enjoy! Bring your spouse\, bring your kids\, there is something for everyone in the family to enjoy. Fitzgerald fly-in is held in conjunction with the Fitzgerald Fall Festival. In addition to good hamburgers and great pilot fellowship\, there is live entertainment\, arts and crafts vendors\, festival food vendors\, kids’ activities and even an antique tractor show and more.\nThe Hamburger fly-in takes place on September 27th at 12:00\, the festival starts at 9:00 am. Come early\, enjoy the festival then join us for a great burger meal at the Fitzgerald Fly-in.\n\n\n\n\n\nWe hope to see you then!!!\nPS: Don’t forget about our movie fly-in on Friday night!!!
URL:https://av8maps.com/event/fitzgerald-fall-festival-hamburger-fly-in-kzfg/2030-09-28/
LOCATION:Fitzgerald Municipal Airport\, 125 Terminal Dr\, Fitzgerald\, GA 31750
ATTACH;FMTTYPE=image/jpeg:https://av8maps.com/wp-content/uploads/2025/08/Fitzgerald-Fall-Festival-Hamburger-Fly-in-e1754355286557.jpg
GEO:31.6824654;-83.2708706
X-APPLE-STRUCTURED-LOCATION;VALUE=URI;X-ADDRESS=Fitzgerald Municipal Airport 125 Terminal Dr Fitzgerald GA 31750;X-APPLE-RADIUS=500;X-TITLE=125 Terminal Dr\, Fitzgerald\, GA 31750:geo:-83.2708706,31.6824654
END:VEVENT
END:VCALENDAR