BEGIN:VCALENDAR
VERSION:2.0
PRODID:-//AV8MAPS.COM - ECPv6.15.20//NONSGML v1.0//EN
CALSCALE:GREGORIAN
METHOD:PUBLISH
X-WR-CALNAME:AV8MAPS.COM
X-ORIGINAL-URL:https://av8maps.com
X-WR-CALDESC:Events for AV8MAPS.COM
REFRESH-INTERVAL;VALUE=DURATION:PT1H
X-Robots-Tag:noindex
X-PUBLISHED-TTL:PT1H
BEGIN:VTIMEZONE
TZID:America/New_York
BEGIN:DAYLIGHT
TZOFFSETFROM:-0500
TZOFFSETTO:-0400
TZNAME:EDT
DTSTART:20250309T070000
END:DAYLIGHT
BEGIN:STANDARD
TZOFFSETFROM:-0400
TZOFFSETTO:-0500
TZNAME:EST
DTSTART:20251102T060000
END:STANDARD
BEGIN:DAYLIGHT
TZOFFSETFROM:-0500
TZOFFSETTO:-0400
TZNAME:EDT
DTSTART:20260308T070000
END:DAYLIGHT
BEGIN:STANDARD
TZOFFSETFROM:-0400
TZOFFSETTO:-0500
TZNAME:EST
DTSTART:20261101T060000
END:STANDARD
BEGIN:DAYLIGHT
TZOFFSETFROM:-0500
TZOFFSETTO:-0400
TZNAME:EDT
DTSTART:20270314T070000
END:DAYLIGHT
BEGIN:STANDARD
TZOFFSETFROM:-0400
TZOFFSETTO:-0500
TZNAME:EST
DTSTART:20271107T060000
END:STANDARD
BEGIN:DAYLIGHT
TZOFFSETFROM:-0500
TZOFFSETTO:-0400
TZNAME:EDT
DTSTART:20280312T070000
END:DAYLIGHT
BEGIN:STANDARD
TZOFFSETFROM:-0400
TZOFFSETTO:-0500
TZNAME:EST
DTSTART:20281105T060000
END:STANDARD
BEGIN:DAYLIGHT
TZOFFSETFROM:-0500
TZOFFSETTO:-0400
TZNAME:EDT
DTSTART:20290311T070000
END:DAYLIGHT
BEGIN:STANDARD
TZOFFSETFROM:-0400
TZOFFSETTO:-0500
TZNAME:EST
DTSTART:20291104T060000
END:STANDARD
BEGIN:DAYLIGHT
TZOFFSETFROM:-0500
TZOFFSETTO:-0400
TZNAME:EDT
DTSTART:20300310T070000
END:DAYLIGHT
BEGIN:STANDARD
TZOFFSETFROM:-0400
TZOFFSETTO:-0500
TZNAME:EST
DTSTART:20301103T060000
END:STANDARD
BEGIN:DAYLIGHT
TZOFFSETFROM:-0500
TZOFFSETTO:-0400
TZNAME:EDT
DTSTART:20310309T070000
END:DAYLIGHT
BEGIN:STANDARD
TZOFFSETFROM:-0400
TZOFFSETTO:-0500
TZNAME:EST
DTSTART:20311102T060000
END:STANDARD
END:VTIMEZONE
BEGIN:VEVENT
DTSTART;TZID=America/New_York:20260815T070000
DTEND;TZID=America/New_York:20260815T110000
DTSTAMP:20260423T080858
CREATED:20250805T011325Z
LAST-MODIFIED:20251101T180216Z
UID:10003646-1786777200-1786791600@av8maps.com
SUMMARY:Annual Cantaloupe Fly-in (KPEQ)
DESCRIPTION:Come join us for a morning of fun at the airport! \nAirplanes\, old cars\, pancake breakfast\, Pecos and cantaloupe\, and who know what else this year. \nOpen to the public!
URL:https://av8maps.com/event/36th-annual-cantaloupe-fly-in-kpeq/2026-08-15/
LOCATION:Pecos Municipal Airport\, 3110 Manahan St\, Pecos\, TX 79772
ATTACH;FMTTYPE=image/jpeg:https://av8maps.com/wp-content/uploads/2025/08/36th-Annual-Cantaloupe-Fly-in-e1754356393277.jpg
GEO:31.3901195;-103.5111581
X-APPLE-STRUCTURED-LOCATION;VALUE=URI;X-ADDRESS=Pecos Municipal Airport 3110 Manahan St Pecos TX 79772;X-APPLE-RADIUS=500;X-TITLE=3110 Manahan St\, Pecos\, TX 79772:geo:-103.5111581,31.3901195
END:VEVENT
BEGIN:VEVENT
DTSTART;TZID=America/New_York:20270821T070000
DTEND;TZID=America/New_York:20270821T110000
DTSTAMP:20260423T080858
CREATED:20250805T011325Z
LAST-MODIFIED:20251101T180216Z
UID:10003647-1818831600-1818846000@av8maps.com
SUMMARY:Annual Cantaloupe Fly-in (KPEQ)
DESCRIPTION:Come join us for a morning of fun at the airport! \nAirplanes\, old cars\, pancake breakfast\, Pecos and cantaloupe\, and who know what else this year. \nOpen to the public!
URL:https://av8maps.com/event/36th-annual-cantaloupe-fly-in-kpeq/2027-08-21/
LOCATION:Pecos Municipal Airport\, 3110 Manahan St\, Pecos\, TX 79772
ATTACH;FMTTYPE=image/jpeg:https://av8maps.com/wp-content/uploads/2025/08/36th-Annual-Cantaloupe-Fly-in-e1754356393277.jpg
GEO:31.3901195;-103.5111581
X-APPLE-STRUCTURED-LOCATION;VALUE=URI;X-ADDRESS=Pecos Municipal Airport 3110 Manahan St Pecos TX 79772;X-APPLE-RADIUS=500;X-TITLE=3110 Manahan St\, Pecos\, TX 79772:geo:-103.5111581,31.3901195
END:VEVENT
BEGIN:VEVENT
DTSTART;TZID=America/New_York:20280819T070000
DTEND;TZID=America/New_York:20280819T110000
DTSTAMP:20260423T080858
CREATED:20250805T011325Z
LAST-MODIFIED:20251101T180216Z
UID:10003648-1850281200-1850295600@av8maps.com
SUMMARY:Annual Cantaloupe Fly-in (KPEQ)
DESCRIPTION:Come join us for a morning of fun at the airport! \nAirplanes\, old cars\, pancake breakfast\, Pecos and cantaloupe\, and who know what else this year. \nOpen to the public!
URL:https://av8maps.com/event/36th-annual-cantaloupe-fly-in-kpeq/2028-08-19/
LOCATION:Pecos Municipal Airport\, 3110 Manahan St\, Pecos\, TX 79772
ATTACH;FMTTYPE=image/jpeg:https://av8maps.com/wp-content/uploads/2025/08/36th-Annual-Cantaloupe-Fly-in-e1754356393277.jpg
GEO:31.3901195;-103.5111581
X-APPLE-STRUCTURED-LOCATION;VALUE=URI;X-ADDRESS=Pecos Municipal Airport 3110 Manahan St Pecos TX 79772;X-APPLE-RADIUS=500;X-TITLE=3110 Manahan St\, Pecos\, TX 79772:geo:-103.5111581,31.3901195
END:VEVENT
BEGIN:VEVENT
DTSTART;TZID=America/New_York:20290818T070000
DTEND;TZID=America/New_York:20290818T110000
DTSTAMP:20260423T080858
CREATED:20250805T011325Z
LAST-MODIFIED:20251101T180216Z
UID:10003649-1881730800-1881745200@av8maps.com
SUMMARY:Annual Cantaloupe Fly-in (KPEQ)
DESCRIPTION:Come join us for a morning of fun at the airport! \nAirplanes\, old cars\, pancake breakfast\, Pecos and cantaloupe\, and who know what else this year. \nOpen to the public!
URL:https://av8maps.com/event/36th-annual-cantaloupe-fly-in-kpeq/2029-08-18/
LOCATION:Pecos Municipal Airport\, 3110 Manahan St\, Pecos\, TX 79772
ATTACH;FMTTYPE=image/jpeg:https://av8maps.com/wp-content/uploads/2025/08/36th-Annual-Cantaloupe-Fly-in-e1754356393277.jpg
GEO:31.3901195;-103.5111581
X-APPLE-STRUCTURED-LOCATION;VALUE=URI;X-ADDRESS=Pecos Municipal Airport 3110 Manahan St Pecos TX 79772;X-APPLE-RADIUS=500;X-TITLE=3110 Manahan St\, Pecos\, TX 79772:geo:-103.5111581,31.3901195
END:VEVENT
BEGIN:VEVENT
DTSTART;TZID=America/New_York:20300817T070000
DTEND;TZID=America/New_York:20300817T110000
DTSTAMP:20260423T080858
CREATED:20250805T011325Z
LAST-MODIFIED:20251101T180216Z
UID:10003650-1913180400-1913194800@av8maps.com
SUMMARY:Annual Cantaloupe Fly-in (KPEQ)
DESCRIPTION:Come join us for a morning of fun at the airport! \nAirplanes\, old cars\, pancake breakfast\, Pecos and cantaloupe\, and who know what else this year. \nOpen to the public!
URL:https://av8maps.com/event/36th-annual-cantaloupe-fly-in-kpeq/2030-08-17/
LOCATION:Pecos Municipal Airport\, 3110 Manahan St\, Pecos\, TX 79772
ATTACH;FMTTYPE=image/jpeg:https://av8maps.com/wp-content/uploads/2025/08/36th-Annual-Cantaloupe-Fly-in-e1754356393277.jpg
GEO:31.3901195;-103.5111581
X-APPLE-STRUCTURED-LOCATION;VALUE=URI;X-ADDRESS=Pecos Municipal Airport 3110 Manahan St Pecos TX 79772;X-APPLE-RADIUS=500;X-TITLE=3110 Manahan St\, Pecos\, TX 79772:geo:-103.5111581,31.3901195
END:VEVENT
END:VCALENDAR