BEGIN:VCALENDAR
VERSION:2.0
PRODID:-//AV8MAPS.COM - ECPv6.15.20//NONSGML v1.0//EN
CALSCALE:GREGORIAN
METHOD:PUBLISH
X-WR-CALNAME:AV8MAPS.COM
X-ORIGINAL-URL:https://av8maps.com
X-WR-CALDESC:Events for AV8MAPS.COM
REFRESH-INTERVAL;VALUE=DURATION:PT1H
X-Robots-Tag:noindex
X-PUBLISHED-TTL:PT1H
BEGIN:VTIMEZONE
TZID:America/New_York
BEGIN:DAYLIGHT
TZOFFSETFROM:-0500
TZOFFSETTO:-0400
TZNAME:EDT
DTSTART:20250309T070000
END:DAYLIGHT
BEGIN:STANDARD
TZOFFSETFROM:-0400
TZOFFSETTO:-0500
TZNAME:EST
DTSTART:20251102T060000
END:STANDARD
BEGIN:DAYLIGHT
TZOFFSETFROM:-0500
TZOFFSETTO:-0400
TZNAME:EDT
DTSTART:20260308T070000
END:DAYLIGHT
BEGIN:STANDARD
TZOFFSETFROM:-0400
TZOFFSETTO:-0500
TZNAME:EST
DTSTART:20261101T060000
END:STANDARD
BEGIN:DAYLIGHT
TZOFFSETFROM:-0500
TZOFFSETTO:-0400
TZNAME:EDT
DTSTART:20270314T070000
END:DAYLIGHT
BEGIN:STANDARD
TZOFFSETFROM:-0400
TZOFFSETTO:-0500
TZNAME:EST
DTSTART:20271107T060000
END:STANDARD
BEGIN:DAYLIGHT
TZOFFSETFROM:-0500
TZOFFSETTO:-0400
TZNAME:EDT
DTSTART:20280312T070000
END:DAYLIGHT
BEGIN:STANDARD
TZOFFSETFROM:-0400
TZOFFSETTO:-0500
TZNAME:EST
DTSTART:20281105T060000
END:STANDARD
BEGIN:DAYLIGHT
TZOFFSETFROM:-0500
TZOFFSETTO:-0400
TZNAME:EDT
DTSTART:20290311T070000
END:DAYLIGHT
BEGIN:STANDARD
TZOFFSETFROM:-0400
TZOFFSETTO:-0500
TZNAME:EST
DTSTART:20291104T060000
END:STANDARD
BEGIN:DAYLIGHT
TZOFFSETFROM:-0500
TZOFFSETTO:-0400
TZNAME:EDT
DTSTART:20300310T070000
END:DAYLIGHT
BEGIN:STANDARD
TZOFFSETFROM:-0400
TZOFFSETTO:-0500
TZNAME:EST
DTSTART:20301103T060000
END:STANDARD
BEGIN:DAYLIGHT
TZOFFSETFROM:-0500
TZOFFSETTO:-0400
TZNAME:EDT
DTSTART:20310309T070000
END:DAYLIGHT
BEGIN:STANDARD
TZOFFSETFROM:-0400
TZOFFSETTO:-0500
TZNAME:EST
DTSTART:20311102T060000
END:STANDARD
END:VTIMEZONE
BEGIN:VEVENT
DTSTART;TZID=America/New_York:20260809T080000
DTEND;TZID=America/New_York:20260809T170000
DTSTAMP:20260422T234618
CREATED:20250810T215559Z
LAST-MODIFIED:20251101T180630Z
UID:10003656-1786262400-1786294800@av8maps.com
SUMMARY:Annual Wings and Wheels (KCAD)
DESCRIPTION:Enjoy a family friendly day at the Wexford County Airport for the Annual Wings & Wheels Fly-In/Drive-In/Pancake Breakfast. \nFree admissions and free parking. Learn about aviation careers from the two dozen groups\, organizations and colleges hosting aviation career booths. \nRegister your kids from 8 to 17 for a free Young Eagles flight (weather permitting). \nBrowse through the static aircraft displays. Go on a helicopter ride for a small donation. Watch aircraft from across the state fly in for the pancake breakfast. \nObserve how amateur radio keeps the world connected. See the classic cars as you take the kids to the bouncy houses. \nAll this and much more at the 5th Annual Wings & Wheels event.
URL:https://av8maps.com/event/5th-annual-wings-and-wheels-kcad/2026-08-09/
LOCATION:Wexford County Airport\, 8040 34 Rd\, Cadillac\, MI 49601
ATTACH;FMTTYPE=image/jpeg:https://av8maps.com/wp-content/uploads/2025/08/Wings-and-Wheels-KCAD-e1754862903524.jpg
GEO:44.2780887;-85.4182111
X-APPLE-STRUCTURED-LOCATION;VALUE=URI;X-ADDRESS=Wexford County Airport 8040 34 Rd Cadillac MI 49601;X-APPLE-RADIUS=500;X-TITLE=8040 34 Rd\, Cadillac\, MI 49601:geo:-85.4182111,44.2780887
END:VEVENT
BEGIN:VEVENT
DTSTART;TZID=America/New_York:20270808T080000
DTEND;TZID=America/New_York:20270808T170000
DTSTAMP:20260422T234618
CREATED:20250810T215559Z
LAST-MODIFIED:20251101T180630Z
UID:10003657-1817712000-1817744400@av8maps.com
SUMMARY:Annual Wings and Wheels (KCAD)
DESCRIPTION:Enjoy a family friendly day at the Wexford County Airport for the Annual Wings & Wheels Fly-In/Drive-In/Pancake Breakfast. \nFree admissions and free parking. Learn about aviation careers from the two dozen groups\, organizations and colleges hosting aviation career booths. \nRegister your kids from 8 to 17 for a free Young Eagles flight (weather permitting). \nBrowse through the static aircraft displays. Go on a helicopter ride for a small donation. Watch aircraft from across the state fly in for the pancake breakfast. \nObserve how amateur radio keeps the world connected. See the classic cars as you take the kids to the bouncy houses. \nAll this and much more at the 5th Annual Wings & Wheels event.
URL:https://av8maps.com/event/5th-annual-wings-and-wheels-kcad/2027-08-08/
LOCATION:Wexford County Airport\, 8040 34 Rd\, Cadillac\, MI 49601
ATTACH;FMTTYPE=image/jpeg:https://av8maps.com/wp-content/uploads/2025/08/Wings-and-Wheels-KCAD-e1754862903524.jpg
GEO:44.2780887;-85.4182111
X-APPLE-STRUCTURED-LOCATION;VALUE=URI;X-ADDRESS=Wexford County Airport 8040 34 Rd Cadillac MI 49601;X-APPLE-RADIUS=500;X-TITLE=8040 34 Rd\, Cadillac\, MI 49601:geo:-85.4182111,44.2780887
END:VEVENT
BEGIN:VEVENT
DTSTART;TZID=America/New_York:20280813T080000
DTEND;TZID=America/New_York:20280813T170000
DTSTAMP:20260422T234618
CREATED:20250810T215559Z
LAST-MODIFIED:20251101T180630Z
UID:10003658-1849766400-1849798800@av8maps.com
SUMMARY:Annual Wings and Wheels (KCAD)
DESCRIPTION:Enjoy a family friendly day at the Wexford County Airport for the Annual Wings & Wheels Fly-In/Drive-In/Pancake Breakfast. \nFree admissions and free parking. Learn about aviation careers from the two dozen groups\, organizations and colleges hosting aviation career booths. \nRegister your kids from 8 to 17 for a free Young Eagles flight (weather permitting). \nBrowse through the static aircraft displays. Go on a helicopter ride for a small donation. Watch aircraft from across the state fly in for the pancake breakfast. \nObserve how amateur radio keeps the world connected. See the classic cars as you take the kids to the bouncy houses. \nAll this and much more at the 5th Annual Wings & Wheels event.
URL:https://av8maps.com/event/5th-annual-wings-and-wheels-kcad/2028-08-13/
LOCATION:Wexford County Airport\, 8040 34 Rd\, Cadillac\, MI 49601
ATTACH;FMTTYPE=image/jpeg:https://av8maps.com/wp-content/uploads/2025/08/Wings-and-Wheels-KCAD-e1754862903524.jpg
GEO:44.2780887;-85.4182111
X-APPLE-STRUCTURED-LOCATION;VALUE=URI;X-ADDRESS=Wexford County Airport 8040 34 Rd Cadillac MI 49601;X-APPLE-RADIUS=500;X-TITLE=8040 34 Rd\, Cadillac\, MI 49601:geo:-85.4182111,44.2780887
END:VEVENT
BEGIN:VEVENT
DTSTART;TZID=America/New_York:20290812T080000
DTEND;TZID=America/New_York:20290812T170000
DTSTAMP:20260422T234618
CREATED:20250810T215559Z
LAST-MODIFIED:20251101T180630Z
UID:10003659-1881216000-1881248400@av8maps.com
SUMMARY:Annual Wings and Wheels (KCAD)
DESCRIPTION:Enjoy a family friendly day at the Wexford County Airport for the Annual Wings & Wheels Fly-In/Drive-In/Pancake Breakfast. \nFree admissions and free parking. Learn about aviation careers from the two dozen groups\, organizations and colleges hosting aviation career booths. \nRegister your kids from 8 to 17 for a free Young Eagles flight (weather permitting). \nBrowse through the static aircraft displays. Go on a helicopter ride for a small donation. Watch aircraft from across the state fly in for the pancake breakfast. \nObserve how amateur radio keeps the world connected. See the classic cars as you take the kids to the bouncy houses. \nAll this and much more at the 5th Annual Wings & Wheels event.
URL:https://av8maps.com/event/5th-annual-wings-and-wheels-kcad/2029-08-12/
LOCATION:Wexford County Airport\, 8040 34 Rd\, Cadillac\, MI 49601
ATTACH;FMTTYPE=image/jpeg:https://av8maps.com/wp-content/uploads/2025/08/Wings-and-Wheels-KCAD-e1754862903524.jpg
GEO:44.2780887;-85.4182111
X-APPLE-STRUCTURED-LOCATION;VALUE=URI;X-ADDRESS=Wexford County Airport 8040 34 Rd Cadillac MI 49601;X-APPLE-RADIUS=500;X-TITLE=8040 34 Rd\, Cadillac\, MI 49601:geo:-85.4182111,44.2780887
END:VEVENT
BEGIN:VEVENT
DTSTART;TZID=America/New_York:20300811T080000
DTEND;TZID=America/New_York:20300811T170000
DTSTAMP:20260422T234618
CREATED:20250810T215559Z
LAST-MODIFIED:20251101T180630Z
UID:10003660-1912665600-1912698000@av8maps.com
SUMMARY:Annual Wings and Wheels (KCAD)
DESCRIPTION:Enjoy a family friendly day at the Wexford County Airport for the Annual Wings & Wheels Fly-In/Drive-In/Pancake Breakfast. \nFree admissions and free parking. Learn about aviation careers from the two dozen groups\, organizations and colleges hosting aviation career booths. \nRegister your kids from 8 to 17 for a free Young Eagles flight (weather permitting). \nBrowse through the static aircraft displays. Go on a helicopter ride for a small donation. Watch aircraft from across the state fly in for the pancake breakfast. \nObserve how amateur radio keeps the world connected. See the classic cars as you take the kids to the bouncy houses. \nAll this and much more at the 5th Annual Wings & Wheels event.
URL:https://av8maps.com/event/5th-annual-wings-and-wheels-kcad/2030-08-11/
LOCATION:Wexford County Airport\, 8040 34 Rd\, Cadillac\, MI 49601
ATTACH;FMTTYPE=image/jpeg:https://av8maps.com/wp-content/uploads/2025/08/Wings-and-Wheels-KCAD-e1754862903524.jpg
GEO:44.2780887;-85.4182111
X-APPLE-STRUCTURED-LOCATION;VALUE=URI;X-ADDRESS=Wexford County Airport 8040 34 Rd Cadillac MI 49601;X-APPLE-RADIUS=500;X-TITLE=8040 34 Rd\, Cadillac\, MI 49601:geo:-85.4182111,44.2780887
END:VEVENT
END:VCALENDAR