BEGIN:VCALENDAR
VERSION:2.0
PRODID:-//AV8MAPS.COM - ECPv6.15.20//NONSGML v1.0//EN
CALSCALE:GREGORIAN
METHOD:PUBLISH
X-WR-CALNAME:AV8MAPS.COM
X-ORIGINAL-URL:https://av8maps.com
X-WR-CALDESC:Events for AV8MAPS.COM
REFRESH-INTERVAL;VALUE=DURATION:PT1H
X-Robots-Tag:noindex
X-PUBLISHED-TTL:PT1H
BEGIN:VTIMEZONE
TZID:America/New_York
BEGIN:DAYLIGHT
TZOFFSETFROM:-0500
TZOFFSETTO:-0400
TZNAME:EDT
DTSTART:20250309T070000
END:DAYLIGHT
BEGIN:STANDARD
TZOFFSETFROM:-0400
TZOFFSETTO:-0500
TZNAME:EST
DTSTART:20251102T060000
END:STANDARD
BEGIN:DAYLIGHT
TZOFFSETFROM:-0500
TZOFFSETTO:-0400
TZNAME:EDT
DTSTART:20260308T070000
END:DAYLIGHT
BEGIN:STANDARD
TZOFFSETFROM:-0400
TZOFFSETTO:-0500
TZNAME:EST
DTSTART:20261101T060000
END:STANDARD
BEGIN:DAYLIGHT
TZOFFSETFROM:-0500
TZOFFSETTO:-0400
TZNAME:EDT
DTSTART:20270314T070000
END:DAYLIGHT
BEGIN:STANDARD
TZOFFSETFROM:-0400
TZOFFSETTO:-0500
TZNAME:EST
DTSTART:20271107T060000
END:STANDARD
BEGIN:DAYLIGHT
TZOFFSETFROM:-0500
TZOFFSETTO:-0400
TZNAME:EDT
DTSTART:20280312T070000
END:DAYLIGHT
BEGIN:STANDARD
TZOFFSETFROM:-0400
TZOFFSETTO:-0500
TZNAME:EST
DTSTART:20281105T060000
END:STANDARD
BEGIN:DAYLIGHT
TZOFFSETFROM:-0500
TZOFFSETTO:-0400
TZNAME:EDT
DTSTART:20290311T070000
END:DAYLIGHT
BEGIN:STANDARD
TZOFFSETFROM:-0400
TZOFFSETTO:-0500
TZNAME:EST
DTSTART:20291104T060000
END:STANDARD
BEGIN:DAYLIGHT
TZOFFSETFROM:-0500
TZOFFSETTO:-0400
TZNAME:EDT
DTSTART:20300310T070000
END:DAYLIGHT
BEGIN:STANDARD
TZOFFSETFROM:-0400
TZOFFSETTO:-0500
TZNAME:EST
DTSTART:20301103T060000
END:STANDARD
BEGIN:DAYLIGHT
TZOFFSETFROM:-0500
TZOFFSETTO:-0400
TZNAME:EDT
DTSTART:20310309T070000
END:DAYLIGHT
BEGIN:STANDARD
TZOFFSETFROM:-0400
TZOFFSETTO:-0500
TZNAME:EST
DTSTART:20311102T060000
END:STANDARD
END:VTIMEZONE
BEGIN:VEVENT
DTSTART;TZID=America/New_York:20260822T080000
DTEND;TZID=America/New_York:20260822T110000
DTSTAMP:20260424T231142
CREATED:20250810T220114Z
LAST-MODIFIED:20251101T180719Z
UID:10003661-1787385600-1787396400@av8maps.com
SUMMARY:Annual Fly-In Pancake Breakfast (5M6)
DESCRIPTION:Fly in or drive in. Everyone is invited. Pancakes\, eggs\, sausage\, juice and coffee. Kids games and our infamous raffle baskets. Rain or shine\, we’ll be there.
URL:https://av8maps.com/event/fly-in-pancake-breakfast-3/2026-08-22/
LOCATION:Sugar Springs Airpark\, 1969 Highlanders Way\, Gladwin\, MI 48624\, MI
ATTACH;FMTTYPE=image/jpeg:https://av8maps.com/wp-content/uploads/2025/08/Sugar-Springs-16th-Annual-Pancake-Breakfast-e1755266154854.jpg
GEO:44.135754;-84.440262
X-APPLE-STRUCTURED-LOCATION;VALUE=URI;X-ADDRESS=Sugar Springs Airpark 1969 Highlanders Way Gladwin MI 48624 MI;X-APPLE-RADIUS=500;X-TITLE=1969 Highlanders Way\, Gladwin\, MI 48624:geo:-84.440262,44.135754
END:VEVENT
BEGIN:VEVENT
DTSTART;TZID=America/New_York:20270828T080000
DTEND;TZID=America/New_York:20270828T110000
DTSTAMP:20260424T231142
CREATED:20250810T220114Z
LAST-MODIFIED:20251101T180719Z
UID:10003662-1819440000-1819450800@av8maps.com
SUMMARY:Annual Fly-In Pancake Breakfast (5M6)
DESCRIPTION:Fly in or drive in. Everyone is invited. Pancakes\, eggs\, sausage\, juice and coffee. Kids games and our infamous raffle baskets. Rain or shine\, we’ll be there.
URL:https://av8maps.com/event/fly-in-pancake-breakfast-3/2027-08-28/
LOCATION:Sugar Springs Airpark\, 1969 Highlanders Way\, Gladwin\, MI 48624\, MI
ATTACH;FMTTYPE=image/jpeg:https://av8maps.com/wp-content/uploads/2025/08/Sugar-Springs-16th-Annual-Pancake-Breakfast-e1755266154854.jpg
GEO:44.135754;-84.440262
X-APPLE-STRUCTURED-LOCATION;VALUE=URI;X-ADDRESS=Sugar Springs Airpark 1969 Highlanders Way Gladwin MI 48624 MI;X-APPLE-RADIUS=500;X-TITLE=1969 Highlanders Way\, Gladwin\, MI 48624:geo:-84.440262,44.135754
END:VEVENT
BEGIN:VEVENT
DTSTART;TZID=America/New_York:20280826T080000
DTEND;TZID=America/New_York:20280826T110000
DTSTAMP:20260424T231142
CREATED:20250810T220114Z
LAST-MODIFIED:20251101T180719Z
UID:10003663-1850889600-1850900400@av8maps.com
SUMMARY:Annual Fly-In Pancake Breakfast (5M6)
DESCRIPTION:Fly in or drive in. Everyone is invited. Pancakes\, eggs\, sausage\, juice and coffee. Kids games and our infamous raffle baskets. Rain or shine\, we’ll be there.
URL:https://av8maps.com/event/fly-in-pancake-breakfast-3/2028-08-26/
LOCATION:Sugar Springs Airpark\, 1969 Highlanders Way\, Gladwin\, MI 48624\, MI
ATTACH;FMTTYPE=image/jpeg:https://av8maps.com/wp-content/uploads/2025/08/Sugar-Springs-16th-Annual-Pancake-Breakfast-e1755266154854.jpg
GEO:44.135754;-84.440262
X-APPLE-STRUCTURED-LOCATION;VALUE=URI;X-ADDRESS=Sugar Springs Airpark 1969 Highlanders Way Gladwin MI 48624 MI;X-APPLE-RADIUS=500;X-TITLE=1969 Highlanders Way\, Gladwin\, MI 48624:geo:-84.440262,44.135754
END:VEVENT
BEGIN:VEVENT
DTSTART;TZID=America/New_York:20290825T080000
DTEND;TZID=America/New_York:20290825T110000
DTSTAMP:20260424T231142
CREATED:20250810T220114Z
LAST-MODIFIED:20251101T180719Z
UID:10003664-1882339200-1882350000@av8maps.com
SUMMARY:Annual Fly-In Pancake Breakfast (5M6)
DESCRIPTION:Fly in or drive in. Everyone is invited. Pancakes\, eggs\, sausage\, juice and coffee. Kids games and our infamous raffle baskets. Rain or shine\, we’ll be there.
URL:https://av8maps.com/event/fly-in-pancake-breakfast-3/2029-08-25/
LOCATION:Sugar Springs Airpark\, 1969 Highlanders Way\, Gladwin\, MI 48624\, MI
ATTACH;FMTTYPE=image/jpeg:https://av8maps.com/wp-content/uploads/2025/08/Sugar-Springs-16th-Annual-Pancake-Breakfast-e1755266154854.jpg
GEO:44.135754;-84.440262
X-APPLE-STRUCTURED-LOCATION;VALUE=URI;X-ADDRESS=Sugar Springs Airpark 1969 Highlanders Way Gladwin MI 48624 MI;X-APPLE-RADIUS=500;X-TITLE=1969 Highlanders Way\, Gladwin\, MI 48624:geo:-84.440262,44.135754
END:VEVENT
BEGIN:VEVENT
DTSTART;TZID=America/New_York:20300824T080000
DTEND;TZID=America/New_York:20300824T110000
DTSTAMP:20260424T231142
CREATED:20250810T220114Z
LAST-MODIFIED:20251101T180719Z
UID:10003665-1913788800-1913799600@av8maps.com
SUMMARY:Annual Fly-In Pancake Breakfast (5M6)
DESCRIPTION:Fly in or drive in. Everyone is invited. Pancakes\, eggs\, sausage\, juice and coffee. Kids games and our infamous raffle baskets. Rain or shine\, we’ll be there.
URL:https://av8maps.com/event/fly-in-pancake-breakfast-3/2030-08-24/
LOCATION:Sugar Springs Airpark\, 1969 Highlanders Way\, Gladwin\, MI 48624\, MI
ATTACH;FMTTYPE=image/jpeg:https://av8maps.com/wp-content/uploads/2025/08/Sugar-Springs-16th-Annual-Pancake-Breakfast-e1755266154854.jpg
GEO:44.135754;-84.440262
X-APPLE-STRUCTURED-LOCATION;VALUE=URI;X-ADDRESS=Sugar Springs Airpark 1969 Highlanders Way Gladwin MI 48624 MI;X-APPLE-RADIUS=500;X-TITLE=1969 Highlanders Way\, Gladwin\, MI 48624:geo:-84.440262,44.135754
END:VEVENT
END:VCALENDAR