BEGIN:VCALENDAR
VERSION:2.0
PRODID:-//AV8MAPS.COM - ECPv6.15.20//NONSGML v1.0//EN
CALSCALE:GREGORIAN
METHOD:PUBLISH
X-WR-CALNAME:AV8MAPS.COM
X-ORIGINAL-URL:https://av8maps.com
X-WR-CALDESC:Events for AV8MAPS.COM
REFRESH-INTERVAL;VALUE=DURATION:PT1H
X-Robots-Tag:noindex
X-PUBLISHED-TTL:PT1H
BEGIN:VTIMEZONE
TZID:America/New_York
BEGIN:DAYLIGHT
TZOFFSETFROM:-0500
TZOFFSETTO:-0400
TZNAME:EDT
DTSTART:20250309T070000
END:DAYLIGHT
BEGIN:STANDARD
TZOFFSETFROM:-0400
TZOFFSETTO:-0500
TZNAME:EST
DTSTART:20251102T060000
END:STANDARD
BEGIN:DAYLIGHT
TZOFFSETFROM:-0500
TZOFFSETTO:-0400
TZNAME:EDT
DTSTART:20260308T070000
END:DAYLIGHT
BEGIN:STANDARD
TZOFFSETFROM:-0400
TZOFFSETTO:-0500
TZNAME:EST
DTSTART:20261101T060000
END:STANDARD
BEGIN:DAYLIGHT
TZOFFSETFROM:-0500
TZOFFSETTO:-0400
TZNAME:EDT
DTSTART:20270314T070000
END:DAYLIGHT
BEGIN:STANDARD
TZOFFSETFROM:-0400
TZOFFSETTO:-0500
TZNAME:EST
DTSTART:20271107T060000
END:STANDARD
BEGIN:DAYLIGHT
TZOFFSETFROM:-0500
TZOFFSETTO:-0400
TZNAME:EDT
DTSTART:20280312T070000
END:DAYLIGHT
BEGIN:STANDARD
TZOFFSETFROM:-0400
TZOFFSETTO:-0500
TZNAME:EST
DTSTART:20281105T060000
END:STANDARD
BEGIN:DAYLIGHT
TZOFFSETFROM:-0500
TZOFFSETTO:-0400
TZNAME:EDT
DTSTART:20290311T070000
END:DAYLIGHT
BEGIN:STANDARD
TZOFFSETFROM:-0400
TZOFFSETTO:-0500
TZNAME:EST
DTSTART:20291104T060000
END:STANDARD
BEGIN:DAYLIGHT
TZOFFSETFROM:-0500
TZOFFSETTO:-0400
TZNAME:EDT
DTSTART:20300310T070000
END:DAYLIGHT
BEGIN:STANDARD
TZOFFSETFROM:-0400
TZOFFSETTO:-0500
TZNAME:EST
DTSTART:20301103T060000
END:STANDARD
BEGIN:DAYLIGHT
TZOFFSETFROM:-0500
TZOFFSETTO:-0400
TZNAME:EDT
DTSTART:20310309T070000
END:DAYLIGHT
BEGIN:STANDARD
TZOFFSETFROM:-0400
TZOFFSETTO:-0500
TZNAME:EST
DTSTART:20311102T060000
END:STANDARD
END:VTIMEZONE
BEGIN:VEVENT
DTSTART;TZID=America/New_York:20260829T080000
DTEND;TZID=America/New_York:20260829T170000
DTSTAMP:20260423T080509
CREATED:20250810T224106Z
LAST-MODIFIED:20251101T180828Z
UID:10003666-1787990400-1788022800@av8maps.com
SUMMARY:Fly-in and Camp out (6Y9)
DESCRIPTION:Come out to Prickett Grooms Fly-in and Camp out. \nPilots can fly in starting Friday \nThe flyin and fundraiser is Saturday. Come in for a couple hours\, a day\, or the weekend.  Camp under your wing \nSunday is breakfast \nThe airstrip is 2600 with tall trees on either end \nContact Brad Franklin 1-248-761-5615 for more information
URL:https://av8maps.com/event/fly-in-and-camp-out-6y9/2026-08-29/
LOCATION:Prickett Grooms Airport\, Sidnaw\, MI 49961
ATTACH;FMTTYPE=image/jpeg:https://av8maps.com/wp-content/uploads/2025/08/Prickett-Grooms-Fly-in-e1754864911686.jpg
GEO:46.5046647;-88.7084719
X-APPLE-STRUCTURED-LOCATION;VALUE=URI;X-ADDRESS=Prickett Grooms Airport Sidnaw MI 49961;X-APPLE-RADIUS=500;X-TITLE=Sidnaw\, MI 49961:geo:-88.7084719,46.5046647
END:VEVENT
BEGIN:VEVENT
DTSTART;TZID=America/New_York:20300831T080000
DTEND;TZID=America/New_York:20300831T170000
DTSTAMP:20260423T080509
CREATED:20250810T224106Z
LAST-MODIFIED:20251101T180828Z
UID:10003667-1914393600-1914426000@av8maps.com
SUMMARY:Fly-in and Camp out (6Y9)
DESCRIPTION:Come out to Prickett Grooms Fly-in and Camp out. \nPilots can fly in starting Friday \nThe flyin and fundraiser is Saturday. Come in for a couple hours\, a day\, or the weekend.  Camp under your wing \nSunday is breakfast \nThe airstrip is 2600 with tall trees on either end \nContact Brad Franklin 1-248-761-5615 for more information
URL:https://av8maps.com/event/fly-in-and-camp-out-6y9/2030-08-31/
LOCATION:Prickett Grooms Airport\, Sidnaw\, MI 49961
ATTACH;FMTTYPE=image/jpeg:https://av8maps.com/wp-content/uploads/2025/08/Prickett-Grooms-Fly-in-e1754864911686.jpg
GEO:46.5046647;-88.7084719
X-APPLE-STRUCTURED-LOCATION;VALUE=URI;X-ADDRESS=Prickett Grooms Airport Sidnaw MI 49961;X-APPLE-RADIUS=500;X-TITLE=Sidnaw\, MI 49961:geo:-88.7084719,46.5046647
END:VEVENT
END:VCALENDAR