BEGIN:VCALENDAR
VERSION:2.0
PRODID:-//AV8MAPS.COM - ECPv6.15.20//NONSGML v1.0//EN
CALSCALE:GREGORIAN
METHOD:PUBLISH
X-WR-CALNAME:AV8MAPS.COM
X-ORIGINAL-URL:https://av8maps.com
X-WR-CALDESC:Events for AV8MAPS.COM
REFRESH-INTERVAL;VALUE=DURATION:PT1H
X-Robots-Tag:noindex
X-PUBLISHED-TTL:PT1H
BEGIN:VTIMEZONE
TZID:America/New_York
BEGIN:DAYLIGHT
TZOFFSETFROM:-0500
TZOFFSETTO:-0400
TZNAME:EDT
DTSTART:20250309T070000
END:DAYLIGHT
BEGIN:STANDARD
TZOFFSETFROM:-0400
TZOFFSETTO:-0500
TZNAME:EST
DTSTART:20251102T060000
END:STANDARD
BEGIN:DAYLIGHT
TZOFFSETFROM:-0500
TZOFFSETTO:-0400
TZNAME:EDT
DTSTART:20260308T070000
END:DAYLIGHT
BEGIN:STANDARD
TZOFFSETFROM:-0400
TZOFFSETTO:-0500
TZNAME:EST
DTSTART:20261101T060000
END:STANDARD
BEGIN:DAYLIGHT
TZOFFSETFROM:-0500
TZOFFSETTO:-0400
TZNAME:EDT
DTSTART:20270314T070000
END:DAYLIGHT
BEGIN:STANDARD
TZOFFSETFROM:-0400
TZOFFSETTO:-0500
TZNAME:EST
DTSTART:20271107T060000
END:STANDARD
BEGIN:DAYLIGHT
TZOFFSETFROM:-0500
TZOFFSETTO:-0400
TZNAME:EDT
DTSTART:20280312T070000
END:DAYLIGHT
BEGIN:STANDARD
TZOFFSETFROM:-0400
TZOFFSETTO:-0500
TZNAME:EST
DTSTART:20281105T060000
END:STANDARD
BEGIN:DAYLIGHT
TZOFFSETFROM:-0500
TZOFFSETTO:-0400
TZNAME:EDT
DTSTART:20290311T070000
END:DAYLIGHT
BEGIN:STANDARD
TZOFFSETFROM:-0400
TZOFFSETTO:-0500
TZNAME:EST
DTSTART:20291104T060000
END:STANDARD
BEGIN:DAYLIGHT
TZOFFSETFROM:-0500
TZOFFSETTO:-0400
TZNAME:EDT
DTSTART:20300310T070000
END:DAYLIGHT
BEGIN:STANDARD
TZOFFSETFROM:-0400
TZOFFSETTO:-0500
TZNAME:EST
DTSTART:20301103T060000
END:STANDARD
BEGIN:DAYLIGHT
TZOFFSETFROM:-0500
TZOFFSETTO:-0400
TZNAME:EDT
DTSTART:20310309T070000
END:DAYLIGHT
BEGIN:STANDARD
TZOFFSETFROM:-0400
TZOFFSETTO:-0500
TZNAME:EST
DTSTART:20311102T060000
END:STANDARD
END:VTIMEZONE
BEGIN:VEVENT
DTSTART;TZID=America/New_York:20260912T073000
DTEND;TZID=America/New_York:20260912T133000
DTSTAMP:20260423T094159
CREATED:20250812T004828Z
LAST-MODIFIED:20251101T182134Z
UID:10000718-1789198200-1789219800@av8maps.com
SUMMARY:Grass is a Gas Aviators Poker Run (KBRD)
DESCRIPTION:Only one month away\, the Grass is a Gas Aviators poker run.\nFly some of the most beautiful northern Minnesota Lakes country.\n\n\nSee flyer for details.\n\n\nGet there early to get your spot\, 52 hands available.\n\n\nPrizes for best three hands\, resort stays\, cash\, gift certificates for top three hands. Tons of door prizes\, everybody goes home with something.\n\n\nFREE!!
URL:https://av8maps.com/event/grass-is-a-gas-aviators-poker-run/2026-09-12/
LOCATION:Brainerd Lakes Regional Airport\, 16384 Airport Rd #5\, Brainerd\, MN 56401
ATTACH;FMTTYPE=image/jpeg:https://av8maps.com/wp-content/uploads/2025/08/Aviators-Poker-Run-KBRD-e1754959693304.jpg
GEO:46.3930459;-94.1412635
X-APPLE-STRUCTURED-LOCATION;VALUE=URI;X-ADDRESS=Brainerd Lakes Regional Airport 16384 Airport Rd #5 Brainerd MN 56401;X-APPLE-RADIUS=500;X-TITLE=16384 Airport Rd #5\, Brainerd\, MN 56401:geo:-94.1412635,46.3930459
END:VEVENT
BEGIN:VEVENT
DTSTART;TZID=America/New_York:20270911T073000
DTEND;TZID=America/New_York:20270911T133000
DTSTAMP:20260423T094159
CREATED:20250812T004828Z
LAST-MODIFIED:20251101T182134Z
UID:10003693-1820647800-1820669400@av8maps.com
SUMMARY:Grass is a Gas Aviators Poker Run (KBRD)
DESCRIPTION:Only one month away\, the Grass is a Gas Aviators poker run.\nFly some of the most beautiful northern Minnesota Lakes country.\n\n\nSee flyer for details.\n\n\nGet there early to get your spot\, 52 hands available.\n\n\nPrizes for best three hands\, resort stays\, cash\, gift certificates for top three hands. Tons of door prizes\, everybody goes home with something.\n\n\nFREE!!
URL:https://av8maps.com/event/grass-is-a-gas-aviators-poker-run/2027-09-11/
LOCATION:Brainerd Lakes Regional Airport\, 16384 Airport Rd #5\, Brainerd\, MN 56401
ATTACH;FMTTYPE=image/jpeg:https://av8maps.com/wp-content/uploads/2025/08/Aviators-Poker-Run-KBRD-e1754959693304.jpg
GEO:46.3930459;-94.1412635
X-APPLE-STRUCTURED-LOCATION;VALUE=URI;X-ADDRESS=Brainerd Lakes Regional Airport 16384 Airport Rd #5 Brainerd MN 56401;X-APPLE-RADIUS=500;X-TITLE=16384 Airport Rd #5\, Brainerd\, MN 56401:geo:-94.1412635,46.3930459
END:VEVENT
BEGIN:VEVENT
DTSTART;TZID=America/New_York:20280909T073000
DTEND;TZID=America/New_York:20280909T133000
DTSTAMP:20260423T094159
CREATED:20250812T004828Z
LAST-MODIFIED:20251101T182134Z
UID:10003694-1852097400-1852119000@av8maps.com
SUMMARY:Grass is a Gas Aviators Poker Run (KBRD)
DESCRIPTION:Only one month away\, the Grass is a Gas Aviators poker run.\nFly some of the most beautiful northern Minnesota Lakes country.\n\n\nSee flyer for details.\n\n\nGet there early to get your spot\, 52 hands available.\n\n\nPrizes for best three hands\, resort stays\, cash\, gift certificates for top three hands. Tons of door prizes\, everybody goes home with something.\n\n\nFREE!!
URL:https://av8maps.com/event/grass-is-a-gas-aviators-poker-run/2028-09-09/
LOCATION:Brainerd Lakes Regional Airport\, 16384 Airport Rd #5\, Brainerd\, MN 56401
ATTACH;FMTTYPE=image/jpeg:https://av8maps.com/wp-content/uploads/2025/08/Aviators-Poker-Run-KBRD-e1754959693304.jpg
GEO:46.3930459;-94.1412635
X-APPLE-STRUCTURED-LOCATION;VALUE=URI;X-ADDRESS=Brainerd Lakes Regional Airport 16384 Airport Rd #5 Brainerd MN 56401;X-APPLE-RADIUS=500;X-TITLE=16384 Airport Rd #5\, Brainerd\, MN 56401:geo:-94.1412635,46.3930459
END:VEVENT
BEGIN:VEVENT
DTSTART;TZID=America/New_York:20290908T073000
DTEND;TZID=America/New_York:20290908T133000
DTSTAMP:20260423T094159
CREATED:20250812T004828Z
LAST-MODIFIED:20251101T182134Z
UID:10003695-1883547000-1883568600@av8maps.com
SUMMARY:Grass is a Gas Aviators Poker Run (KBRD)
DESCRIPTION:Only one month away\, the Grass is a Gas Aviators poker run.\nFly some of the most beautiful northern Minnesota Lakes country.\n\n\nSee flyer for details.\n\n\nGet there early to get your spot\, 52 hands available.\n\n\nPrizes for best three hands\, resort stays\, cash\, gift certificates for top three hands. Tons of door prizes\, everybody goes home with something.\n\n\nFREE!!
URL:https://av8maps.com/event/grass-is-a-gas-aviators-poker-run/2029-09-08/
LOCATION:Brainerd Lakes Regional Airport\, 16384 Airport Rd #5\, Brainerd\, MN 56401
ATTACH;FMTTYPE=image/jpeg:https://av8maps.com/wp-content/uploads/2025/08/Aviators-Poker-Run-KBRD-e1754959693304.jpg
GEO:46.3930459;-94.1412635
X-APPLE-STRUCTURED-LOCATION;VALUE=URI;X-ADDRESS=Brainerd Lakes Regional Airport 16384 Airport Rd #5 Brainerd MN 56401;X-APPLE-RADIUS=500;X-TITLE=16384 Airport Rd #5\, Brainerd\, MN 56401:geo:-94.1412635,46.3930459
END:VEVENT
BEGIN:VEVENT
DTSTART;TZID=America/New_York:20300914T073000
DTEND;TZID=America/New_York:20300914T133000
DTSTAMP:20260423T094159
CREATED:20250812T004828Z
LAST-MODIFIED:20251101T182134Z
UID:10003696-1915601400-1915623000@av8maps.com
SUMMARY:Grass is a Gas Aviators Poker Run (KBRD)
DESCRIPTION:Only one month away\, the Grass is a Gas Aviators poker run.\nFly some of the most beautiful northern Minnesota Lakes country.\n\n\nSee flyer for details.\n\n\nGet there early to get your spot\, 52 hands available.\n\n\nPrizes for best three hands\, resort stays\, cash\, gift certificates for top three hands. Tons of door prizes\, everybody goes home with something.\n\n\nFREE!!
URL:https://av8maps.com/event/grass-is-a-gas-aviators-poker-run/2030-09-14/
LOCATION:Brainerd Lakes Regional Airport\, 16384 Airport Rd #5\, Brainerd\, MN 56401
ATTACH;FMTTYPE=image/jpeg:https://av8maps.com/wp-content/uploads/2025/08/Aviators-Poker-Run-KBRD-e1754959693304.jpg
GEO:46.3930459;-94.1412635
X-APPLE-STRUCTURED-LOCATION;VALUE=URI;X-ADDRESS=Brainerd Lakes Regional Airport 16384 Airport Rd #5 Brainerd MN 56401;X-APPLE-RADIUS=500;X-TITLE=16384 Airport Rd #5\, Brainerd\, MN 56401:geo:-94.1412635,46.3930459
END:VEVENT
END:VCALENDAR