BEGIN:VCALENDAR
VERSION:2.0
PRODID:-//AV8MAPS.COM - ECPv6.15.20//NONSGML v1.0//EN
CALSCALE:GREGORIAN
METHOD:PUBLISH
X-WR-CALNAME:AV8MAPS.COM
X-ORIGINAL-URL:https://av8maps.com
X-WR-CALDESC:Events for AV8MAPS.COM
REFRESH-INTERVAL;VALUE=DURATION:PT1H
X-Robots-Tag:noindex
X-PUBLISHED-TTL:PT1H
BEGIN:VTIMEZONE
TZID:America/New_York
BEGIN:DAYLIGHT
TZOFFSETFROM:-0500
TZOFFSETTO:-0400
TZNAME:EDT
DTSTART:20250309T070000
END:DAYLIGHT
BEGIN:STANDARD
TZOFFSETFROM:-0400
TZOFFSETTO:-0500
TZNAME:EST
DTSTART:20251102T060000
END:STANDARD
BEGIN:DAYLIGHT
TZOFFSETFROM:-0500
TZOFFSETTO:-0400
TZNAME:EDT
DTSTART:20260308T070000
END:DAYLIGHT
BEGIN:STANDARD
TZOFFSETFROM:-0400
TZOFFSETTO:-0500
TZNAME:EST
DTSTART:20261101T060000
END:STANDARD
BEGIN:DAYLIGHT
TZOFFSETFROM:-0500
TZOFFSETTO:-0400
TZNAME:EDT
DTSTART:20270314T070000
END:DAYLIGHT
BEGIN:STANDARD
TZOFFSETFROM:-0400
TZOFFSETTO:-0500
TZNAME:EST
DTSTART:20271107T060000
END:STANDARD
BEGIN:DAYLIGHT
TZOFFSETFROM:-0500
TZOFFSETTO:-0400
TZNAME:EDT
DTSTART:20280312T070000
END:DAYLIGHT
BEGIN:STANDARD
TZOFFSETFROM:-0400
TZOFFSETTO:-0500
TZNAME:EST
DTSTART:20281105T060000
END:STANDARD
BEGIN:DAYLIGHT
TZOFFSETFROM:-0500
TZOFFSETTO:-0400
TZNAME:EDT
DTSTART:20290311T070000
END:DAYLIGHT
BEGIN:STANDARD
TZOFFSETFROM:-0400
TZOFFSETTO:-0500
TZNAME:EST
DTSTART:20291104T060000
END:STANDARD
BEGIN:DAYLIGHT
TZOFFSETFROM:-0500
TZOFFSETTO:-0400
TZNAME:EDT
DTSTART:20300310T070000
END:DAYLIGHT
BEGIN:STANDARD
TZOFFSETFROM:-0400
TZOFFSETTO:-0500
TZNAME:EST
DTSTART:20301103T060000
END:STANDARD
BEGIN:DAYLIGHT
TZOFFSETFROM:-0500
TZOFFSETTO:-0400
TZNAME:EDT
DTSTART:20310309T070000
END:DAYLIGHT
BEGIN:STANDARD
TZOFFSETFROM:-0400
TZOFFSETTO:-0500
TZNAME:EST
DTSTART:20311102T060000
END:STANDARD
END:VTIMEZONE
BEGIN:VEVENT
DTSTART;TZID=America/New_York:20261016T160000
DTEND;TZID=America/New_York:20261018T170000
DTSTAMP:20260423T092043
CREATED:20250812T230513Z
LAST-MODIFIED:20251101T182537Z
UID:10003702-1792166400-1792342800@av8maps.com
SUMMARY:Annual Lone Pine Fly-in (O26)
DESCRIPTION:October 17-18-19 – Lone Pine Airport\, CA (O26)\nOnline registration window open\nAugust 10 1700PDT – August 15 1700 PDT\n>>>> Register Here <<<< \nNew for 2025: Due to high demand and limited capacity of this event\, registering will place attendees in a lottery. Final selections will be communicated in late-August. \nFly into the beautiful Lone Pine Airport (O26)\, under the shadow of Mount Whitney\, in California’s Owens Valley for this 6th annual weekend of aviation fellowship\, local fly-outs\, and fun. Come enjoy a different side of California—one that is less connected to the Pacific Coast and more connected culturally and geographically to the interior American West. \nThis backcountry-flying weekend is centered around camaraderie and flying. Uniquely\, pilots attending have the chance to fly their planes on organized fly-outs to several of the dozens of remote backcountry airstrips that dot the surrounding region. \nOfficial events and arrivals commence Friday 17th to allow time for pilots to register\, set up camp\, and familiarize themselves with Saturday’s fly-out adventure plans. Plan to be on deck in Lone Pine no later than 1600L on Friday to facilitate getting through the check-in process and to attend the mandatory fly-out briefing Friday night. The fly-outs will be tailored to aircraft and pilot abilities based upon the information provided in the online registration with final rosters assigned during the day Friday. \nEarly Saturday morning\, fly-out groups led by local pilots will depart Lone Pine to each visit various desert and mountain airstrips. On these journeys pilots can learn about the local backcountry scene and experience the raw beauty and unique geography of the High Sierras\, Death Valley\, Mojave Desert\, and Great Basin. \nSaturday concludes with all groups returning to Lone Pine in the evening for debriefings\, food\, and camaraderie. Some groups may also elect to stop by Independence Airport (2O7) before returning to Lone Pine to enjoy locally made delicacies at the Eastern Sierra Ice Cream Company! \nSunday will be departure day. Lookout for announcements of potential “on your way home” mini fly-out adventures.
URL:https://av8maps.com/event/6th-annual-lone-pine-fly-in-o26/2026-10-16/
LOCATION:Lone Pine Airport\, 1452 S Main St\, Lone Pine\, CA 93545
ATTACH;FMTTYPE=image/webp:https://av8maps.com/wp-content/uploads/2025/08/Lone-pine-Fly-in-e1755039890659.webp
GEO:36.5889261;-118.0467849
X-APPLE-STRUCTURED-LOCATION;VALUE=URI;X-ADDRESS=Lone Pine Airport 1452 S Main St Lone Pine CA 93545;X-APPLE-RADIUS=500;X-TITLE=1452 S Main St\, Lone Pine\, CA 93545:geo:-118.0467849,36.5889261
END:VEVENT
BEGIN:VEVENT
DTSTART;TZID=America/New_York:20271015T160000
DTEND;TZID=America/New_York:20271017T170000
DTSTAMP:20260423T092043
CREATED:20250812T230513Z
LAST-MODIFIED:20251101T182537Z
UID:10003703-1823616000-1823792400@av8maps.com
SUMMARY:Annual Lone Pine Fly-in (O26)
DESCRIPTION:October 17-18-19 – Lone Pine Airport\, CA (O26)\nOnline registration window open\nAugust 10 1700PDT – August 15 1700 PDT\n>>>> Register Here <<<< \nNew for 2025: Due to high demand and limited capacity of this event\, registering will place attendees in a lottery. Final selections will be communicated in late-August. \nFly into the beautiful Lone Pine Airport (O26)\, under the shadow of Mount Whitney\, in California’s Owens Valley for this 6th annual weekend of aviation fellowship\, local fly-outs\, and fun. Come enjoy a different side of California—one that is less connected to the Pacific Coast and more connected culturally and geographically to the interior American West. \nThis backcountry-flying weekend is centered around camaraderie and flying. Uniquely\, pilots attending have the chance to fly their planes on organized fly-outs to several of the dozens of remote backcountry airstrips that dot the surrounding region. \nOfficial events and arrivals commence Friday 17th to allow time for pilots to register\, set up camp\, and familiarize themselves with Saturday’s fly-out adventure plans. Plan to be on deck in Lone Pine no later than 1600L on Friday to facilitate getting through the check-in process and to attend the mandatory fly-out briefing Friday night. The fly-outs will be tailored to aircraft and pilot abilities based upon the information provided in the online registration with final rosters assigned during the day Friday. \nEarly Saturday morning\, fly-out groups led by local pilots will depart Lone Pine to each visit various desert and mountain airstrips. On these journeys pilots can learn about the local backcountry scene and experience the raw beauty and unique geography of the High Sierras\, Death Valley\, Mojave Desert\, and Great Basin. \nSaturday concludes with all groups returning to Lone Pine in the evening for debriefings\, food\, and camaraderie. Some groups may also elect to stop by Independence Airport (2O7) before returning to Lone Pine to enjoy locally made delicacies at the Eastern Sierra Ice Cream Company! \nSunday will be departure day. Lookout for announcements of potential “on your way home” mini fly-out adventures.
URL:https://av8maps.com/event/6th-annual-lone-pine-fly-in-o26/2027-10-15/
LOCATION:Lone Pine Airport\, 1452 S Main St\, Lone Pine\, CA 93545
ATTACH;FMTTYPE=image/webp:https://av8maps.com/wp-content/uploads/2025/08/Lone-pine-Fly-in-e1755039890659.webp
GEO:36.5889261;-118.0467849
X-APPLE-STRUCTURED-LOCATION;VALUE=URI;X-ADDRESS=Lone Pine Airport 1452 S Main St Lone Pine CA 93545;X-APPLE-RADIUS=500;X-TITLE=1452 S Main St\, Lone Pine\, CA 93545:geo:-118.0467849,36.5889261
END:VEVENT
BEGIN:VEVENT
DTSTART;TZID=America/New_York:20281020T160000
DTEND;TZID=America/New_York:20281022T170000
DTSTAMP:20260423T092043
CREATED:20250812T230513Z
LAST-MODIFIED:20251101T182537Z
UID:10003704-1855670400-1855846800@av8maps.com
SUMMARY:Annual Lone Pine Fly-in (O26)
DESCRIPTION:October 17-18-19 – Lone Pine Airport\, CA (O26)\nOnline registration window open\nAugust 10 1700PDT – August 15 1700 PDT\n>>>> Register Here <<<< \nNew for 2025: Due to high demand and limited capacity of this event\, registering will place attendees in a lottery. Final selections will be communicated in late-August. \nFly into the beautiful Lone Pine Airport (O26)\, under the shadow of Mount Whitney\, in California’s Owens Valley for this 6th annual weekend of aviation fellowship\, local fly-outs\, and fun. Come enjoy a different side of California—one that is less connected to the Pacific Coast and more connected culturally and geographically to the interior American West. \nThis backcountry-flying weekend is centered around camaraderie and flying. Uniquely\, pilots attending have the chance to fly their planes on organized fly-outs to several of the dozens of remote backcountry airstrips that dot the surrounding region. \nOfficial events and arrivals commence Friday 17th to allow time for pilots to register\, set up camp\, and familiarize themselves with Saturday’s fly-out adventure plans. Plan to be on deck in Lone Pine no later than 1600L on Friday to facilitate getting through the check-in process and to attend the mandatory fly-out briefing Friday night. The fly-outs will be tailored to aircraft and pilot abilities based upon the information provided in the online registration with final rosters assigned during the day Friday. \nEarly Saturday morning\, fly-out groups led by local pilots will depart Lone Pine to each visit various desert and mountain airstrips. On these journeys pilots can learn about the local backcountry scene and experience the raw beauty and unique geography of the High Sierras\, Death Valley\, Mojave Desert\, and Great Basin. \nSaturday concludes with all groups returning to Lone Pine in the evening for debriefings\, food\, and camaraderie. Some groups may also elect to stop by Independence Airport (2O7) before returning to Lone Pine to enjoy locally made delicacies at the Eastern Sierra Ice Cream Company! \nSunday will be departure day. Lookout for announcements of potential “on your way home” mini fly-out adventures.
URL:https://av8maps.com/event/6th-annual-lone-pine-fly-in-o26/2028-10-20/
LOCATION:Lone Pine Airport\, 1452 S Main St\, Lone Pine\, CA 93545
ATTACH;FMTTYPE=image/webp:https://av8maps.com/wp-content/uploads/2025/08/Lone-pine-Fly-in-e1755039890659.webp
GEO:36.5889261;-118.0467849
X-APPLE-STRUCTURED-LOCATION;VALUE=URI;X-ADDRESS=Lone Pine Airport 1452 S Main St Lone Pine CA 93545;X-APPLE-RADIUS=500;X-TITLE=1452 S Main St\, Lone Pine\, CA 93545:geo:-118.0467849,36.5889261
END:VEVENT
BEGIN:VEVENT
DTSTART;TZID=America/New_York:20291019T160000
DTEND;TZID=America/New_York:20291021T170000
DTSTAMP:20260423T092043
CREATED:20250812T230513Z
LAST-MODIFIED:20251101T182537Z
UID:10003705-1887120000-1887296400@av8maps.com
SUMMARY:Annual Lone Pine Fly-in (O26)
DESCRIPTION:October 17-18-19 – Lone Pine Airport\, CA (O26)\nOnline registration window open\nAugust 10 1700PDT – August 15 1700 PDT\n>>>> Register Here <<<< \nNew for 2025: Due to high demand and limited capacity of this event\, registering will place attendees in a lottery. Final selections will be communicated in late-August. \nFly into the beautiful Lone Pine Airport (O26)\, under the shadow of Mount Whitney\, in California’s Owens Valley for this 6th annual weekend of aviation fellowship\, local fly-outs\, and fun. Come enjoy a different side of California—one that is less connected to the Pacific Coast and more connected culturally and geographically to the interior American West. \nThis backcountry-flying weekend is centered around camaraderie and flying. Uniquely\, pilots attending have the chance to fly their planes on organized fly-outs to several of the dozens of remote backcountry airstrips that dot the surrounding region. \nOfficial events and arrivals commence Friday 17th to allow time for pilots to register\, set up camp\, and familiarize themselves with Saturday’s fly-out adventure plans. Plan to be on deck in Lone Pine no later than 1600L on Friday to facilitate getting through the check-in process and to attend the mandatory fly-out briefing Friday night. The fly-outs will be tailored to aircraft and pilot abilities based upon the information provided in the online registration with final rosters assigned during the day Friday. \nEarly Saturday morning\, fly-out groups led by local pilots will depart Lone Pine to each visit various desert and mountain airstrips. On these journeys pilots can learn about the local backcountry scene and experience the raw beauty and unique geography of the High Sierras\, Death Valley\, Mojave Desert\, and Great Basin. \nSaturday concludes with all groups returning to Lone Pine in the evening for debriefings\, food\, and camaraderie. Some groups may also elect to stop by Independence Airport (2O7) before returning to Lone Pine to enjoy locally made delicacies at the Eastern Sierra Ice Cream Company! \nSunday will be departure day. Lookout for announcements of potential “on your way home” mini fly-out adventures.
URL:https://av8maps.com/event/6th-annual-lone-pine-fly-in-o26/2029-10-19/
LOCATION:Lone Pine Airport\, 1452 S Main St\, Lone Pine\, CA 93545
ATTACH;FMTTYPE=image/webp:https://av8maps.com/wp-content/uploads/2025/08/Lone-pine-Fly-in-e1755039890659.webp
GEO:36.5889261;-118.0467849
X-APPLE-STRUCTURED-LOCATION;VALUE=URI;X-ADDRESS=Lone Pine Airport 1452 S Main St Lone Pine CA 93545;X-APPLE-RADIUS=500;X-TITLE=1452 S Main St\, Lone Pine\, CA 93545:geo:-118.0467849,36.5889261
END:VEVENT
BEGIN:VEVENT
DTSTART;TZID=America/New_York:20301018T160000
DTEND;TZID=America/New_York:20301020T170000
DTSTAMP:20260423T092044
CREATED:20250812T230513Z
LAST-MODIFIED:20251101T182537Z
UID:10003706-1918569600-1918746000@av8maps.com
SUMMARY:Annual Lone Pine Fly-in (O26)
DESCRIPTION:October 17-18-19 – Lone Pine Airport\, CA (O26)\nOnline registration window open\nAugust 10 1700PDT – August 15 1700 PDT\n>>>> Register Here <<<< \nNew for 2025: Due to high demand and limited capacity of this event\, registering will place attendees in a lottery. Final selections will be communicated in late-August. \nFly into the beautiful Lone Pine Airport (O26)\, under the shadow of Mount Whitney\, in California’s Owens Valley for this 6th annual weekend of aviation fellowship\, local fly-outs\, and fun. Come enjoy a different side of California—one that is less connected to the Pacific Coast and more connected culturally and geographically to the interior American West. \nThis backcountry-flying weekend is centered around camaraderie and flying. Uniquely\, pilots attending have the chance to fly their planes on organized fly-outs to several of the dozens of remote backcountry airstrips that dot the surrounding region. \nOfficial events and arrivals commence Friday 17th to allow time for pilots to register\, set up camp\, and familiarize themselves with Saturday’s fly-out adventure plans. Plan to be on deck in Lone Pine no later than 1600L on Friday to facilitate getting through the check-in process and to attend the mandatory fly-out briefing Friday night. The fly-outs will be tailored to aircraft and pilot abilities based upon the information provided in the online registration with final rosters assigned during the day Friday. \nEarly Saturday morning\, fly-out groups led by local pilots will depart Lone Pine to each visit various desert and mountain airstrips. On these journeys pilots can learn about the local backcountry scene and experience the raw beauty and unique geography of the High Sierras\, Death Valley\, Mojave Desert\, and Great Basin. \nSaturday concludes with all groups returning to Lone Pine in the evening for debriefings\, food\, and camaraderie. Some groups may also elect to stop by Independence Airport (2O7) before returning to Lone Pine to enjoy locally made delicacies at the Eastern Sierra Ice Cream Company! \nSunday will be departure day. Lookout for announcements of potential “on your way home” mini fly-out adventures.
URL:https://av8maps.com/event/6th-annual-lone-pine-fly-in-o26/2030-10-18/
LOCATION:Lone Pine Airport\, 1452 S Main St\, Lone Pine\, CA 93545
ATTACH;FMTTYPE=image/webp:https://av8maps.com/wp-content/uploads/2025/08/Lone-pine-Fly-in-e1755039890659.webp
GEO:36.5889261;-118.0467849
X-APPLE-STRUCTURED-LOCATION;VALUE=URI;X-ADDRESS=Lone Pine Airport 1452 S Main St Lone Pine CA 93545;X-APPLE-RADIUS=500;X-TITLE=1452 S Main St\, Lone Pine\, CA 93545:geo:-118.0467849,36.5889261
END:VEVENT
END:VCALENDAR