BEGIN:VCALENDAR
VERSION:2.0
PRODID:-//AV8MAPS.COM - ECPv6.15.20//NONSGML v1.0//EN
CALSCALE:GREGORIAN
METHOD:PUBLISH
X-WR-CALNAME:AV8MAPS.COM
X-ORIGINAL-URL:https://av8maps.com
X-WR-CALDESC:Events for AV8MAPS.COM
REFRESH-INTERVAL;VALUE=DURATION:PT1H
X-Robots-Tag:noindex
X-PUBLISHED-TTL:PT1H
BEGIN:VTIMEZONE
TZID:America/New_York
BEGIN:DAYLIGHT
TZOFFSETFROM:-0500
TZOFFSETTO:-0400
TZNAME:EDT
DTSTART:20250309T070000
END:DAYLIGHT
BEGIN:STANDARD
TZOFFSETFROM:-0400
TZOFFSETTO:-0500
TZNAME:EST
DTSTART:20251102T060000
END:STANDARD
BEGIN:DAYLIGHT
TZOFFSETFROM:-0500
TZOFFSETTO:-0400
TZNAME:EDT
DTSTART:20260308T070000
END:DAYLIGHT
BEGIN:STANDARD
TZOFFSETFROM:-0400
TZOFFSETTO:-0500
TZNAME:EST
DTSTART:20261101T060000
END:STANDARD
BEGIN:DAYLIGHT
TZOFFSETFROM:-0500
TZOFFSETTO:-0400
TZNAME:EDT
DTSTART:20270314T070000
END:DAYLIGHT
BEGIN:STANDARD
TZOFFSETFROM:-0400
TZOFFSETTO:-0500
TZNAME:EST
DTSTART:20271107T060000
END:STANDARD
BEGIN:DAYLIGHT
TZOFFSETFROM:-0500
TZOFFSETTO:-0400
TZNAME:EDT
DTSTART:20280312T070000
END:DAYLIGHT
BEGIN:STANDARD
TZOFFSETFROM:-0400
TZOFFSETTO:-0500
TZNAME:EST
DTSTART:20281105T060000
END:STANDARD
BEGIN:DAYLIGHT
TZOFFSETFROM:-0500
TZOFFSETTO:-0400
TZNAME:EDT
DTSTART:20290311T070000
END:DAYLIGHT
BEGIN:STANDARD
TZOFFSETFROM:-0400
TZOFFSETTO:-0500
TZNAME:EST
DTSTART:20291104T060000
END:STANDARD
BEGIN:DAYLIGHT
TZOFFSETFROM:-0500
TZOFFSETTO:-0400
TZNAME:EDT
DTSTART:20300310T070000
END:DAYLIGHT
BEGIN:STANDARD
TZOFFSETFROM:-0400
TZOFFSETTO:-0500
TZNAME:EST
DTSTART:20301103T060000
END:STANDARD
BEGIN:DAYLIGHT
TZOFFSETFROM:-0500
TZOFFSETTO:-0400
TZNAME:EDT
DTSTART:20310309T070000
END:DAYLIGHT
BEGIN:STANDARD
TZOFFSETFROM:-0400
TZOFFSETTO:-0500
TZNAME:EST
DTSTART:20311102T060000
END:STANDARD
END:VTIMEZONE
BEGIN:VEVENT
DTSTART;TZID=America/New_York:20260815T120000
DTEND;TZID=America/New_York:20260815T150000
DTSTAMP:20260423T005631
CREATED:20250812T232712Z
LAST-MODIFIED:20251101T182805Z
UID:10003707-1786795200-1786806000@av8maps.com
SUMMARY:Annual Abel Island Fly-in (IA23)
DESCRIPTION:Annual Abel Island Fly-in\, Float-in\, Potluck BBQ! This year we want to make\, what has become one of the Midwest’s most popular fly-in events\, even better. First\, it will be the 25th year\, but this year it will also be your host’s\, Gary and Marcia Fisher\, 50th wedding anniversary. To help us celebrate we are going to make sure that EVERY pilot that flies in will receive one of our very special door prizes. As those that have been here before know\, we give away the good stuff! In the past we have had such prizes as YETI Abel Island personalized mugs\, embroidered Abel Island polo shirts\, Abel Island insulated back packs\, etc. This year we have some really special prizes\, again\, for every pilot that flies in.\nEven though the event is officially from Noon to 3:00\, we encourage pilots to fly in the evening before and/ or stay the evening after to camp under your wing or on our sandy beach with fire pit\, outdoor hot water shower\, and portable restroom. Remember that this is a noon-time potluck BBQ. It is not your usual morning pancake breakfast. We have some excellent chefs as part of our Island Airpark family that come with items such as slow-roasted pork loin\, wood-fired chicken legs\, and many other delicious items to share. Let’s see what you bring to throw on our ready-to-cook grills. Two housekeeping notes: We would love to have more pilots join our airpark family by purchasing a home on the Island. To that end\, there are two homes presently for sale. There will be an open house 1-5 for one of them. Please feel free to check it out. Second\, we do ask that any aerobatic or smoke displays be done over that river rather than the airfield itself.\nPlease pass the word to your pilots friends and we look forward to seeing you.
URL:https://av8maps.com/event/25th-annual-abel-island-fly-in-ia23/2026-08-15/
LOCATION:Abel Island Airport\, 130 Abel Dr\, Guttenberg\, IA 52052
ATTACH;FMTTYPE=image/jpeg:https://av8maps.com/wp-content/uploads/2025/08/Abel-Island-FLy-in-e1755041195226.jpg
GEO:42.8061367;-91.096336
X-APPLE-STRUCTURED-LOCATION;VALUE=URI;X-ADDRESS=Abel Island Airport 130 Abel Dr Guttenberg IA 52052;X-APPLE-RADIUS=500;X-TITLE=130 Abel Dr\, Guttenberg\, IA 52052:geo:-91.096336,42.8061367
END:VEVENT
BEGIN:VEVENT
DTSTART;TZID=America/New_York:20270821T120000
DTEND;TZID=America/New_York:20270821T150000
DTSTAMP:20260423T005631
CREATED:20250812T232712Z
LAST-MODIFIED:20251101T182805Z
UID:10003708-1818849600-1818860400@av8maps.com
SUMMARY:Annual Abel Island Fly-in (IA23)
DESCRIPTION:Annual Abel Island Fly-in\, Float-in\, Potluck BBQ! This year we want to make\, what has become one of the Midwest’s most popular fly-in events\, even better. First\, it will be the 25th year\, but this year it will also be your host’s\, Gary and Marcia Fisher\, 50th wedding anniversary. To help us celebrate we are going to make sure that EVERY pilot that flies in will receive one of our very special door prizes. As those that have been here before know\, we give away the good stuff! In the past we have had such prizes as YETI Abel Island personalized mugs\, embroidered Abel Island polo shirts\, Abel Island insulated back packs\, etc. This year we have some really special prizes\, again\, for every pilot that flies in.\nEven though the event is officially from Noon to 3:00\, we encourage pilots to fly in the evening before and/ or stay the evening after to camp under your wing or on our sandy beach with fire pit\, outdoor hot water shower\, and portable restroom. Remember that this is a noon-time potluck BBQ. It is not your usual morning pancake breakfast. We have some excellent chefs as part of our Island Airpark family that come with items such as slow-roasted pork loin\, wood-fired chicken legs\, and many other delicious items to share. Let’s see what you bring to throw on our ready-to-cook grills. Two housekeeping notes: We would love to have more pilots join our airpark family by purchasing a home on the Island. To that end\, there are two homes presently for sale. There will be an open house 1-5 for one of them. Please feel free to check it out. Second\, we do ask that any aerobatic or smoke displays be done over that river rather than the airfield itself.\nPlease pass the word to your pilots friends and we look forward to seeing you.
URL:https://av8maps.com/event/25th-annual-abel-island-fly-in-ia23/2027-08-21/
LOCATION:Abel Island Airport\, 130 Abel Dr\, Guttenberg\, IA 52052
ATTACH;FMTTYPE=image/jpeg:https://av8maps.com/wp-content/uploads/2025/08/Abel-Island-FLy-in-e1755041195226.jpg
GEO:42.8061367;-91.096336
X-APPLE-STRUCTURED-LOCATION;VALUE=URI;X-ADDRESS=Abel Island Airport 130 Abel Dr Guttenberg IA 52052;X-APPLE-RADIUS=500;X-TITLE=130 Abel Dr\, Guttenberg\, IA 52052:geo:-91.096336,42.8061367
END:VEVENT
BEGIN:VEVENT
DTSTART;TZID=America/New_York:20280819T120000
DTEND;TZID=America/New_York:20280819T150000
DTSTAMP:20260423T005631
CREATED:20250812T232712Z
LAST-MODIFIED:20251101T182805Z
UID:10003709-1850299200-1850310000@av8maps.com
SUMMARY:Annual Abel Island Fly-in (IA23)
DESCRIPTION:Annual Abel Island Fly-in\, Float-in\, Potluck BBQ! This year we want to make\, what has become one of the Midwest’s most popular fly-in events\, even better. First\, it will be the 25th year\, but this year it will also be your host’s\, Gary and Marcia Fisher\, 50th wedding anniversary. To help us celebrate we are going to make sure that EVERY pilot that flies in will receive one of our very special door prizes. As those that have been here before know\, we give away the good stuff! In the past we have had such prizes as YETI Abel Island personalized mugs\, embroidered Abel Island polo shirts\, Abel Island insulated back packs\, etc. This year we have some really special prizes\, again\, for every pilot that flies in.\nEven though the event is officially from Noon to 3:00\, we encourage pilots to fly in the evening before and/ or stay the evening after to camp under your wing or on our sandy beach with fire pit\, outdoor hot water shower\, and portable restroom. Remember that this is a noon-time potluck BBQ. It is not your usual morning pancake breakfast. We have some excellent chefs as part of our Island Airpark family that come with items such as slow-roasted pork loin\, wood-fired chicken legs\, and many other delicious items to share. Let’s see what you bring to throw on our ready-to-cook grills. Two housekeeping notes: We would love to have more pilots join our airpark family by purchasing a home on the Island. To that end\, there are two homes presently for sale. There will be an open house 1-5 for one of them. Please feel free to check it out. Second\, we do ask that any aerobatic or smoke displays be done over that river rather than the airfield itself.\nPlease pass the word to your pilots friends and we look forward to seeing you.
URL:https://av8maps.com/event/25th-annual-abel-island-fly-in-ia23/2028-08-19/
LOCATION:Abel Island Airport\, 130 Abel Dr\, Guttenberg\, IA 52052
ATTACH;FMTTYPE=image/jpeg:https://av8maps.com/wp-content/uploads/2025/08/Abel-Island-FLy-in-e1755041195226.jpg
GEO:42.8061367;-91.096336
X-APPLE-STRUCTURED-LOCATION;VALUE=URI;X-ADDRESS=Abel Island Airport 130 Abel Dr Guttenberg IA 52052;X-APPLE-RADIUS=500;X-TITLE=130 Abel Dr\, Guttenberg\, IA 52052:geo:-91.096336,42.8061367
END:VEVENT
BEGIN:VEVENT
DTSTART;TZID=America/New_York:20290818T120000
DTEND;TZID=America/New_York:20290818T150000
DTSTAMP:20260423T005631
CREATED:20250812T232712Z
LAST-MODIFIED:20251101T182805Z
UID:10003710-1881748800-1881759600@av8maps.com
SUMMARY:Annual Abel Island Fly-in (IA23)
DESCRIPTION:Annual Abel Island Fly-in\, Float-in\, Potluck BBQ! This year we want to make\, what has become one of the Midwest’s most popular fly-in events\, even better. First\, it will be the 25th year\, but this year it will also be your host’s\, Gary and Marcia Fisher\, 50th wedding anniversary. To help us celebrate we are going to make sure that EVERY pilot that flies in will receive one of our very special door prizes. As those that have been here before know\, we give away the good stuff! In the past we have had such prizes as YETI Abel Island personalized mugs\, embroidered Abel Island polo shirts\, Abel Island insulated back packs\, etc. This year we have some really special prizes\, again\, for every pilot that flies in.\nEven though the event is officially from Noon to 3:00\, we encourage pilots to fly in the evening before and/ or stay the evening after to camp under your wing or on our sandy beach with fire pit\, outdoor hot water shower\, and portable restroom. Remember that this is a noon-time potluck BBQ. It is not your usual morning pancake breakfast. We have some excellent chefs as part of our Island Airpark family that come with items such as slow-roasted pork loin\, wood-fired chicken legs\, and many other delicious items to share. Let’s see what you bring to throw on our ready-to-cook grills. Two housekeeping notes: We would love to have more pilots join our airpark family by purchasing a home on the Island. To that end\, there are two homes presently for sale. There will be an open house 1-5 for one of them. Please feel free to check it out. Second\, we do ask that any aerobatic or smoke displays be done over that river rather than the airfield itself.\nPlease pass the word to your pilots friends and we look forward to seeing you.
URL:https://av8maps.com/event/25th-annual-abel-island-fly-in-ia23/2029-08-18/
LOCATION:Abel Island Airport\, 130 Abel Dr\, Guttenberg\, IA 52052
ATTACH;FMTTYPE=image/jpeg:https://av8maps.com/wp-content/uploads/2025/08/Abel-Island-FLy-in-e1755041195226.jpg
GEO:42.8061367;-91.096336
X-APPLE-STRUCTURED-LOCATION;VALUE=URI;X-ADDRESS=Abel Island Airport 130 Abel Dr Guttenberg IA 52052;X-APPLE-RADIUS=500;X-TITLE=130 Abel Dr\, Guttenberg\, IA 52052:geo:-91.096336,42.8061367
END:VEVENT
BEGIN:VEVENT
DTSTART;TZID=America/New_York:20300817T120000
DTEND;TZID=America/New_York:20300817T150000
DTSTAMP:20260423T005631
CREATED:20250812T232712Z
LAST-MODIFIED:20251101T182805Z
UID:10003711-1913198400-1913209200@av8maps.com
SUMMARY:Annual Abel Island Fly-in (IA23)
DESCRIPTION:Annual Abel Island Fly-in\, Float-in\, Potluck BBQ! This year we want to make\, what has become one of the Midwest’s most popular fly-in events\, even better. First\, it will be the 25th year\, but this year it will also be your host’s\, Gary and Marcia Fisher\, 50th wedding anniversary. To help us celebrate we are going to make sure that EVERY pilot that flies in will receive one of our very special door prizes. As those that have been here before know\, we give away the good stuff! In the past we have had such prizes as YETI Abel Island personalized mugs\, embroidered Abel Island polo shirts\, Abel Island insulated back packs\, etc. This year we have some really special prizes\, again\, for every pilot that flies in.\nEven though the event is officially from Noon to 3:00\, we encourage pilots to fly in the evening before and/ or stay the evening after to camp under your wing or on our sandy beach with fire pit\, outdoor hot water shower\, and portable restroom. Remember that this is a noon-time potluck BBQ. It is not your usual morning pancake breakfast. We have some excellent chefs as part of our Island Airpark family that come with items such as slow-roasted pork loin\, wood-fired chicken legs\, and many other delicious items to share. Let’s see what you bring to throw on our ready-to-cook grills. Two housekeeping notes: We would love to have more pilots join our airpark family by purchasing a home on the Island. To that end\, there are two homes presently for sale. There will be an open house 1-5 for one of them. Please feel free to check it out. Second\, we do ask that any aerobatic or smoke displays be done over that river rather than the airfield itself.\nPlease pass the word to your pilots friends and we look forward to seeing you.
URL:https://av8maps.com/event/25th-annual-abel-island-fly-in-ia23/2030-08-17/
LOCATION:Abel Island Airport\, 130 Abel Dr\, Guttenberg\, IA 52052
ATTACH;FMTTYPE=image/jpeg:https://av8maps.com/wp-content/uploads/2025/08/Abel-Island-FLy-in-e1755041195226.jpg
GEO:42.8061367;-91.096336
X-APPLE-STRUCTURED-LOCATION;VALUE=URI;X-ADDRESS=Abel Island Airport 130 Abel Dr Guttenberg IA 52052;X-APPLE-RADIUS=500;X-TITLE=130 Abel Dr\, Guttenberg\, IA 52052:geo:-91.096336,42.8061367
END:VEVENT
END:VCALENDAR