BEGIN:VCALENDAR
VERSION:2.0
PRODID:-//AV8MAPS.COM - ECPv6.15.20//NONSGML v1.0//EN
CALSCALE:GREGORIAN
METHOD:PUBLISH
X-WR-CALNAME:AV8MAPS.COM
X-ORIGINAL-URL:https://av8maps.com
X-WR-CALDESC:Events for AV8MAPS.COM
REFRESH-INTERVAL;VALUE=DURATION:PT1H
X-Robots-Tag:noindex
X-PUBLISHED-TTL:PT1H
BEGIN:VTIMEZONE
TZID:America/New_York
BEGIN:DAYLIGHT
TZOFFSETFROM:-0500
TZOFFSETTO:-0400
TZNAME:EDT
DTSTART:20250309T070000
END:DAYLIGHT
BEGIN:STANDARD
TZOFFSETFROM:-0400
TZOFFSETTO:-0500
TZNAME:EST
DTSTART:20251102T060000
END:STANDARD
BEGIN:DAYLIGHT
TZOFFSETFROM:-0500
TZOFFSETTO:-0400
TZNAME:EDT
DTSTART:20260308T070000
END:DAYLIGHT
BEGIN:STANDARD
TZOFFSETFROM:-0400
TZOFFSETTO:-0500
TZNAME:EST
DTSTART:20261101T060000
END:STANDARD
BEGIN:DAYLIGHT
TZOFFSETFROM:-0500
TZOFFSETTO:-0400
TZNAME:EDT
DTSTART:20270314T070000
END:DAYLIGHT
BEGIN:STANDARD
TZOFFSETFROM:-0400
TZOFFSETTO:-0500
TZNAME:EST
DTSTART:20271107T060000
END:STANDARD
BEGIN:DAYLIGHT
TZOFFSETFROM:-0500
TZOFFSETTO:-0400
TZNAME:EDT
DTSTART:20280312T070000
END:DAYLIGHT
BEGIN:STANDARD
TZOFFSETFROM:-0400
TZOFFSETTO:-0500
TZNAME:EST
DTSTART:20281105T060000
END:STANDARD
BEGIN:DAYLIGHT
TZOFFSETFROM:-0500
TZOFFSETTO:-0400
TZNAME:EDT
DTSTART:20290311T070000
END:DAYLIGHT
BEGIN:STANDARD
TZOFFSETFROM:-0400
TZOFFSETTO:-0500
TZNAME:EST
DTSTART:20291104T060000
END:STANDARD
BEGIN:DAYLIGHT
TZOFFSETFROM:-0500
TZOFFSETTO:-0400
TZNAME:EDT
DTSTART:20300310T070000
END:DAYLIGHT
BEGIN:STANDARD
TZOFFSETFROM:-0400
TZOFFSETTO:-0500
TZNAME:EST
DTSTART:20301103T060000
END:STANDARD
BEGIN:DAYLIGHT
TZOFFSETFROM:-0500
TZOFFSETTO:-0400
TZNAME:EDT
DTSTART:20310309T070000
END:DAYLIGHT
BEGIN:STANDARD
TZOFFSETFROM:-0400
TZOFFSETTO:-0500
TZNAME:EST
DTSTART:20311102T060000
END:STANDARD
END:VTIMEZONE
BEGIN:VEVENT
DTSTART;TZID=America/New_York:20260910T150000
DTEND;TZID=America/New_York:20260913T210000
DTSTAMP:20260423T005632
CREATED:20250813T233304Z
LAST-MODIFIED:20251101T182903Z
UID:10003712-1789052400-1789333200@av8maps.com
SUMMARY:Annual Black Hills Fly-in (KSPF)
DESCRIPTION:Event Details coming soon.
URL:https://av8maps.com/event/11th-annual-black-hills-fly-in-kspf/2026-09-10/
LOCATION:Black Hills Airport\, 300 Aviation Pl\, Spearfish\, SD 57783
ATTACH;FMTTYPE=image/jpeg:https://av8maps.com/wp-content/uploads/2025/08/Black-Hills-FLy-in-e1755127963373.jpg
GEO:44.4831447;-103.7838989
X-APPLE-STRUCTURED-LOCATION;VALUE=URI;X-ADDRESS=Black Hills Airport 300 Aviation Pl Spearfish SD 57783;X-APPLE-RADIUS=500;X-TITLE=300 Aviation Pl\, Spearfish\, SD 57783:geo:-103.7838989,44.4831447
END:VEVENT
BEGIN:VEVENT
DTSTART;TZID=America/New_York:20270909T150000
DTEND;TZID=America/New_York:20270912T210000
DTSTAMP:20260423T005632
CREATED:20250813T233304Z
LAST-MODIFIED:20251101T182903Z
UID:10003713-1820502000-1820782800@av8maps.com
SUMMARY:Annual Black Hills Fly-in (KSPF)
DESCRIPTION:Event Details coming soon.
URL:https://av8maps.com/event/11th-annual-black-hills-fly-in-kspf/2027-09-09/
LOCATION:Black Hills Airport\, 300 Aviation Pl\, Spearfish\, SD 57783
ATTACH;FMTTYPE=image/jpeg:https://av8maps.com/wp-content/uploads/2025/08/Black-Hills-FLy-in-e1755127963373.jpg
GEO:44.4831447;-103.7838989
X-APPLE-STRUCTURED-LOCATION;VALUE=URI;X-ADDRESS=Black Hills Airport 300 Aviation Pl Spearfish SD 57783;X-APPLE-RADIUS=500;X-TITLE=300 Aviation Pl\, Spearfish\, SD 57783:geo:-103.7838989,44.4831447
END:VEVENT
BEGIN:VEVENT
DTSTART;TZID=America/New_York:20280914T150000
DTEND;TZID=America/New_York:20280917T210000
DTSTAMP:20260423T005632
CREATED:20250813T233304Z
LAST-MODIFIED:20251101T182903Z
UID:10003714-1852556400-1852837200@av8maps.com
SUMMARY:Annual Black Hills Fly-in (KSPF)
DESCRIPTION:Event Details coming soon.
URL:https://av8maps.com/event/11th-annual-black-hills-fly-in-kspf/2028-09-14/
LOCATION:Black Hills Airport\, 300 Aviation Pl\, Spearfish\, SD 57783
ATTACH;FMTTYPE=image/jpeg:https://av8maps.com/wp-content/uploads/2025/08/Black-Hills-FLy-in-e1755127963373.jpg
GEO:44.4831447;-103.7838989
X-APPLE-STRUCTURED-LOCATION;VALUE=URI;X-ADDRESS=Black Hills Airport 300 Aviation Pl Spearfish SD 57783;X-APPLE-RADIUS=500;X-TITLE=300 Aviation Pl\, Spearfish\, SD 57783:geo:-103.7838989,44.4831447
END:VEVENT
BEGIN:VEVENT
DTSTART;TZID=America/New_York:20290913T150000
DTEND;TZID=America/New_York:20290916T210000
DTSTAMP:20260423T005632
CREATED:20250813T233304Z
LAST-MODIFIED:20251101T182903Z
UID:10003715-1884006000-1884286800@av8maps.com
SUMMARY:Annual Black Hills Fly-in (KSPF)
DESCRIPTION:Event Details coming soon.
URL:https://av8maps.com/event/11th-annual-black-hills-fly-in-kspf/2029-09-13/
LOCATION:Black Hills Airport\, 300 Aviation Pl\, Spearfish\, SD 57783
ATTACH;FMTTYPE=image/jpeg:https://av8maps.com/wp-content/uploads/2025/08/Black-Hills-FLy-in-e1755127963373.jpg
GEO:44.4831447;-103.7838989
X-APPLE-STRUCTURED-LOCATION;VALUE=URI;X-ADDRESS=Black Hills Airport 300 Aviation Pl Spearfish SD 57783;X-APPLE-RADIUS=500;X-TITLE=300 Aviation Pl\, Spearfish\, SD 57783:geo:-103.7838989,44.4831447
END:VEVENT
BEGIN:VEVENT
DTSTART;TZID=America/New_York:20300912T150000
DTEND;TZID=America/New_York:20300915T210000
DTSTAMP:20260423T005632
CREATED:20250813T233304Z
LAST-MODIFIED:20251101T182903Z
UID:10003716-1915455600-1915736400@av8maps.com
SUMMARY:Annual Black Hills Fly-in (KSPF)
DESCRIPTION:Event Details coming soon.
URL:https://av8maps.com/event/11th-annual-black-hills-fly-in-kspf/2030-09-12/
LOCATION:Black Hills Airport\, 300 Aviation Pl\, Spearfish\, SD 57783
ATTACH;FMTTYPE=image/jpeg:https://av8maps.com/wp-content/uploads/2025/08/Black-Hills-FLy-in-e1755127963373.jpg
GEO:44.4831447;-103.7838989
X-APPLE-STRUCTURED-LOCATION;VALUE=URI;X-ADDRESS=Black Hills Airport 300 Aviation Pl Spearfish SD 57783;X-APPLE-RADIUS=500;X-TITLE=300 Aviation Pl\, Spearfish\, SD 57783:geo:-103.7838989,44.4831447
END:VEVENT
END:VCALENDAR