BEGIN:VCALENDAR
VERSION:2.0
PRODID:-//AV8MAPS.COM - ECPv6.15.20//NONSGML v1.0//EN
CALSCALE:GREGORIAN
METHOD:PUBLISH
X-WR-CALNAME:AV8MAPS.COM
X-ORIGINAL-URL:https://av8maps.com
X-WR-CALDESC:Events for AV8MAPS.COM
REFRESH-INTERVAL;VALUE=DURATION:PT1H
X-Robots-Tag:noindex
X-PUBLISHED-TTL:PT1H
BEGIN:VTIMEZONE
TZID:America/New_York
BEGIN:DAYLIGHT
TZOFFSETFROM:-0500
TZOFFSETTO:-0400
TZNAME:EDT
DTSTART:20250309T070000
END:DAYLIGHT
BEGIN:STANDARD
TZOFFSETFROM:-0400
TZOFFSETTO:-0500
TZNAME:EST
DTSTART:20251102T060000
END:STANDARD
BEGIN:DAYLIGHT
TZOFFSETFROM:-0500
TZOFFSETTO:-0400
TZNAME:EDT
DTSTART:20260308T070000
END:DAYLIGHT
BEGIN:STANDARD
TZOFFSETFROM:-0400
TZOFFSETTO:-0500
TZNAME:EST
DTSTART:20261101T060000
END:STANDARD
BEGIN:DAYLIGHT
TZOFFSETFROM:-0500
TZOFFSETTO:-0400
TZNAME:EDT
DTSTART:20270314T070000
END:DAYLIGHT
BEGIN:STANDARD
TZOFFSETFROM:-0400
TZOFFSETTO:-0500
TZNAME:EST
DTSTART:20271107T060000
END:STANDARD
BEGIN:DAYLIGHT
TZOFFSETFROM:-0500
TZOFFSETTO:-0400
TZNAME:EDT
DTSTART:20280312T070000
END:DAYLIGHT
BEGIN:STANDARD
TZOFFSETFROM:-0400
TZOFFSETTO:-0500
TZNAME:EST
DTSTART:20281105T060000
END:STANDARD
BEGIN:DAYLIGHT
TZOFFSETFROM:-0500
TZOFFSETTO:-0400
TZNAME:EDT
DTSTART:20290311T070000
END:DAYLIGHT
BEGIN:STANDARD
TZOFFSETFROM:-0400
TZOFFSETTO:-0500
TZNAME:EST
DTSTART:20291104T060000
END:STANDARD
BEGIN:DAYLIGHT
TZOFFSETFROM:-0500
TZOFFSETTO:-0400
TZNAME:EDT
DTSTART:20300310T070000
END:DAYLIGHT
BEGIN:STANDARD
TZOFFSETFROM:-0400
TZOFFSETTO:-0500
TZNAME:EST
DTSTART:20301103T060000
END:STANDARD
BEGIN:DAYLIGHT
TZOFFSETFROM:-0500
TZOFFSETTO:-0400
TZNAME:EDT
DTSTART:20310309T070000
END:DAYLIGHT
BEGIN:STANDARD
TZOFFSETFROM:-0400
TZOFFSETTO:-0500
TZNAME:EST
DTSTART:20311102T060000
END:STANDARD
END:VTIMEZONE
BEGIN:VEVENT
DTSTART;TZID=America/New_York:20260912T070000
DTEND;TZID=America/New_York:20260912T170000
DTSTAMP:20260423T063746
CREATED:20250814T005852Z
LAST-MODIFIED:20251101T183109Z
UID:10003722-1789196400-1789232400@av8maps.com
SUMMARY:Annual Fly-in/Car Show (KSYM)
DESCRIPTION:AIRPLANE & CAR SHOW – FLY IN OR DRIVE IN! \nKSYM – Morehead\, KY • Saturday\, Sept 13 • Planes\, Cars & Community\n\n\nHuey helicopter rides\, hot air balloon static rides\, skydiving\, inflatables for the kids\, and LIVE BANDS all day!\nSee incredible aircraft and stunning cars\, enjoy a pancake breakfast\, food trucks\, vendor row\, fly-bys\, and pilot competitions.\n\n\n Flying in Friday night? Airplane camping available – park and camp under your wingtip beneath the stars! Enjoy Friday evening BBQ\, bonfire\, and live acoustic music\, then stay for Saturday’s big event and Sunday pilot breakfast.\n\n\n Morehead-Rowan County Regional Airport (KSYM)\n Info: holleyaviation@windstream.net | (606) 776-6211
URL:https://av8maps.com/event/1st-annual-fly-in-car-show-ksym/2026-09-12/
LOCATION:Morehead-Rowan County Airport\, 1800 Rodney Hitch Blvd\, Morehead\, KY 40351
ATTACH;FMTTYPE=image/jpeg:https://av8maps.com/wp-content/uploads/2025/08/1st-Annual-FLy-in-KSYM-e1755133123793.jpg
GEO:38.2144889;-83.585762
X-APPLE-STRUCTURED-LOCATION;VALUE=URI;X-ADDRESS=Morehead-Rowan County Airport 1800 Rodney Hitch Blvd Morehead KY 40351;X-APPLE-RADIUS=500;X-TITLE=1800 Rodney Hitch Blvd\, Morehead\, KY 40351:geo:-83.585762,38.2144889
END:VEVENT
BEGIN:VEVENT
DTSTART;TZID=America/New_York:20270911T070000
DTEND;TZID=America/New_York:20270911T170000
DTSTAMP:20260423T063746
CREATED:20250814T005852Z
LAST-MODIFIED:20251101T183109Z
UID:10003723-1820646000-1820682000@av8maps.com
SUMMARY:Annual Fly-in/Car Show (KSYM)
DESCRIPTION:AIRPLANE & CAR SHOW – FLY IN OR DRIVE IN! \nKSYM – Morehead\, KY • Saturday\, Sept 13 • Planes\, Cars & Community\n\n\nHuey helicopter rides\, hot air balloon static rides\, skydiving\, inflatables for the kids\, and LIVE BANDS all day!\nSee incredible aircraft and stunning cars\, enjoy a pancake breakfast\, food trucks\, vendor row\, fly-bys\, and pilot competitions.\n\n\n Flying in Friday night? Airplane camping available – park and camp under your wingtip beneath the stars! Enjoy Friday evening BBQ\, bonfire\, and live acoustic music\, then stay for Saturday’s big event and Sunday pilot breakfast.\n\n\n Morehead-Rowan County Regional Airport (KSYM)\n Info: holleyaviation@windstream.net | (606) 776-6211
URL:https://av8maps.com/event/1st-annual-fly-in-car-show-ksym/2027-09-11/
LOCATION:Morehead-Rowan County Airport\, 1800 Rodney Hitch Blvd\, Morehead\, KY 40351
ATTACH;FMTTYPE=image/jpeg:https://av8maps.com/wp-content/uploads/2025/08/1st-Annual-FLy-in-KSYM-e1755133123793.jpg
GEO:38.2144889;-83.585762
X-APPLE-STRUCTURED-LOCATION;VALUE=URI;X-ADDRESS=Morehead-Rowan County Airport 1800 Rodney Hitch Blvd Morehead KY 40351;X-APPLE-RADIUS=500;X-TITLE=1800 Rodney Hitch Blvd\, Morehead\, KY 40351:geo:-83.585762,38.2144889
END:VEVENT
BEGIN:VEVENT
DTSTART;TZID=America/New_York:20280909T070000
DTEND;TZID=America/New_York:20280909T170000
DTSTAMP:20260423T063746
CREATED:20250814T005852Z
LAST-MODIFIED:20251101T183109Z
UID:10003724-1852095600-1852131600@av8maps.com
SUMMARY:Annual Fly-in/Car Show (KSYM)
DESCRIPTION:AIRPLANE & CAR SHOW – FLY IN OR DRIVE IN! \nKSYM – Morehead\, KY • Saturday\, Sept 13 • Planes\, Cars & Community\n\n\nHuey helicopter rides\, hot air balloon static rides\, skydiving\, inflatables for the kids\, and LIVE BANDS all day!\nSee incredible aircraft and stunning cars\, enjoy a pancake breakfast\, food trucks\, vendor row\, fly-bys\, and pilot competitions.\n\n\n Flying in Friday night? Airplane camping available – park and camp under your wingtip beneath the stars! Enjoy Friday evening BBQ\, bonfire\, and live acoustic music\, then stay for Saturday’s big event and Sunday pilot breakfast.\n\n\n Morehead-Rowan County Regional Airport (KSYM)\n Info: holleyaviation@windstream.net | (606) 776-6211
URL:https://av8maps.com/event/1st-annual-fly-in-car-show-ksym/2028-09-09/
LOCATION:Morehead-Rowan County Airport\, 1800 Rodney Hitch Blvd\, Morehead\, KY 40351
ATTACH;FMTTYPE=image/jpeg:https://av8maps.com/wp-content/uploads/2025/08/1st-Annual-FLy-in-KSYM-e1755133123793.jpg
GEO:38.2144889;-83.585762
X-APPLE-STRUCTURED-LOCATION;VALUE=URI;X-ADDRESS=Morehead-Rowan County Airport 1800 Rodney Hitch Blvd Morehead KY 40351;X-APPLE-RADIUS=500;X-TITLE=1800 Rodney Hitch Blvd\, Morehead\, KY 40351:geo:-83.585762,38.2144889
END:VEVENT
BEGIN:VEVENT
DTSTART;TZID=America/New_York:20290908T070000
DTEND;TZID=America/New_York:20290908T170000
DTSTAMP:20260423T063746
CREATED:20250814T005852Z
LAST-MODIFIED:20251101T183109Z
UID:10003725-1883545200-1883581200@av8maps.com
SUMMARY:Annual Fly-in/Car Show (KSYM)
DESCRIPTION:AIRPLANE & CAR SHOW – FLY IN OR DRIVE IN! \nKSYM – Morehead\, KY • Saturday\, Sept 13 • Planes\, Cars & Community\n\n\nHuey helicopter rides\, hot air balloon static rides\, skydiving\, inflatables for the kids\, and LIVE BANDS all day!\nSee incredible aircraft and stunning cars\, enjoy a pancake breakfast\, food trucks\, vendor row\, fly-bys\, and pilot competitions.\n\n\n Flying in Friday night? Airplane camping available – park and camp under your wingtip beneath the stars! Enjoy Friday evening BBQ\, bonfire\, and live acoustic music\, then stay for Saturday’s big event and Sunday pilot breakfast.\n\n\n Morehead-Rowan County Regional Airport (KSYM)\n Info: holleyaviation@windstream.net | (606) 776-6211
URL:https://av8maps.com/event/1st-annual-fly-in-car-show-ksym/2029-09-08/
LOCATION:Morehead-Rowan County Airport\, 1800 Rodney Hitch Blvd\, Morehead\, KY 40351
ATTACH;FMTTYPE=image/jpeg:https://av8maps.com/wp-content/uploads/2025/08/1st-Annual-FLy-in-KSYM-e1755133123793.jpg
GEO:38.2144889;-83.585762
X-APPLE-STRUCTURED-LOCATION;VALUE=URI;X-ADDRESS=Morehead-Rowan County Airport 1800 Rodney Hitch Blvd Morehead KY 40351;X-APPLE-RADIUS=500;X-TITLE=1800 Rodney Hitch Blvd\, Morehead\, KY 40351:geo:-83.585762,38.2144889
END:VEVENT
BEGIN:VEVENT
DTSTART;TZID=America/New_York:20300914T070000
DTEND;TZID=America/New_York:20300914T170000
DTSTAMP:20260423T063746
CREATED:20250814T005852Z
LAST-MODIFIED:20251101T183109Z
UID:10003726-1915599600-1915635600@av8maps.com
SUMMARY:Annual Fly-in/Car Show (KSYM)
DESCRIPTION:AIRPLANE & CAR SHOW – FLY IN OR DRIVE IN! \nKSYM – Morehead\, KY • Saturday\, Sept 13 • Planes\, Cars & Community\n\n\nHuey helicopter rides\, hot air balloon static rides\, skydiving\, inflatables for the kids\, and LIVE BANDS all day!\nSee incredible aircraft and stunning cars\, enjoy a pancake breakfast\, food trucks\, vendor row\, fly-bys\, and pilot competitions.\n\n\n Flying in Friday night? Airplane camping available – park and camp under your wingtip beneath the stars! Enjoy Friday evening BBQ\, bonfire\, and live acoustic music\, then stay for Saturday’s big event and Sunday pilot breakfast.\n\n\n Morehead-Rowan County Regional Airport (KSYM)\n Info: holleyaviation@windstream.net | (606) 776-6211
URL:https://av8maps.com/event/1st-annual-fly-in-car-show-ksym/2030-09-14/
LOCATION:Morehead-Rowan County Airport\, 1800 Rodney Hitch Blvd\, Morehead\, KY 40351
ATTACH;FMTTYPE=image/jpeg:https://av8maps.com/wp-content/uploads/2025/08/1st-Annual-FLy-in-KSYM-e1755133123793.jpg
GEO:38.2144889;-83.585762
X-APPLE-STRUCTURED-LOCATION;VALUE=URI;X-ADDRESS=Morehead-Rowan County Airport 1800 Rodney Hitch Blvd Morehead KY 40351;X-APPLE-RADIUS=500;X-TITLE=1800 Rodney Hitch Blvd\, Morehead\, KY 40351:geo:-83.585762,38.2144889
END:VEVENT
END:VCALENDAR