BEGIN:VCALENDAR
VERSION:2.0
PRODID:-//AV8MAPS.COM - ECPv6.15.20//NONSGML v1.0//EN
CALSCALE:GREGORIAN
METHOD:PUBLISH
X-WR-CALNAME:AV8MAPS.COM
X-ORIGINAL-URL:https://av8maps.com
X-WR-CALDESC:Events for AV8MAPS.COM
REFRESH-INTERVAL;VALUE=DURATION:PT1H
X-Robots-Tag:noindex
X-PUBLISHED-TTL:PT1H
BEGIN:VTIMEZONE
TZID:America/New_York
BEGIN:DAYLIGHT
TZOFFSETFROM:-0500
TZOFFSETTO:-0400
TZNAME:EDT
DTSTART:20250309T070000
END:DAYLIGHT
BEGIN:STANDARD
TZOFFSETFROM:-0400
TZOFFSETTO:-0500
TZNAME:EST
DTSTART:20251102T060000
END:STANDARD
BEGIN:DAYLIGHT
TZOFFSETFROM:-0500
TZOFFSETTO:-0400
TZNAME:EDT
DTSTART:20260308T070000
END:DAYLIGHT
BEGIN:STANDARD
TZOFFSETFROM:-0400
TZOFFSETTO:-0500
TZNAME:EST
DTSTART:20261101T060000
END:STANDARD
BEGIN:DAYLIGHT
TZOFFSETFROM:-0500
TZOFFSETTO:-0400
TZNAME:EDT
DTSTART:20270314T070000
END:DAYLIGHT
BEGIN:STANDARD
TZOFFSETFROM:-0400
TZOFFSETTO:-0500
TZNAME:EST
DTSTART:20271107T060000
END:STANDARD
BEGIN:DAYLIGHT
TZOFFSETFROM:-0500
TZOFFSETTO:-0400
TZNAME:EDT
DTSTART:20280312T070000
END:DAYLIGHT
BEGIN:STANDARD
TZOFFSETFROM:-0400
TZOFFSETTO:-0500
TZNAME:EST
DTSTART:20281105T060000
END:STANDARD
BEGIN:DAYLIGHT
TZOFFSETFROM:-0500
TZOFFSETTO:-0400
TZNAME:EDT
DTSTART:20290311T070000
END:DAYLIGHT
BEGIN:STANDARD
TZOFFSETFROM:-0400
TZOFFSETTO:-0500
TZNAME:EST
DTSTART:20291104T060000
END:STANDARD
BEGIN:DAYLIGHT
TZOFFSETFROM:-0500
TZOFFSETTO:-0400
TZNAME:EDT
DTSTART:20300310T070000
END:DAYLIGHT
BEGIN:STANDARD
TZOFFSETFROM:-0400
TZOFFSETTO:-0500
TZNAME:EST
DTSTART:20301103T060000
END:STANDARD
BEGIN:DAYLIGHT
TZOFFSETFROM:-0500
TZOFFSETTO:-0400
TZNAME:EDT
DTSTART:20310309T070000
END:DAYLIGHT
BEGIN:STANDARD
TZOFFSETFROM:-0400
TZOFFSETTO:-0500
TZNAME:EST
DTSTART:20311102T060000
END:STANDARD
END:VTIMEZONE
BEGIN:VEVENT
DTSTART;TZID=America/New_York:20260926T090000
DTEND;TZID=America/New_York:20260926T150000
DTSTAMP:20260425T130447
CREATED:20250814T215905Z
LAST-MODIFIED:20251101T183142Z
UID:10003727-1790413200-1790434800@av8maps.com
SUMMARY:Fly-in & Car Show (0TX1)
DESCRIPTION:More info to come.
URL:https://av8maps.com/event/fly-in-car-show-0tx1/2026-09-26/
LOCATION:Pecan Plantation Airpark\, 9600 Air Park Dr\, Granbury\, TX 76049
ATTACH;FMTTYPE=image/jpeg:https://av8maps.com/wp-content/uploads/2025/08/Pecan-Plantation-Airpark-e1755208721313.jpg
GEO:32.3575094;-97.6724027
X-APPLE-STRUCTURED-LOCATION;VALUE=URI;X-ADDRESS=Pecan Plantation Airpark 9600 Air Park Dr Granbury TX 76049;X-APPLE-RADIUS=500;X-TITLE=9600 Air Park Dr\, Granbury\, TX 76049:geo:-97.6724027,32.3575094
END:VEVENT
BEGIN:VEVENT
DTSTART;TZID=America/New_York:20270925T090000
DTEND;TZID=America/New_York:20270925T150000
DTSTAMP:20260425T130447
CREATED:20250814T215905Z
LAST-MODIFIED:20251101T183142Z
UID:10003728-1821862800-1821884400@av8maps.com
SUMMARY:Fly-in & Car Show (0TX1)
DESCRIPTION:More info to come.
URL:https://av8maps.com/event/fly-in-car-show-0tx1/2027-09-25/
LOCATION:Pecan Plantation Airpark\, 9600 Air Park Dr\, Granbury\, TX 76049
ATTACH;FMTTYPE=image/jpeg:https://av8maps.com/wp-content/uploads/2025/08/Pecan-Plantation-Airpark-e1755208721313.jpg
GEO:32.3575094;-97.6724027
X-APPLE-STRUCTURED-LOCATION;VALUE=URI;X-ADDRESS=Pecan Plantation Airpark 9600 Air Park Dr Granbury TX 76049;X-APPLE-RADIUS=500;X-TITLE=9600 Air Park Dr\, Granbury\, TX 76049:geo:-97.6724027,32.3575094
END:VEVENT
BEGIN:VEVENT
DTSTART;TZID=America/New_York:20280923T090000
DTEND;TZID=America/New_York:20280923T150000
DTSTAMP:20260425T130447
CREATED:20250814T215905Z
LAST-MODIFIED:20251101T183142Z
UID:10003729-1853312400-1853334000@av8maps.com
SUMMARY:Fly-in & Car Show (0TX1)
DESCRIPTION:More info to come.
URL:https://av8maps.com/event/fly-in-car-show-0tx1/2028-09-23/
LOCATION:Pecan Plantation Airpark\, 9600 Air Park Dr\, Granbury\, TX 76049
ATTACH;FMTTYPE=image/jpeg:https://av8maps.com/wp-content/uploads/2025/08/Pecan-Plantation-Airpark-e1755208721313.jpg
GEO:32.3575094;-97.6724027
X-APPLE-STRUCTURED-LOCATION;VALUE=URI;X-ADDRESS=Pecan Plantation Airpark 9600 Air Park Dr Granbury TX 76049;X-APPLE-RADIUS=500;X-TITLE=9600 Air Park Dr\, Granbury\, TX 76049:geo:-97.6724027,32.3575094
END:VEVENT
BEGIN:VEVENT
DTSTART;TZID=America/New_York:20290922T090000
DTEND;TZID=America/New_York:20290922T150000
DTSTAMP:20260425T130447
CREATED:20250814T215905Z
LAST-MODIFIED:20251101T183142Z
UID:10003730-1884762000-1884783600@av8maps.com
SUMMARY:Fly-in & Car Show (0TX1)
DESCRIPTION:More info to come.
URL:https://av8maps.com/event/fly-in-car-show-0tx1/2029-09-22/
LOCATION:Pecan Plantation Airpark\, 9600 Air Park Dr\, Granbury\, TX 76049
ATTACH;FMTTYPE=image/jpeg:https://av8maps.com/wp-content/uploads/2025/08/Pecan-Plantation-Airpark-e1755208721313.jpg
GEO:32.3575094;-97.6724027
X-APPLE-STRUCTURED-LOCATION;VALUE=URI;X-ADDRESS=Pecan Plantation Airpark 9600 Air Park Dr Granbury TX 76049;X-APPLE-RADIUS=500;X-TITLE=9600 Air Park Dr\, Granbury\, TX 76049:geo:-97.6724027,32.3575094
END:VEVENT
BEGIN:VEVENT
DTSTART;TZID=America/New_York:20300928T090000
DTEND;TZID=America/New_York:20300928T150000
DTSTAMP:20260425T130447
CREATED:20250814T215905Z
LAST-MODIFIED:20251101T183142Z
UID:10003731-1916816400-1916838000@av8maps.com
SUMMARY:Fly-in & Car Show (0TX1)
DESCRIPTION:More info to come.
URL:https://av8maps.com/event/fly-in-car-show-0tx1/2030-09-28/
LOCATION:Pecan Plantation Airpark\, 9600 Air Park Dr\, Granbury\, TX 76049
ATTACH;FMTTYPE=image/jpeg:https://av8maps.com/wp-content/uploads/2025/08/Pecan-Plantation-Airpark-e1755208721313.jpg
GEO:32.3575094;-97.6724027
X-APPLE-STRUCTURED-LOCATION;VALUE=URI;X-ADDRESS=Pecan Plantation Airpark 9600 Air Park Dr Granbury TX 76049;X-APPLE-RADIUS=500;X-TITLE=9600 Air Park Dr\, Granbury\, TX 76049:geo:-97.6724027,32.3575094
END:VEVENT
END:VCALENDAR