BEGIN:VCALENDAR
VERSION:2.0
PRODID:-//AV8MAPS.COM - ECPv6.15.20//NONSGML v1.0//EN
CALSCALE:GREGORIAN
METHOD:PUBLISH
X-WR-CALNAME:AV8MAPS.COM
X-ORIGINAL-URL:https://av8maps.com
X-WR-CALDESC:Events for AV8MAPS.COM
REFRESH-INTERVAL;VALUE=DURATION:PT1H
X-Robots-Tag:noindex
X-PUBLISHED-TTL:PT1H
BEGIN:VTIMEZONE
TZID:America/New_York
BEGIN:DAYLIGHT
TZOFFSETFROM:-0500
TZOFFSETTO:-0400
TZNAME:EDT
DTSTART:20250309T070000
END:DAYLIGHT
BEGIN:STANDARD
TZOFFSETFROM:-0400
TZOFFSETTO:-0500
TZNAME:EST
DTSTART:20251102T060000
END:STANDARD
BEGIN:DAYLIGHT
TZOFFSETFROM:-0500
TZOFFSETTO:-0400
TZNAME:EDT
DTSTART:20260308T070000
END:DAYLIGHT
BEGIN:STANDARD
TZOFFSETFROM:-0400
TZOFFSETTO:-0500
TZNAME:EST
DTSTART:20261101T060000
END:STANDARD
BEGIN:DAYLIGHT
TZOFFSETFROM:-0500
TZOFFSETTO:-0400
TZNAME:EDT
DTSTART:20270314T070000
END:DAYLIGHT
BEGIN:STANDARD
TZOFFSETFROM:-0400
TZOFFSETTO:-0500
TZNAME:EST
DTSTART:20271107T060000
END:STANDARD
BEGIN:DAYLIGHT
TZOFFSETFROM:-0500
TZOFFSETTO:-0400
TZNAME:EDT
DTSTART:20280312T070000
END:DAYLIGHT
BEGIN:STANDARD
TZOFFSETFROM:-0400
TZOFFSETTO:-0500
TZNAME:EST
DTSTART:20281105T060000
END:STANDARD
BEGIN:DAYLIGHT
TZOFFSETFROM:-0500
TZOFFSETTO:-0400
TZNAME:EDT
DTSTART:20290311T070000
END:DAYLIGHT
BEGIN:STANDARD
TZOFFSETFROM:-0400
TZOFFSETTO:-0500
TZNAME:EST
DTSTART:20291104T060000
END:STANDARD
BEGIN:DAYLIGHT
TZOFFSETFROM:-0500
TZOFFSETTO:-0400
TZNAME:EDT
DTSTART:20300310T070000
END:DAYLIGHT
BEGIN:STANDARD
TZOFFSETFROM:-0400
TZOFFSETTO:-0500
TZNAME:EST
DTSTART:20301103T060000
END:STANDARD
BEGIN:DAYLIGHT
TZOFFSETFROM:-0500
TZOFFSETTO:-0400
TZNAME:EDT
DTSTART:20310309T070000
END:DAYLIGHT
BEGIN:STANDARD
TZOFFSETFROM:-0400
TZOFFSETTO:-0500
TZNAME:EST
DTSTART:20311102T060000
END:STANDARD
END:VTIMEZONE
BEGIN:VEVENT
DTSTART;TZID=America/New_York:20260822T080000
DTEND;TZID=America/New_York:20260823T160000
DTSTAMP:20260424T232143
CREATED:20250731T195005Z
LAST-MODIFIED:20251101T183334Z
UID:10003737-1787385600-1787500800@av8maps.com
SUMMARY:Bowman's Annual Fly in (B10)
DESCRIPTION:Bowman’s 39th Annual Fly in\, scheduled for August 23rd and 24th. This year’s event is shaping up to be the biggest and best yet. 😊✈️
URL:https://av8maps.com/event/bowmans-b10-39th-annual-fly-in/2026-08-22/
LOCATION:Bowman’s Field\, 14 Lyman Ln\, Livermore Falls\, ME 04254
ATTACH;FMTTYPE=image/jpeg:https://av8maps.com/wp-content/uploads/2025/07/Bowman-Field-B10-e1755266528319.jpg
GEO:44.4117282;-70.1468595
X-APPLE-STRUCTURED-LOCATION;VALUE=URI;X-ADDRESS=Bowman’s Field 14 Lyman Ln Livermore Falls ME 04254;X-APPLE-RADIUS=500;X-TITLE=14 Lyman Ln\, Livermore Falls\, ME 04254:geo:-70.1468595,44.4117282
END:VEVENT
BEGIN:VEVENT
DTSTART;TZID=America/New_York:20270828T080000
DTEND;TZID=America/New_York:20270829T160000
DTSTAMP:20260424T232143
CREATED:20250731T195005Z
LAST-MODIFIED:20251101T183334Z
UID:10003738-1819440000-1819555200@av8maps.com
SUMMARY:Bowman's Annual Fly in (B10)
DESCRIPTION:Bowman’s 39th Annual Fly in\, scheduled for August 23rd and 24th. This year’s event is shaping up to be the biggest and best yet. 😊✈️
URL:https://av8maps.com/event/bowmans-b10-39th-annual-fly-in/2027-08-28/
LOCATION:Bowman’s Field\, 14 Lyman Ln\, Livermore Falls\, ME 04254
ATTACH;FMTTYPE=image/jpeg:https://av8maps.com/wp-content/uploads/2025/07/Bowman-Field-B10-e1755266528319.jpg
GEO:44.4117282;-70.1468595
X-APPLE-STRUCTURED-LOCATION;VALUE=URI;X-ADDRESS=Bowman’s Field 14 Lyman Ln Livermore Falls ME 04254;X-APPLE-RADIUS=500;X-TITLE=14 Lyman Ln\, Livermore Falls\, ME 04254:geo:-70.1468595,44.4117282
END:VEVENT
BEGIN:VEVENT
DTSTART;TZID=America/New_York:20280826T080000
DTEND;TZID=America/New_York:20280827T160000
DTSTAMP:20260424T232143
CREATED:20250731T195005Z
LAST-MODIFIED:20251101T183334Z
UID:10003739-1850889600-1851004800@av8maps.com
SUMMARY:Bowman's Annual Fly in (B10)
DESCRIPTION:Bowman’s 39th Annual Fly in\, scheduled for August 23rd and 24th. This year’s event is shaping up to be the biggest and best yet. 😊✈️
URL:https://av8maps.com/event/bowmans-b10-39th-annual-fly-in/2028-08-26/
LOCATION:Bowman’s Field\, 14 Lyman Ln\, Livermore Falls\, ME 04254
ATTACH;FMTTYPE=image/jpeg:https://av8maps.com/wp-content/uploads/2025/07/Bowman-Field-B10-e1755266528319.jpg
GEO:44.4117282;-70.1468595
X-APPLE-STRUCTURED-LOCATION;VALUE=URI;X-ADDRESS=Bowman’s Field 14 Lyman Ln Livermore Falls ME 04254;X-APPLE-RADIUS=500;X-TITLE=14 Lyman Ln\, Livermore Falls\, ME 04254:geo:-70.1468595,44.4117282
END:VEVENT
BEGIN:VEVENT
DTSTART;TZID=America/New_York:20290825T080000
DTEND;TZID=America/New_York:20290826T160000
DTSTAMP:20260424T232143
CREATED:20250731T195005Z
LAST-MODIFIED:20251101T183334Z
UID:10003740-1882339200-1882454400@av8maps.com
SUMMARY:Bowman's Annual Fly in (B10)
DESCRIPTION:Bowman’s 39th Annual Fly in\, scheduled for August 23rd and 24th. This year’s event is shaping up to be the biggest and best yet. 😊✈️
URL:https://av8maps.com/event/bowmans-b10-39th-annual-fly-in/2029-08-25/
LOCATION:Bowman’s Field\, 14 Lyman Ln\, Livermore Falls\, ME 04254
ATTACH;FMTTYPE=image/jpeg:https://av8maps.com/wp-content/uploads/2025/07/Bowman-Field-B10-e1755266528319.jpg
GEO:44.4117282;-70.1468595
X-APPLE-STRUCTURED-LOCATION;VALUE=URI;X-ADDRESS=Bowman’s Field 14 Lyman Ln Livermore Falls ME 04254;X-APPLE-RADIUS=500;X-TITLE=14 Lyman Ln\, Livermore Falls\, ME 04254:geo:-70.1468595,44.4117282
END:VEVENT
BEGIN:VEVENT
DTSTART;TZID=America/New_York:20300824T080000
DTEND;TZID=America/New_York:20300825T160000
DTSTAMP:20260424T232143
CREATED:20250731T195005Z
LAST-MODIFIED:20251101T183334Z
UID:10003741-1913788800-1913904000@av8maps.com
SUMMARY:Bowman's Annual Fly in (B10)
DESCRIPTION:Bowman’s 39th Annual Fly in\, scheduled for August 23rd and 24th. This year’s event is shaping up to be the biggest and best yet. 😊✈️
URL:https://av8maps.com/event/bowmans-b10-39th-annual-fly-in/2030-08-24/
LOCATION:Bowman’s Field\, 14 Lyman Ln\, Livermore Falls\, ME 04254
ATTACH;FMTTYPE=image/jpeg:https://av8maps.com/wp-content/uploads/2025/07/Bowman-Field-B10-e1755266528319.jpg
GEO:44.4117282;-70.1468595
X-APPLE-STRUCTURED-LOCATION;VALUE=URI;X-ADDRESS=Bowman’s Field 14 Lyman Ln Livermore Falls ME 04254;X-APPLE-RADIUS=500;X-TITLE=14 Lyman Ln\, Livermore Falls\, ME 04254:geo:-70.1468595,44.4117282
END:VEVENT
END:VCALENDAR